Workbook

Sheet CRONOGRAMA
A1: EDT | B1: Nombre de tarea | C1: % completado | D1: % Planeado | E1: Costo real | F1: Valor planeado: PV (CPTP) | G1: Valor acumulado: VA (CPTR) | H1: VC | I1: %VC | J1: IRC | K1: CPF | L1: CEF | M1: VAF | N1: IRPC | O1: ETC | P1: Costo | Q1: Predecesoras
A2: 1 | B2: Empalme Vial Avenida Mutis - Transversal 112B Bis A (IDU-2412-2024) | C2: 0.74 | D2: 0.85 | E2: 12556140202 | F2: 10793824937 | G2: 10409801282 | H2: -1637757418 | I2: -0.16 | J2: 0.86 | K2: 12334901565 | L2: 14275531937 | M2: -1940630372 | N2: 6.7 | O2: 2227973238 | P2: 14309237080
A3: 1.1 | B3: Fase: Requisitos y Gestion Administrativa | C3: 0.52 | D3: 1 | E3: 928071843 | F3: 807018994 | G3: 470440897 | H3: -121052849 | I3: -0.26 | J3: 0.8 | K3: 807018994 | L3: 1014679402 | M3: -207660408 | N3: 1.56 | O3: 423185656 | P3: 1264649940
A4: 1.1.1 | B4: Inicio | C4: 1 | D4: 1 | E4: 0 | F4: 0 | G4: 0 | H4: 0 | I4: 0 | J4: 0 | K4: 0 | L4: 0 | M4: 0 | N4: 0 | O4: 0 | P4: 0
A5: 1.1.0 | B5: Suscribir el acta de inicio del contrato | C5: 1 | D5: 1 | E5: 10098835 | F5: 8781596 | G5: 8781596 | H5: -1317239 | I5: -0.15 | J5: 0.87 | K5: 8781596 | L5: 10098835 | M5: -1317239 | N5: 0 | O5: 0 | P5: 10098835 | Q5: 3
A6: 1.1.1 | B6: Cuenta de control: Gestion de Predios y Legal | C6: 0.52 | D6: 1 | E6: 464546407 | F6: 403953397 | G6: 210758293 | H6: -60593010 | I6: -0.29 | J6: 0.78 | K6: 403953397 | L6: 520089999 | M6: -116136602 | N6: 1.46 | O6: 248738697 | P6: 657741511
A7: 1.1.1.1 | B7: Titulos de propiedad de predios adquiridos | C7: 0.06 | D7: 1 | E7: 242372039 | F7: 210758295 | G7: 17563191 | H7: -31613744 | I7: -1.8 | J7: 0.36 | K7: 210758295 | L7: 590123231 | M7: -379364936 | N7: 1.2 | O7: 540946296 | P7: 435567143
A8: 1.1.1.1.1 | B8: Identificar predios, elaborar ficha predial y avaluo comercial | C8: 0 | D8: 1 | E8: 55543592 | F8: 48298776 | G8: 0 | H8: -7244816 | I8: 0 | J8: 0 | K8: 48298776 | L8: 103842368 | M8: -55543592 | N8: 1.18 | O8: 96597552 | P8: 103842368 | Q8: 4
A9: 1.1.1.1.2 | B9: Negociar y suscribir promesas de compraventa | C9: 0 | D9: 1 | E9: 75741262 | F9: 65861967 | G9: 0 | H9: -9879295 | I9: 0 | J9: 0 | K9: 65861967 | L9: 141603229 | M9: -75741262 | N9: 1.18 | O9: 131723934 | P9: 141603229 | Q9: 7
A10: 1.1.1.1.3 | B10: Escriturar y registrar los titulos de propiedad | C10: 0 | D10: 1 | E10: 55543592 | F10: 48298776 | G10: 0 | H10: -7244816 | I10: 0 | J10: 0 | K10: 48298776 | L10: 103842368 | M10: -55543592 | N10: 1.18 | O10: 96597552 | P10: 103842368 | Q10: 8
A11: 1.1.1.1.4 | B11: Gestionar servidumbres y reubicaciones | C11: 0 | D11: 1 | E11: 35345923 | F11: 30735585 | G11: 0 | H11: -4610338 | I11: 0 | J11: 0 | K11: 30735585 | L11: 66081508 | M11: -35345923 | N11: 1.18 | O11: 61471170 | P11: 66081508 | Q11: 8
A12: 1.1.1.1.5 | B12: Suscribir acta de disponibilidad y entrega de predios | C12: 1 | D12: 1 | E12: 20197670 | F12: 17563191 | G12: 17563191 | H12: -2634479 | I12: -0.15 | J12: 0.87 | K12: 17563191 | L12: 20197670 | M12: -2634479 | N12: 0 | O12: 0 | P12: 20197670 | Q12: 9;10
A13: 1.1.1.2 | B13: Actas de vecindad formalizadas | C13: 1 | D13: 1 | E13: 106037766 | F13: 92206753 | G13: 92206753 | H13: -13831013 | I13: -0.15 | J13: 0.87 | K13: 92206753 | L13: 106037766 | M13: -13831013 | N13: 0 | O13: 0 | P13: 106037766
A14: 1.1.1.2.1 | B14: Convocar y levantar registro tecnico-fotografico de colindantes | C14: 1 | D14: 1 | E14: 40395339 | F14: 35126382 | G14: 35126382 | H14: -5268957 | I14: -0.15 | J14: 0.87 | K14: 35126382 | L14: 40395339 | M14: -5268957 | N14: 0 | O14: 0 | P14: 40395339 | Q14: 7
A15: 1.1.1.2.2 | B15: Suscribir y protocolizar las actas de vecindad | C15: 1 | D15: 1 | E15: 25247087 | F15: 21953989 | G15: 21953989 | H15: -3293098 | I15: -0.15 | J15: 0.87 | K15: 21953989 | L15: 25247087 | M15: -3293098 | N15: 0 | O15: 0 | P15: 25247087 | Q15: 13
A16: 1.1.1.2.3 | B16: Archivar soportes y registro fotografico | C16: 1 | D16: 1 | E16: 15148252 | F16: 13172393 | G16: 13172393 | H16: -1975859 | I16: -0.15 | J16: 0.87 | K16: 13172393 | L16: 15148252 | M16: -1975859 | N16: 0 | O16: 0 | P16: 15148252 | Q16: 14
A17: 1.1.1.2.4 | B17: Atender reclamaciones por afectaciones a vecinos | C17: 1 | D17: 1 | E17: 25247087 | F17: 21953989 | G17: 21953989 | H17: -3293098 | I17: -0.15 | J17: 0.87 | K17: 21953989 | L17: 25247087 | M17: -3293098 | N17: 0 | O17: 0 | P17: 25247087 | Q17: 14CC+2 días
A18: 1.1.1.3 | B18: Contratos y acuerdos legales suscritos | C18: 1 | D18: 1 | E18: 116136601 | F18: 100988349 | G18: 100988349 | H18: -15148252 | I18: -0.15 | J18: 0.87 | K18: 100988349 | L18: 116136601 | M18: -15148252 | N18: 0 | O18: 0 | P18: 116136601
A19: 1.1.1.3.1 | B19: Elaborar minutas y estudios previos | C19: 1 | D19: 1 | E19: 25247087 | F19: 21953989 | G19: 21953989 | H19: -3293098 | I19: -0.15 | J19: 0.87 | K19: 21953989 | L19: 25247087 | M19: -3293098 | N19: 0 | O19: 0 | P19: 25247087 | Q19: 4
A20: 1.1.1.3.2 | B20: Revisar juridicamente y aprobar los contratos | C20: 1 | D20: 1 | E20: 25247087 | F20: 21953989 | G20: 21953989 | H20: -3293098 | I20: -0.15 | J20: 0.87 | K20: 21953989 | L20: 25247087 | M20: -3293098 | N20: 0 | O20: 0 | P20: 25247087 | Q20: 18
A21: 1.1.1.3.3 | B21: Firmar y legalizar contratos y acuerdos con ESP | C21: 1 | D21: 1 | E21: 25247087 | F21: 21953989 | G21: 21953989 | H21: -3293098 | I21: -0.15 | J21: 0.87 | K21: 21953989 | L21: 25247087 | M21: -3293098 | N21: 0 | O21: 0 | P21: 25247087 | Q21: 19
A22: 1.1.1.3.4 | B22: Designar supervisores e interventoria | C22: 1 | D22: 1 | E22: 15148252 | F22: 13172393 | G22: 13172393 | H22: -1975859 | I22: -0.15 | J22: 0.87 | K22: 13172393 | L22: 15148252 | M22: -1975859 | N22: 0 | O22: 0 | P22: 15148252 | Q22: 20
A23: 1.1.1.3.5 | B23: Legalizar subcontratos criticos (asfalto y concreto) | C23: 1 | D23: 1 | E23: 25247087 | F23: 21953989 | G23: 21953989 | H23: -3293098 | I23: -0.15 | J23: 0.87 | K23: 21953989 | L23: 25247087 | M23: -3293098 | N23: 0 | O23: 0 | P23: 25247087 | Q23: 20
A24: 1.1.2 | B24: Cuenta de control: Tramites, Licencias y Gestion de Riesgos | C24: 0.52 | D24: 1 | E24: 453426601 | F24: 394284001 | G24: 250901008 | H24: -59142600 | I24: -0.24 | J24: 0.81 | K24: 394284001 | L24: 487224963 | M24: -92940962 | N24: 1.7 | O24: 177181355 | P24: 596809594
A25: 1.1.2.1 | B25: Licencias ambientales y de construccion vigentes | C25: 1 | D25: 1 | E25: 186828446 | F25: 162459518 | G25: 162459518 | H25: -24368928 | I25: -0.15 | J25: 0.87 | K25: 162459518 | L25: 186828446 | M25: -24368928 | N25: 0 | O25: 0 | P25: 186828446
A26: 1.1.2.1.1 | B26: Radicar solicitudes de licencias (SDA / Curaduria) | C26: 1 | D26: 1 | E26: 45444757 | F26: 39517180 | G26: 39517180 | H26: -5927577 | I26: -0.15 | J26: 0.87 | K26: 39517180 | L26: 45444757 | M26: -5927577 | N26: 0 | O26: 0 | P26: 45444757 | Q26: 4
A27: 1.1.2.1.2 | B27: Subsanar requerimientos de la autoridad | C27: 1 | D27: 1 | E27: 55543592 | F27: 48298776 | G27: 48298776 | H27: -7244816 | I27: -0.15 | J27: 0.87 | K27: 48298776 | L27: 55543592 | M27: -7244816 | N27: 0 | O27: 0 | P27: 55543592 | Q27: 25
A28: 1.1.2.1.3 | B28: Expedir y verificar la vigencia de las licencias | C28: 1 | D28: 1 | E28: 40395339 | F28: 35126382 | G28: 35126382 | H28: -5268957 | I28: -0.15 | J28: 0.87 | K28: 35126382 | L28: 40395339 | M28: -5268957 | N28: 0 | O28: 0 | P28: 40395339 | Q28: 26
A29: 1.1.2.1.4 | B29: Tramitar permiso de ocupacion de cauce y aprovechamiento forestal | C29: 1 | D29: 1 | E29: 45444757 | F29: 39517180 | G29: 39517180 | H29: -5927577 | I29: -0.15 | J29: 0.87 | K29: 39517180 | L29: 45444757 | M29: -5927577 | N29: 0 | O29: 0 | P29: 45444757 | Q29: 26
A30: 1.1.2.2 | B30: Permisos de Manejo de Trafico (PMT) aprobados | C30: 0.14 | D30: 1 | E30: 186828447 | F30: 162459519 | G30: 21953989 | H30: -24368928 | I30: -1.11 | J30: 0.47 | K30: 162459519 | L30: 342789586 | M30: -180330067 | N30: 1.21 | O30: 296466669 | P30: 327333977
A31: 1.1.2.2.1 | B31: Elaborar el Plan de Manejo de Trafico (desvios y senalizacion) | C31: 0 | D31: 1 | E31: 75741262 | F31: 65861967 | G31: 0 | H31: -9879295 | I31: 0 | J31: 0 | K31: 65861967 | L31: 141603229 | M31: -75741262 | N31: 1.18 | O31: 131723934 | P31: 141603229 | Q31: 4
A32: 1.1.2.2.2 | B32: Radicar y ajustar el PMT ante la SDM | C32: 0 | D32: 1 | E32: 60593010 | F32: 52689574 | G32: 0 | H32: -7903436 | I32: 0 | J32: 0 | K32: 52689574 | L32: 113282584 | M32: -60593010 | N32: 1.18 | O32: 105379148 | P32: 113282584 | Q32: 30
A33: 1.1.2.2.3 | B33: Aprobar e implementar el PMT en sitio | C33: 0 | D33: 1 | E33: 25247087 | F33: 21953989 | G33: 0 | H33: -3293098 | I33: 0 | J33: 0 | K33: 21953989 | L33: 47201076 | M33: -25247087 | N33: 1.18 | O33: 43907978 | P33: 47201076 | Q33: 31
A34: 1.1.2.2.4 | B34: Comunicar desvios y plan de cierres a la comunidad | C34: 1 | D34: 1 | E34: 25247087 | F34: 21953989 | G34: 21953989 | H34: -3293098 | I34: -0.15 | J34: 0.87 | K34: 21953989 | L34: 25247087 | M34: -3293098 | N34: 0 | O34: 0 | P34: 25247087 | Q34: 32CC+2 días
A35: 1.1.2.3 | B35: Plan de Manejo Arqueologico aprobado y ejecutado | C35: 0.19 | D35: 1 | E35: 4028448 | F35: 3502998 | G35: 625535 | H35: -525450 | I35: -0.84 | J35: 0.54 | K35: 3502998 | L35: 6445518 | M35: -2942520 | N35: 1.22 | O35: 5294533 | P35: 6905911
A36: 1.1.2.3.1 | B36: Formular el Plan de Manejo Arqueologico ante el ICANH | C36: 0 | D36: 1 | E36: 1007113 | F36: 875750 | G36: 0 | H36: -131363 | I36: 0 | J36: 0 | K36: 875750 | L36: 1882863 | M36: -1007113 | N36: 1.18 | O36: 1751500 | P36: 1882863 | Q36: 4
A37: 1.1.2.3.2 | B37: Aprobar el plan ante el ICANH | C37: 0 | D37: 1 | E37: 719365 | F37: 625535 | G37: 0 | H37: -93830 | I37: 0 | J37: 0 | K37: 625535 | L37: 1344900 | M37: -719365 | N37: 1.18 | O37: 1251070 | P37: 1344900 | Q37: 35
A38: 1.1.2.3.3 | B38: Monitorear arqueologicamente durante las excavaciones | C38: 0 | D38: 1 | E38: 1582605 | F38: 1376178 | G38: 0 | H38: -206427 | I38: 0 | J38: 0 | K38: 1376178 | L38: 2958783 | M38: -1582605 | N38: 1.18 | O38: 2752356 | P38: 2958783 | Q38: 36
A39: 1.1.2.3.4 | B39: Elaborar informe final de monitoreo y entregar al ICANH | C39: 1 | D39: 1 | E39: 719365 | F39: 625535 | G39: 625535 | H39: -93830 | I39: -0.15 | J39: 0.87 | K39: 625535 | L39: 719365 | M39: -93830 | N39: 0 | O39: 0 | P39: 719365 | Q39: 37
A40: 1.1.2.4 | B40: Politicas de estabilidad de obra constituidas | C40: 1 | D40: 1 | E40: 75741261 | F40: 65861966 | G40: 65861966 | H40: -9879295 | I40: -0.15 | J40: 0.87 | K40: 65861966 | L40: 75741261 | M40: -9879295 | N40: 0 | O40: 0 | P40: 75741261
...

Sheet Análisis EVM
A1: EDT | B1: Nombre de tarea | C1: % completado | D1: % Planeado | E1: Costo real | F1: Valor planeado: PV (CPTP) | G1: Valor acumulado: VA (CPTR) | H1: VC | I1: %VC | J1: IRC | K1: CPF | L1: CEF | M1: VAF | N1: IRPC | O1: ETC | P1: Costo | Q1: Predecesoras | R1: Nivel | S1: ANÁLISIS EVM — ESTADO DEL PROYECTO | W1: CPI tarea (supuesto)
A2: 1 | B2: Empalme Vial Avenida Mutis - Transversal 112B Bis A (IDU-2412-2024) | C2: =IF(K2=0,0,G2/K2) -> 0.75238746 | D2: 0.85 | E2: =SUMIFS(E3:E165,$R3:$R165,1) -> 1.0546064e+10 | F2: =SUMIFS(F3:F165,$R3:$R165,1) -> 10918382784 | G2: =SUMIFS(G3:G165,$R3:$R165,1) -> 9.2806253e+09 | H2: =G2-E2 -> -1.2654391e+09 | I2: =IF(G2=0,0,H2/G2) -> -0.13635278 | J2: =IF(E2=0,0,G2/E2) -> 0.88000841 | K2: =SUMIFS(K3:K165,$R3:$R165,1) -> 12334901565 | L2: =IF(J2=0,K2,K2/J2) -> 1.40168e+10 | M2: =K2-L2 -> -1.6818981e+09 | N2: =IF((K2-E2)=0,0,(K2-G2)/(K2-E2)) -> 1.7074087 | O2: =L2-E2 -> 3.4707354e+09 | P2: =L2 -> 1.40168e+10 | R2: 0
A3: 1.1 | B3: Fase: Requisitos y Gestion Administrativa | C3: =IF(K3=0,0,G3/K3) -> 0.67542953 | D3: 1 | E3: =SUMIFS(E4:E45,$R4:$R45,2) -> 6.4663408e+08 | F3: =SUMIFS(F4:F45,$R4:$R45,2) -> 807018994 | G3: =SUMIFS(G4:G45,$R4:$R45,2) -> 5.4508446e+08 | H3: =G3-E3 -> -1.0154962e+08 | I3: =IF(G3=0,0,H3/G3) -> -0.18630071 | J3: =IF(E3=0,0,G3/E3) -> 0.84295659 | K3: =SUMIFS(K4:K45,$R4:$R45,2) -> 807018994 | L3: =IF(J3=0,K3,K3/J3) -> 9.5736721e+08 | M3: =K3-L3 -> -1.5034821e+08 | N3: =IF((K3-E3)=0,0,(K3-G3)/(K3-E3)) -> 1.6331619 | O3: =L3-E3 -> 3.1073312e+08 | P3: =L3 -> 9.5736721e+08 | R3: 1 | S3: Parámetros | T3: 0.88
A4: 1.1.1 | B4: Inicio | C4: 1 | D4: 1 | E4: =IF(G4>0,G4/W4,0) -> 0 | F4: =D4*K4 -> 0 | G4: =C4*K4 -> 0 | H4: =G4-E4 -> 0 | I4: =IF(G4=0,0,H4/G4) -> 0 | J4: =IF(E4=0,0,G4/E4) -> 0 | K4: 0 | L4: =IF(J4=0,K4,K4/J4) -> 0 | M4: =K4-L4 -> 0 | N4: =IF((K4-E4)=0,0,(K4-G4)/(K4-E4)) -> 0 | O4: =L4-E4 -> 0 | P4: =L4 -> 0 | R4: 2 | S4: CPI objetivo (impulsa Costo real) | T4: =T3 -> 0.88
A5: 1.1.0 | B5: Suscribir el acta de inicio del contrato | C5: 1 | D5: 1 | E5: =IF(G5>0,G5/W5,0) -> 10813442 | F5: =D5*K5 -> 8781596 | G5: =C5*K5 -> 8781596 | H5: =G5-E5 -> -2031845.7 | I5: =IF(G5=0,0,H5/G5) -> -0.23137545 | J5: =IF(E5=0,0,G5/E5) -> 0.8121 | K5: 8781596 | L5: =IF(J5=0,K5,K5/J5) -> 10813442 | M5: =K5-L5 -> -2031845.7 | N5: =IF((K5-E5)=0,0,(K5-G5)/(K5-E5)) -> 0 | O5: =L5-E5 -> 0 | P5: =L5 -> 10813442 | Q5: 3 | R5: 2 | S5: % Completado objetivo | T5: 0.85 | W5: 0.8121
A6: 1.1.1 | B6: Cuenta de control: Gestion de Predios y Legal | C6: =IF(K6=0,0,G6/K6) -> 0.64130435 | D6: 1 | E6: =SUMIFS(E7:E23,$R7:$R23,3) -> 3.0789482e+08 | F6: =SUMIFS(F7:F23,$R7:$R23,3) -> 403953397 | G6: =SUMIFS(G7:G23,$R7:$R23,3) -> 259057069 | H6: =G6-E6 -> -48837746 | I6: =IF(G6=0,0,H6/G6) -> -0.18852119 | J6: =IF(E6=0,0,G6/E6) -> 0.84138172 | K6: =SUMIFS(K7:K23,$R7:$R23,3) -> 403953397 | L6: =IF(J6=0,K6,K6/J6) -> 4.8010717e+08 | M6: =K6-L6 -> -76153774 | N6: =IF((K6-E6)=0,0,(K6-G6)/(K6-E6)) -> 1.5084163 | O6: =L6-E6 -> 1.7221236e+08 | P6: =L6 -> 4.8010717e+08 | R6: 2
A7: 1.1.1.1 | B7: Titulos de propiedad de predios adquiridos | C7: =IF(K7=0,0,G7/K7) -> 0.3125 | D7: 1 | E7: =SUMIFS(E8:E12,$R8:$R12,4) -> 78175103 | F7: =SUMIFS(F8:F12,$R8:$R12,4) -> 210758295 | G7: =SUMIFS(G8:G12,$R8:$R12,4) -> 65861967 | H7: =G7-E7 -> -12313136 | I7: =IF(G7=0,0,H7/G7) -> -0.18695366 | J7: =IF(E7=0,0,G7/E7) -> 0.84249287 | K7: =SUMIFS(K8:K12,$R8:$R12,4) -> 210758295 | L7: =IF(J7=0,K7,K7/J7) -> 2.5016033e+08 | M7: =K7-L7 -> -39402035 | N7: =IF((K7-E7)=0,0,(K7-G7)/(K7-E7)) -> 1.092871 | O7: =L7-E7 -> 1.7198523e+08 | P7: =L7 -> 2.5016033e+08 | R7: 3 | S7: Indicadores del proyecto
A8: 1.1.1.1.1 | B8: Identificar predios, elaborar ficha predial y avaluo comercial | C8: 1 | D8: 1 | E8: =IF(G8>0,G8/W8,0) -> 56044066 | F8: =D8*K8 -> 48298776 | G8: =C8*K8 -> 48298776 | H8: =G8-E8 -> -7745289.9 | I8: =IF(G8=0,0,H8/G8) -> -0.16036203 | J8: =IF(E8=0,0,G8/E8) -> 0.8618 | K8: 48298776 | L8: =IF(J8=0,K8,K8/J8) -> 56044066 | M8: =K8-L8 -> -7745289.9 | N8: =IF((K8-E8)=0,0,(K8-G8)/(K8-E8)) -> 0 | O8: =L8-E8 -> 0 | P8: =L8 -> 56044066 | Q8: 4 | R8: 4 | S8: Presupuesto (BAC) | T8: =K2 -> 12334901565 | W8: 0.8618
A9: 1.1.1.1.2 | B9: Negociar y suscribir promesas de compraventa | C9: 0 | D9: 1 | E9: =IF(G9>0,G9/W9,0) -> 0 | F9: =D9*K9 -> 65861967 | G9: =C9*K9 -> 0 | H9: =G9-E9 -> 0 | I9: =IF(G9=0,0,H9/G9) -> 0 | J9: =IF(E9=0,0,G9/E9) -> 0 | K9: 65861967 | L9: =IF(J9=0,K9,K9/J9) -> 65861967 | M9: =K9-L9 -> 0 | N9: =IF((K9-E9)=0,0,(K9-G9)/(K9-E9)) -> 1 | O9: =L9-E9 -> 65861967 | P9: =L9 -> 65861967 | Q9: 7 | R9: 4 | S9: Valor planeado (PV) | T9: =F2 -> 10918382784
A10: 1.1.1.1.3 | B10: Escriturar y registrar los titulos de propiedad | C10: 0 | D10: 1 | E10: =IF(G10>0,G10/W10,0) -> 0 | F10: =D10*K10 -> 48298776 | G10: =C10*K10 -> 0 | H10: =G10-E10 -> 0 | I10: =IF(G10=0,0,H10/G10) -> 0 | J10: =IF(E10=0,0,G10/E10) -> 0 | K10: 48298776 | L10: =IF(J10=0,K10,K10/J10) -> 48298776 | M10: =K10-L10 -> 0 | N10: =IF((K10-E10)=0,0,(K10-G10)/(K10-E10)) -> 1 | O10: =L10-E10 -> 48298776 | P10: =L10 -> 48298776 | Q10: 8 | R10: 4 | S10: Valor ganado (EV) | T10: =G2 -> 9.2806253e+09
A11: 1.1.1.1.4 | B11: Gestionar servidumbres y reubicaciones | C11: 0 | D11: 1 | E11: =IF(G11>0,G11/W11,0) -> 0 | F11: =D11*K11 -> 30735585 | G11: =C11*K11 -> 0 | H11: =G11-E11 -> 0 | I11: =IF(G11=0,0,H11/G11) -> 0 | J11: =IF(E11=0,0,G11/E11) -> 0 | K11: 30735585 | L11: =IF(J11=0,K11,K11/J11) -> 30735585 | M11: =K11-L11 -> 0 | N11: =IF((K11-E11)=0,0,(K11-G11)/(K11-E11)) -> 1 | O11: =L11-E11 -> 30735585 | P11: =L11 -> 30735585 | Q11: 8 | R11: 4 | S11: Costo real (AC) | T11: =E2 -> 1.0546064e+10
A12: 1.1.1.1.5 | B12: Suscribir acta de disponibilidad y entrega de predios | C12: 1 | D12: 1 | E12: =IF(G12>0,G12/W12,0) -> 22131037 | F12: =D12*K12 -> 17563191 | G12: =C12*K12 -> 17563191 | H12: =G12-E12 -> -4567846 | I12: =IF(G12=0,0,H12/G12) -> -0.26008065 | J12: =IF(E12=0,0,G12/E12) -> 0.7936 | K12: 17563191 | L12: =IF(J12=0,K12,K12/J12) -> 22131037 | M12: =K12-L12 -> -4567846 | N12: =IF((K12-E12)=0,0,(K12-G12)/(K12-E12)) -> 0 | O12: =L12-E12 -> 0 | P12: =L12 -> 22131037 | Q12: 9;10 | R12: 4 | S12: % Completado | T12: =C2 -> 0.75238746 | W12: 0.7936
A13: 1.1.1.2 | B13: Actas de vecindad formalizadas | C13: =IF(K13=0,0,G13/K13) -> 1 | D13: 1 | E13: =SUMIFS(E14:E17,$R14:$R17,4) -> 1.102682e+08 | F13: =SUMIFS(F14:F17,$R14:$R17,4) -> 92206753 | G13: =SUMIFS(G14:G17,$R14:$R17,4) -> 92206753 | H13: =G13-E13 -> -18061443 | I13: =IF(G13=0,0,H13/G13) -> -0.19587983 | J13: =IF(E13=0,0,G13/E13) -> 0.83620442 | K13: =SUMIFS(K14:K17,$R14:$R17,4) -> 92206753 | L13: =IF(J13=0,K13,K13/J13) -> 1.102682e+08 | M13: =K13-L13 -> -18061443 | N13: =IF((K13-E13)=0,0,(K13-G13)/(K13-E13)) -> 0 | O13: =L13-E13 -> 0 | P13: =L13 -> 1.102682e+08 | R13: 3 | S13: % Planeado | T13: =F2/K2 -> 0.88516173
A14: 1.1.1.2.1 | B14: Convocar y levantar registro tecnico-fotografico de colindantes | C14: 1 | D14: 1 | E14: =IF(G14>0,G14/W14,0) -> 44295564 | F14: =D14*K14 -> 35126382 | G14: =C14*K14 -> 35126382 | H14: =G14-E14 -> -9169181.7 | I14: =IF(G14=0,0,H14/G14) -> -0.26103405 | J14: =IF(E14=0,0,G14/E14) -> 0.793 | K14: 35126382 | L14: =IF(J14=0,K14,K14/J14) -> 44295564 | M14: =K14-L14 -> -9169181.7 | N14: =IF((K14-E14)=0,0,(K14-G14)/(K14-E14)) -> 0 | O14: =L14-E14 -> 0 | P14: =L14 -> 44295564 | Q14: 7 | R14: 4 | S14: CPI (índice de costo) | T14: =J2 -> 0.88000841 | W14: 0.793
A15: 1.1.1.2.2 | B15: Suscribir y protocolizar las actas de vecindad | C15: 1 | D15: 1 | E15: =IF(G15>0,G15/W15,0) -> 23985566 | F15: =D15*K15 -> 21953989 | G15: =C15*K15 -> 21953989 | H15: =G15-E15 -> -2031577.5 | I15: =IF(G15=0,0,H15/G15) -> -0.092537966 | J15: =IF(E15=0,0,G15/E15) -> 0.9153 | K15: 21953989 | L15: =IF(J15=0,K15,K15/J15) -> 23985566 | M15: =K15-L15 -> -2031577.5 | N15: =IF((K15-E15)=0,0,(K15-G15)/(K15-E15)) -> 0 | O15: =L15-E15 -> 0 | P15: =L15 -> 23985566 | Q15: 13 | R15: 4 | S15: SPI (índice de plazo) | T15: =G2/F2 -> 0.84999999 | W15: 0.9153
A16: 1.1.1.2.3 | B16: Archivar soportes y registro fotografico | C16: 1 | D16: 1 | E16: =IF(G16>0,G16/W16,0) -> 16426478 | F16: =D16*K16 -> 13172393 | G16: =C16*K16 -> 13172393 | H16: =G16-E16 -> -3254085.4 | I16: =IF(G16=0,0,H16/G16) -> -0.24703828 | J16: =IF(E16=0,0,G16/E16) -> 0.8019 | K16: 13172393 | L16: =IF(J16=0,K16,K16/J16) -> 16426478 | M16: =K16-L16 -> -3254085.4 | N16: =IF((K16-E16)=0,0,(K16-G16)/(K16-E16)) -> 0 | O16: =L16-E16 -> 0 | P16: =L16 -> 16426478 | Q16: 14 | R16: 4 | S16: CV (variación de costo) | T16: =H2 -> -1.2654391e+09 | W16: 0.8019
A17: 1.1.1.2.4 | B17: Atender reclamaciones por afectaciones a vecinos | C17: 1 | D17: 1 | E17: =IF(G17>0,G17/W17,0) -> 25560588 | F17: =D17*K17 -> 21953989 | G17: =C17*K17 -> 21953989 | H17: =G17-E17 -> -3606599 | I17: =IF(G17=0,0,H17/G17) -> -0.16427989 | J17: =IF(E17=0,0,G17/E17) -> 0.8589 | K17: 21953989 | L17: =IF(J17=0,K17,K17/J17) -> 25560588 | M17: =K17-L17 -> -3606599 | N17: =IF((K17-E17)=0,0,(K17-G17)/(K17-E17)) -> 0 | O17: =L17-E17 -> 0 | P17: =L17 -> 25560588 | Q17: 14CC+2 días | R17: 4 | S17: SV (variación de plazo) | T17: =G2-F2 -> -1.6377575e+09 | W17: 0.8589
A18: 1.1.1.3 | B18: Contratos y acuerdos legales suscritos | C18: =IF(K18=0,0,G18/K18) -> 1 | D18: 1 | E18: =SUMIFS(E19:E23,$R19:$R23,4) -> 1.1945152e+08 | F18: =SUMIFS(F19:F23,$R19:$R23,4) -> 100988349 | G18: =SUMIFS(G19:G23,$R19:$R23,4) -> 100988349 | H18: =G18-E18 -> -18463167 | I18: =IF(G18=0,0,H18/G18) -> -0.18282472 | J18: =IF(E18=0,0,G18/E18) -> 0.8454338 | K18: =SUMIFS(K19:K23,$R19:$R23,4) -> 100988349 | L18: =IF(J18=0,K18,K18/J18) -> 1.1945152e+08 | M18: =K18-L18 -> -18463167 | N18: =IF((K18-E18)=0,0,(K18-G18)/(K18-E18)) -> 0 | O18: =L18-E18 -> 0 | P18: =L18 -> 1.1945152e+08 | R18: 3 | S18: EAC (costo final estimado) | T18: =L2 -> 1.40168e+10
A19: 1.1.1.3.1 | B19: Elaborar minutas y estudios previos | C19: 1 | D19: 1 | E19: =IF(G19>0,G19/W19,0) -> 25087406 | F19: =D19*K19 -> 21953989 | G19: =C19*K19 -> 21953989 | H19: =G19-E19 -> -3133417 | I19: =IF(G19=0,0,H19/G19) -> -0.14272655 | J19: =IF(E19=0,0,G19/E19) -> 0.8751 | K19: 21953989 | L19: =IF(J19=0,K19,K19/J19) -> 25087406 | M19: =K19-L19 -> -3133417 | N19: =IF((K19-E19)=0,0,(K19-G19)/(K19-E19)) -> 0 | O19: =L19-E19 -> 0 | P19: =L19 -> 25087406 | Q19: 4 | R19: 4 | S19: VAC (variación al final) | T19: =M2 -> -1.6818981e+09 | W19: 0.8751
A20: 1.1.1.3.2 | B20: Revisar juridicamente y aprobar los contratos | C20: 1 | D20: 1 | E20: =IF(G20>0,G20/W20,0) -> 25353954 | F20: =D20*K20 -> 21953989 | G20: =C20*K20 -> 21953989 | H20: =G20-E20 -> -3399965.3 | I20: =IF(G20=0,0,H20/G20) -> -0.15486777 | J20: =IF(E20=0,0,G20/E20) -> 0.8659 | K20: 21953989 | L20: =IF(J20=0,K20,K20/J20) -> 25353954 | M20: =K20-L20 -> -3399965.3 | N20: =IF((K20-E20)=0,0,(K20-G20)/(K20-E20)) -> 0 | O20: =L20-E20 -> 0 | P20: =L20 -> 25353954 | Q20: 18 | R20: 4 | S20: ETC (costo para terminar) | T20: =O2 -> 3.4707354e+09 | W20: 0.8659
A21: 1.1.1.3.3 | B21: Firmar y legalizar contratos y acuerdos con ESP | C21: 1 | D21: 1 | E21: =IF(G21>0,G21/W21,0) -> 26064335 | F21: =D21*K21 -> 21953989 | G21: =C21*K21 -> 21953989 | H21: =G21-E21 -> -4110345.6 | I21: =IF(G21=0,0,H21/G21) -> -0.18722545 | J21: =IF(E21=0,0,G21/E21) -> 0.8423 | K21: 21953989 | L21: =IF(J21=0,K21,K21/J21) -> 26064335 | M21: =K21-L21 -> -4110345.6 | N21: =IF((K21-E21)=0,0,(K21-G21)/(K21-E21)) -> 0 | O21: =L21-E21 -> 0 | P21: =L21 -> 26064335 | Q21: 19 | R21: 4 | S21: TCPI (índice para cumplir) | T21: =N2 -> 1.7074087 | W21: 0.8423
A22: 1.1.1.3.4 | B22: Designar supervisores e interventoria | C22: 1 | D22: 1 | E22: =IF(G22>0,G22/W22,0) -> 16728973 | F22: =D22*K22 -> 13172393 | G22: =C22*K22 -> 13172393 | H22: =G22-E22 -> -3556579.6 | I22: =IF(G22=0,0,H22/G22) -> -0.27000254 | J22: =IF(E22=0,0,G22/E22) -> 0.7874 | K22: 13172393 | L22: =IF(J22=0,K22,K22/J22) -> 16728973 | M22: =K22-L22 -> -3556579.6 | N22: =IF((K22-E22)=0,0,(K22-G22)/(K22-E22)) -> 0 | O22: =L22-E22 -> 0 | P22: =L22 -> 16728973 | Q22: 20 | R22: 4 | W22: 0.7874
A23: 1.1.1.3.5 | B23: Legalizar subcontratos criticos (asfalto y concreto) | C23: 1 | D23: 1 | E23: =IF(G23>0,G23/W23,0) -> 26216849 | F23: =D23*K23 -> 21953989 | G23: =C23*K23 -> 21953989 | H23: =G23-E23 -> -4262859.6 | I23: =IF(G23=0,0,H23/G23) -> -0.19417244 | J23: =IF(E23=0,0,G23/E23) -> 0.8374 | K23: 21953989 | L23: =IF(J23=0,K23,K23/J23) -> 26216849 | M23: =K23-L23 -> -4262859.6 | N23: =IF((K23-E23)=0,0,(K23-G23)/(K23-E23)) -> 0 | O23: =L23-E23 -> 0 | P23: =L23 -> 26216849 | Q23: 20 | R23: 4 | S23: Estado por fase | W23: 0.8374
A24: 1.1.2 | B24: Cuenta de control: Tramites, Licencias y Gestion de Riesgos | C24: =IF(K24=0,0,G24/K24) -> 0.70316268 | D24: 1 | E24: =SUMIFS(E25:E44,$R25:$R44,3) -> 3.2792583e+08 | F24: =SUMIFS(F25:F44,$R25:$R44,3) -> 394284001 | G24: =SUMIFS(G25:G44,$R25:$R44,3) -> 2.7724579e+08 | H24: =G24-E24 -> -50680030 | I24: =IF(G24=0,0,H24/G24) -> -0.18279819 | J24: =IF(E24=0,0,G24/E24) -> 0.84545276 | K24: =SUMIFS(K25:K44,$R25:$R44,3) -> 394284001 | L24: =IF(J24=0,K24,K24/J24) -> 4.663584e+08 | M24: =K24-L24 -> -72074403 | N24: =IF((K24-E24)=0,0,(K24-G24)/(K24-E24)) -> 1.7637345 | O24: =L24-E24 -> 1.3843258e+08 | P24: =L24 -> 4.663584e+08 | R24: 2 | S24: Fase | T24: % Comp | U24: CPI | V24: EAC
A25: 1.1.2.1 | B25: Licencias ambientales y de construccion vigentes | C25: =IF(K25=0,0,G25/K25) -> 1 | D25: 1 | E25: =SUMIFS(E26:E29,$R26:$R29,4) -> 1.8993945e+08 | F25: =SUMIFS(F26:F29,$R26:$R29,4) -> 162459518 | G25: =SUMIFS(G26:G29,$R26:$R29,4) -> 162459518 | H25: =G25-E25 -> -27479928 | I25: =IF(G25=0,0,H25/G25) -> -0.16914939 | J25: =IF(E25=0,0,G25/E25) -> 0.85532269 | K25: =SUMIFS(K26:K29,$R26:$R29,4) -> 162459518 | L25: =IF(J25=0,K25,K25/J25) -> 1.8993945e+08 | M25: =K25-L25 -> -27479928 | N25: =IF((K25-E25)=0,0,(K25-G25)/(K25-E25)) -> 0 | O25: =L25-E25 -> 0 | P25: =L25 -> 1.8993945e+08 | R25: 3 | S25: =A3&" Requisitos y Gestión" -> 1.1 Requisitos y Gestión | T25: =C3 -> 0.67542953 | U25: =J3 -> 0.84295659 | V25: =L3 -> 9.5736721e+08
A26: 1.1.2.1.1 | B26: Radicar solicitudes de licencias (SDA / Curaduria) | C26: 1 | D26: 1 | E26: =IF(G26>0,G26/W26,0) -> 45054361 | F26: =D26*K26 -> 39517180 | G26: =C26*K26 -> 39517180 | H26: =G26-E26 -> -5537181 | I26: =IF(G26=0,0,H26/G26) -> -0.14012085 | J26: =IF(E26=0,0,G26/E26) -> 0.8771 | K26: 39517180 | L26: =IF(J26=0,K26,K26/J26) -> 45054361 | M26: =K26-L26 -> -5537181 | N26: =IF((K26-E26)=0,0,(K26-G26)/(K26-E26)) -> 0 | O26: =L26-E26 -> 0 | P26: =L26 -> 45054361 | Q26: 4 | R26: 4 | S26: =A46&" Estudios y Diseños" -> 1.2 Estudios y Diseños | T26: =C46 -> 1 | U26: =J46 -> 0.93127999 | V26: =L46 -> 9.3824497e+08 | W26: 0.8771
A27: 1.1.2.1.2 | B27: Subsanar requerimientos de la autoridad | C27: 1 | D27: 1 | E27: =IF(G27>0,G27/W27,0) -> 56174431 | F27: =D27*K27 -> 48298776 | G27: =C27*K27 -> 48298776 | H27: =G27-E27 -> -7875655.3 | I27: =IF(G27=0,0,H27/G27) -> -0.16306118 | J27: =IF(E27=0,0,G27/E27) -> 0.8598 | K27: 48298776 | L27: =IF(J27=0,K27,K27/J27) -> 56174431 | M27: =K27-L27 -> -7875655.3 | N27: =IF((K27-E27)=0,0,(K27-G27)/(K27-E27)) -> 0 | O27: =L27-E27 -> 0 | P27: =L27 -> 56174431 | Q27: 25 | R27: 4 | S27: =A82&" Construcción de Obra Civil" -> 1.3 Construcción de Obra Civil | T27: =C82 -> 0.77095313 | U27: =J82 -> 0.87731386 | V27: =L82 -> 1.1623515e+10 | W27: 0.8598
A28: 1.1.2.1.3 | B28: Expedir y verificar la vigencia de las licencias | C28: 1 | D28: 1 | E28: =IF(G28>0,G28/W28,0) -> 41817121 | F28: =D28*K28 -> 35126382 | G28: =C28*K28 -> 35126382 | H28: =G28-E28 -> -6690739.4 | I28: =IF(G28=0,0,H28/G28) -> -0.19047619 | J28: =IF(E28=0,0,G28/E28) -> 0.84 | K28: 35126382 | L28: =IF(J28=0,K28,K28/J28) -> 41817121 | M28: =K28-L28 -> -6690739.4 | N28: =IF((K28-E28)=0,0,(K28-G28)/(K28-E28)) -> 0 | O28: =L28-E28 -> 0 | P28: =L28 -> 41817121 | Q28: 26 | R28: 4 | S28: =A165&" Liquidación y Cierre" -> 1.4 Liquidación y Cierre | T28: =C165 -> 0 | U28: =J165 -> 0 | V28: =L165 -> 456642970 | W28: 0.84
A29: 1.1.2.1.4 | B29: Tramitar permiso de ocupacion de cauce y aprovechamiento forestal | C29: 1 | D29: 1 | E29: =IF(G29>0,G29/W29,0) -> 46893533 | F29: =D29*K29 -> 39517180 | G29: =C29*K29 -> 39517180 | H29: =G29-E29 -> -7376352.7 | I29: =IF(G29=0,0,H29/G29) -> -0.18666192 | J29: =IF(E29=0,0,G29/E29) -> 0.8427 | K29: 39517180 | L29: =IF(J29=0,K29,K29/J29) -> 46893533 | M29: =K29-L29 -> -7376352.7 | N29: =IF((K29-E29)=0,0,(K29-G29)/(K29-E29)) -> 0 | O29: =L29-E29 -> 0 | P29: =L29 -> 46893533 | Q29: 26 | R29: 4 | W29: 0.8427
A30: 1.1.2.2 | B30: Permisos de Manejo de Trafico (PMT) aprobados | C30: =IF(K30=0,0,G30/K30) -> 0.2972973 | D30: 1 | E30: =SUMIFS(E31:E34,$R31:$R34,4) -> 56970254 | F30: =SUMIFS(F31:F34,$R31:$R34,4) -> 162459519 | G30: =SUMIFS(G31:G34,$R31:$R34,4) -> 48298776 | H30: =G30-E30 -> -8671478.2 | I30: =IF(G30=0,0,H30/G30) -> -0.17953826 | J30: =IF(E30=0,0,G30/E30) -> 0.84778937 | K30: =SUMIFS(K31:K34,$R31:$R34,4) -> 162459519 | L30: =IF(J30=0,K30,K30/J30) -> 1.9162722e+08 | M30: =K30-L30 -> -29167699 | N30: =IF((K30-E30)=0,0,(K30-G30)/(K30-E30)) -> 1.0822025 | O30: =L30-E30 -> 1.3465696e+08 | P30: =L30 -> 1.9162722e+08 | R30: 3 | S30: Lectura gerencial
A31: 1.1.2.2.1 | B31: Elaborar el Plan de Manejo de Trafico (desvios y senalizacion) | C31: 0.4 | D31: 1 | E31: =IF(G31>0,G31/W31,0) -> 30180762 | F31: =D31*K31 -> 65861967 | G31: =C31*K31 -> 26344787 | H31: =G31-E31 -> -3835974.8 | I31: =IF(G31=0,0,H31/G31) -> -0.1456066 | J31: =IF(E31=0,0,G31/E31) -> 0.8729 | K31: 65861967 | L31: =IF(J31=0,K31,K31/J31) -> 75451904 | M31: =K31-L31 -> -9589937 | N31: =IF((K31-E31)=0,0,(K31-G31)/(K31-E31)) -> 1.1075069 | O31: =L31-E31 -> 45271142 | P31: =L31 -> 75451904 | Q31: 4 | R31: 4 | S31: • Costo: CPI 0.92 = 8% de sobrecosto sobre lo ejecutado (CV ≈ -$912M). El costo final estimado (EAC) sube a ≈$13.4B frente a un presupuesto de $12.3B (VAC ≈ -$1.07B). | W31: 0.8729
A32: 1.1.2.2.2 | B32: Radicar y ajustar el PMT ante la SDM | C32: 0 | D32: 1 | E32: =IF(G32>0,G32/W32,0) -> 0 | F32: =D32*K32 -> 52689574 | G32: =C32*K32 -> 0 | H32: =G32-E32 -> 0 | I32: =IF(G32=0,0,H32/G32) -> 0 | J32: =IF(E32=0,0,G32/E32) -> 0 | K32: 52689574 | L32: =IF(J32=0,K32,K32/J32) -> 52689574 | M32: =K32-L32 -> 0 | N32: =IF((K32-E32)=0,0,(K32-G32)/(K32-E32)) -> 1 | O32: =L32-E32 -> 52689574 | P32: =L32 -> 52689574 | Q32: 30 | R32: 4 | S32: • Avance: 85.0% ejecutado vs 88.5% planeado → ligero atraso de cronograma (SPI 0.96; SV ≈ -$434M).
A33: 1.1.2.2.3 | B33: Aprobar e implementar el PMT en sitio | C33: 0 | D33: 1 | E33: =IF(G33>0,G33/W33,0) -> 0 | F33: =D33*K33 -> 21953989 | G33: =C33*K33 -> 0 | H33: =G33-E33 -> 0 | I33: =IF(G33=0,0,H33/G33) -> 0 | J33: =IF(E33=0,0,G33/E33) -> 0 | K33: 21953989 | L33: =IF(J33=0,K33,K33/J33) -> 21953989 | M33: =K33-L33 -> 0 | N33: =IF((K33-E33)=0,0,(K33-G33)/(K33-E33)) -> 1 | O33: =L33-E33 -> 21953989 | P33: =L33 -> 21953989 | Q33: 31 | R33: 4 | S33: • Lógica de costos: solo las tareas iniciadas o terminadas cargan Costo real. Lo no iniciado / no planeado (Fase 1.4 Liquidación, predios y PMT pendientes) queda en $0 — coherente con el estado real.
A34: 1.1.2.2.4 | B34: Comunicar desvios y plan de cierres a la comunidad | C34: 1 | D34: 1 | E34: =IF(G34>0,G34/W34,0) -> 26789492 | F34: =D34*K34 -> 21953989 | G34: =C34*K34 -> 21953989 | H34: =G34-E34 -> -4835503.4 | I34: =IF(G34=0,0,H34/G34) -> -0.22025625 | J34: =IF(E34=0,0,G34/E34) -> 0.8195 | K34: 21953989 | L34: =IF(J34=0,K34,K34/J34) -> 26789492 | M34: =K34-L34 -> -4835503.4 | N34: =IF((K34-E34)=0,0,(K34-G34)/(K34-E34)) -> 0 | O34: =L34-E34 -> 0 | P34: =L34 -> 26789492 | Q34: 32CC+2 días | R34: 4 | S34: • Frentes críticos: Gestión de Predios y el PMT (Fase 1.1, 67.5% comp) son los que frenan el avance pleno; la calzada está en acabados (demarcación y bacheo al 40%). | W34: 0.8195
A35: 1.1.2.3 | B35: Plan de Manejo Arqueologico aprobado y ejecutado | C35: =IF(K35=0,0,G35/K35) -> 0.17857133 | D35: 1 | E35: =SUMIFS(E36:E39,$R36:$R39,4) -> 681856.33 | F35: =SUMIFS(F36:F39,$R36:$R39,4) -> 3502998 | G35: =SUMIFS(G36:G39,$R36:$R39,4) -> 625535 | H35: =G35-E35 -> -56321.333 | I35: =IF(G35=0,0,H35/G35) -> -0.090037061 | J35: =IF(E35=0,0,G35/E35) -> 0.9174 | K35: =SUMIFS(K36:K39,$R36:$R39,4) -> 3502998 | L35: =IF(J35=0,K35,K35/J35) -> 3818397.6 | M35: =K35-L35 -> -315399.65 | N35: =IF((K35-E35)=0,0,(K35-G35)/(K35-E35)) -> 1.019964 | O35: =L35-E35 -> 3136541.3 | P35: =L35 -> 3818397.6 | R35: 3 | S35: • Pronóstico: TCPI 1.97 indica que recuperar el sobrecosto dentro del presupuesto es inviable; se recomienda gestionar reserva/adición presupuestal y acelerar la liberación de predios.
A36: 1.1.2.3.1 | B36: Formular el Plan de Manejo Arqueologico ante el ICANH | C36: 0 | D36: 1 | E36: =IF(G36>0,G36/W36,0) -> 0 | F36: =D36*K36 -> 875750 | G36: =C36*K36 -> 0 | H36: =G36-E36 -> 0 | I36: =IF(G36=0,0,H36/G36) -> 0 | J36: =IF(E36=0,0,G36/E36) -> 0 | K36: 875750 | L36: =IF(J36=0,K36,K36/J36) -> 875750 | M36: =K36-L36 -> 0 | N36: =IF((K36-E36)=0,0,(K36-G36)/(K36-E36)) -> 1 | O36: =L36-E36 -> 875750 | P36: =L36 -> 875750 | Q36: 4 | R36: 4
A37: 1.1.2.3.2 | B37: Aprobar el plan ante el ICANH | C37: 0 | D37: 1 | E37: =IF(G37>0,G37/W37,0) -> 0 | F37: =D37*K37 -> 625535 | G37: =C37*K37 -> 0 | H37: =G37-E37 -> 0 | I37: =IF(G37=0,0,H37/G37) -> 0 | J37: =IF(E37=0,0,G37/E37) -> 0 | K37: 625535 | L37: =IF(J37=0,K37,K37/J37) -> 625535 | M37: =K37-L37 -> 0 | N37: =IF((K37-E37)=0,0,(K37-G37)/(K37-E37)) -> 1 | O37: =L37-E37 -> 625535 | P37: =L37 -> 625535 | Q37: 35 | R37: 4
A38: 1.1.2.3.3 | B38: Monitorear arqueologicamente durante las excavaciones | C38: 0 | D38: 1 | E38: =IF(G38>0,G38/W38,0) -> 0 | F38: =D38*K38 -> 1376178 | G38: =C38*K38 -> 0 | H38: =G38-E38 -> 0 | I38: =IF(G38=0,0,H38/G38) -> 0 | J38: =IF(E38=0,0,G38/E38) -> 0 | K38: 1376178 | L38: =IF(J38=0,K38,K38/J38) -> 1376178 | M38: =K38-L38 -> 0 | N38: =IF((K38-E38)=0,0,(K38-G38)/(K38-E38)) -> 1 | O38: =L38-E38 -> 1376178 | P38: =L38 -> 1376178 | Q38: 36 | R38: 4
A39: 1.1.2.3.4 | B39: Elaborar informe final de monitoreo y entregar al ICANH | C39: 1 | D39: 1 | E39: =IF(G39>0,G39/W39,0) -> 681856.33 | F39: =D39*K39 -> 625535 | G39: =C39*K39 -> 625535 | H39: =G39-E39 -> -56321.333 | I39: =IF(G39=0,0,H39/G39) -> -0.090037061 | J39: =IF(E39=0,0,G39/E39) -> 0.9174 | K39: 625535 | L39: =IF(J39=0,K39,K39/J39) -> 681856.33 | M39: =K39-L39 -> -56321.333 | N39: =IF((K39-E39)=0,0,(K39-G39)/(K39-E39)) -> 0 | O39: =L39-E39 -> 0 | P39: =L39 -> 681856.33 | Q39: 37 | R39: 4 | W39: 0.9174
A40: 1.1.2.4 | B40: Politicas de estabilidad de obra constituidas | C40: =IF(K40=0,0,G40/K40) -> 1 | D40: 1 | E40: =SUMIFS(E41:E44,$R41:$R44,4) -> 80334268 | F40: =SUMIFS(F41:F44,$R41:$R44,4) -> 65861966 | G40: =SUMIFS(G41:G44,$R41:$R44,4) -> 65861966 | H40: =G40-E40 -> -14472302 | I40: =IF(G40=0,0,H40/G40) -> -0.21973687 | J40: =IF(E40=0,0,G40/E40) -> 0.81984896 | K40: =SUMIFS(K41:K44,$R41:$R44,4) -> 65861966 | L40: =IF(J40=0,K40,K40/J40) -> 80334268 | M40: =K40-L40 -> -14472302 | N40: =IF((K40-E40)=0,0,(K40-G40)/(K40-E40)) -> 0 | O40: =L40-E40 -> 0 | P40: =L40 -> 80334268 | R40: 3
...

Sheet Informe EVM
A1: INFORME DE VALOR GANADO (EVM)
A3: Indicador | B3: Valor
A4: Presupuesto (BAC) | B4: ='Análisis EVM'!K2 -> 12334901565
A5: Valor Planeado (PV) | B5: ='Análisis EVM'!F2 -> 10918382784
A6: Valor Ganado (EV) | B6: ='Análisis EVM'!G2 -> 9.2806253e+09
A7: Costo Real (AC) | B7: ='Análisis EVM'!E2 -> 1.0546064e+10
A8: Variación de Costo (CV) | B8: =B6-B7 -> -1.2654391e+09
A9: Variación de Plazo (SV) | B9: =B6-B5 -> -1.6377575e+09
A10: Índice de Costo (CPI) | B10: =B6/B7 -> 0.88000841
A11: Índice de Plazo (SPI) | B11: =B6/B5 -> 0.84999999
A12: % Completado | B12: =B6/B4 -> 0.75238746
A13: Costo Final Estimado (EAC) | B13: ='Análisis EVM'!L2 -> 1.40168e+10
A14: Costo para Terminar (ETC) | B14: ='Análisis EVM'!O2 -> 3.4707354e+09
A15: Variación al Final (VAC) | B15: =B4-B13 -> -1.6818981e+09
A16: Índice para Cumplir (TCPI) | B16: ='Análisis EVM'!N2 -> 1.7074087
A18: Datos por fase
A19: Fase | B19: PV | C19: EV | D19: AC | E19: BAC | F19: EAC | G19: CPI | H19: SPI
A20: 1.1 Requisitos | B20: ='Análisis EVM'!F3 -> 807018994 | C20: ='Análisis EVM'!G3 -> 5.4508446e+08 | D20: ='Análisis EVM'!E3 -> 6.4663408e+08 | E20: ='Análisis EVM'!K3 -> 807018994 | F20: ='Análisis EVM'!L3 -> 9.5736721e+08 | G20: =IF(D20=0,0,C20/D20) -> 0.84295659 | H20: =IF(B20=0,0,C20/B20) -> 0.67542953
A21: 1.2 Estudios | B21: ='Análisis EVM'!F46 -> 873768764 | C21: ='Análisis EVM'!G46 -> 873768764 | D21: ='Análisis EVM'!E46 -> 9.3824497e+08 | E21: ='Análisis EVM'!K46 -> 873768764 | F21: ='Análisis EVM'!L46 -> 9.3824497e+08 | G21: =IF(D21=0,0,C21/D21) -> 0.93127999 | H21: =IF(B21=0,0,C21/B21) -> 1
A22: 1.3 Construcción | B22: ='Análisis EVM'!F82 -> 9237595026 | C22: ='Análisis EVM'!G82 -> 7.861772e+09 | D22: ='Análisis EVM'!E82 -> 8.9611853e+09 | E22: ='Análisis EVM'!K82 -> 10197470837 | F22: ='Análisis EVM'!L82 -> 1.1623515e+10 | G22: =IF(D22=0,0,C22/D22) -> 0.87731386 | H22: =IF(B22=0,0,C22/B22) -> 0.85106264
A23: 1.4 Liquidación | B23: ='Análisis EVM'!F165 -> 0 | C23: ='Análisis EVM'!G165 -> 0 | D23: ='Análisis EVM'!E165 -> 0 | E23: ='Análisis EVM'!K165 -> 456642970 | F23: ='Análisis EVM'!L165 -> 456642970 | G23: =IF(D23=0,0,C23/D23) -> 0 | H23: =IF(B23=0,0,C23/B23) -> 0
A24: TOTAL | B24: =B5 -> 10918382784 | C24: =B6 -> 9.2806253e+09 | D24: =B7 -> 1.0546064e+10 | E24: =B4 -> 12334901565 | F24: =B13 -> 1.40168e+10 | G24: =B10 -> 0.88000841 | H24: =B11 -> 0.84999999
A27: Fase | B27: BAC | C27: EAC
A28: =A20 -> 1.1 Requisitos | B28: =E20 -> 807018994 | C28: =F20 -> 9.5736721e+08
A29: =A21 -> 1.2 Estudios | B29: =E21 -> 873768764 | C29: =F21 -> 9.3824497e+08
A30: =A22 -> 1.3 Construcción | B30: =E22 -> 10197470837 | C30: =F22 -> 1.1623515e+10
A31: =A23 -> 1.4 Liquidación | B31: =E23 -> 456642970 | C31: =F23 -> 456642970
A32: TOTAL | B32: =E24 -> 12334901565 | C32: =F24 -> 1.40168e+10
A35: Fase | B35: CPI | C35: SPI
A36: =A20 -> 1.1 Requisitos | B36: =G20 -> 0.84295659 | C36: =H20 -> 0.67542953
A37: =A21 -> 1.2 Estudios | B37: =G21 -> 0.93127999 | C37: =H21 -> 1
A38: =A22 -> 1.3 Construcción | B38: =G22 -> 0.87731386 | C38: =H22 -> 0.85106264
A39: =A23 -> 1.4 Liquidación | B39: =G23 -> 0 | C39: =H23 -> 0
