Workbook

Sheet CRONOGRAMA
A1: EDT | B1: Nombre de tarea | C1: % completado | D1: % Planeado | E1: Costo real | F1: Valor planeado: PV (CPTP) | G1: Valor acumulado: VA (CPTR) | H1: VC | I1: %VC | J1: IRC | K1: CPF | L1: CEF | M1: VAF | N1: IRPC | O1: ETC | P1: Costo | Q1: Predecesoras
A2: 1 | B2: Empalme Vial Avenida Mutis - Transversal 112B Bis A (IDU-2412-2024) | C2: 0.74 | D2: 0.85 | E2: 12556140202 | F2: 10793824937 | G2: 10409801282 | H2: -1637757418 | I2: -0.16 | J2: 0.86 | K2: 12334901565 | L2: 14275531937 | M2: -1940630372 | N2: 6.7 | O2: 2227973238 | P2: 14309237080
A3: 1.1 | B3: Fase: Requisitos y Gestion Administrativa | C3: 0.52 | D3: 1 | E3: 928071843 | F3: 807018994 | G3: 470440897 | H3: -121052849 | I3: -0.26 | J3: 0.8 | K3: 807018994 | L3: 1014679402 | M3: -207660408 | N3: 1.56 | O3: 423185656 | P3: 1264649940
A4: 1.1.1 | B4: Inicio | C4: 1 | D4: 1 | E4: 0 | F4: 0 | G4: 0 | H4: 0 | I4: 0 | J4: 0 | K4: 0 | L4: 0 | M4: 0 | N4: 0 | O4: 0 | P4: 0
A5: 1.1.0 | B5: Suscribir el acta de inicio del contrato | C5: 1 | D5: 1 | E5: 10098835 | F5: 8781596 | G5: 8781596 | H5: -1317239 | I5: -0.15 | J5: 0.87 | K5: 8781596 | L5: 10098835 | M5: -1317239 | N5: 0 | O5: 0 | P5: 10098835 | Q5: 3
A6: 1.1.1 | B6: Cuenta de control: Gestion de Predios y Legal | C6: 0.52 | D6: 1 | E6: 464546407 | F6: 403953397 | G6: 210758293 | H6: -60593010 | I6: -0.29 | J6: 0.78 | K6: 403953397 | L6: 520089999 | M6: -116136602 | N6: 1.46 | O6: 248738697 | P6: 657741511
A7: 1.1.1.1 | B7: Titulos de propiedad de predios adquiridos | C7: 0.06 | D7: 1 | E7: 242372039 | F7: 210758295 | G7: 17563191 | H7: -31613744 | I7: -1.8 | J7: 0.36 | K7: 210758295 | L7: 590123231 | M7: -379364936 | N7: 1.2 | O7: 540946296 | P7: 435567143
A8: 1.1.1.1.1 | B8: Identificar predios, elaborar ficha predial y avaluo comercial | C8: 0 | D8: 1 | E8: 55543592 | F8: 48298776 | G8: 0 | H8: -7244816 | I8: 0 | J8: 0 | K8: 48298776 | L8: 103842368 | M8: -55543592 | N8: 1.18 | O8: 96597552 | P8: 103842368 | Q8: 4
A9: 1.1.1.1.2 | B9: Negociar y suscribir promesas de compraventa | C9: 0 | D9: 1 | E9: 75741262 | F9: 65861967 | G9: 0 | H9: -9879295 | I9: 0 | J9: 0 | K9: 65861967 | L9: 141603229 | M9: -75741262 | N9: 1.18 | O9: 131723934 | P9: 141603229 | Q9: 7
A10: 1.1.1.1.3 | B10: Escriturar y registrar los titulos de propiedad | C10: 0 | D10: 1 | E10: 55543592 | F10: 48298776 | G10: 0 | H10: -7244816 | I10: 0 | J10: 0 | K10: 48298776 | L10: 103842368 | M10: -55543592 | N10: 1.18 | O10: 96597552 | P10: 103842368 | Q10: 8
A11: 1.1.1.1.4 | B11: Gestionar servidumbres y reubicaciones | C11: 0 | D11: 1 | E11: 35345923 | F11: 30735585 | G11: 0 | H11: -4610338 | I11: 0 | J11: 0 | K11: 30735585 | L11: 66081508 | M11: -35345923 | N11: 1.18 | O11: 61471170 | P11: 66081508 | Q11: 8
A12: 1.1.1.1.5 | B12: Suscribir acta de disponibilidad y entrega de predios | C12: 1 | D12: 1 | E12: 20197670 | F12: 17563191 | G12: 17563191 | H12: -2634479 | I12: -0.15 | J12: 0.87 | K12: 17563191 | L12: 20197670 | M12: -2634479 | N12: 0 | O12: 0 | P12: 20197670 | Q12: 9;10
A13: 1.1.1.2 | B13: Actas de vecindad formalizadas | C13: 1 | D13: 1 | E13: 106037766 | F13: 92206753 | G13: 92206753 | H13: -13831013 | I13: -0.15 | J13: 0.87 | K13: 92206753 | L13: 106037766 | M13: -13831013 | N13: 0 | O13: 0 | P13: 106037766
A14: 1.1.1.2.1 | B14: Convocar y levantar registro tecnico-fotografico de colindantes | C14: 1 | D14: 1 | E14: 40395339 | F14: 35126382 | G14: 35126382 | H14: -5268957 | I14: -0.15 | J14: 0.87 | K14: 35126382 | L14: 40395339 | M14: -5268957 | N14: 0 | O14: 0 | P14: 40395339 | Q14: 7
A15: 1.1.1.2.2 | B15: Suscribir y protocolizar las actas de vecindad | C15: 1 | D15: 1 | E15: 25247087 | F15: 21953989 | G15: 21953989 | H15: -3293098 | I15: -0.15 | J15: 0.87 | K15: 21953989 | L15: 25247087 | M15: -3293098 | N15: 0 | O15: 0 | P15: 25247087 | Q15: 13
A16: 1.1.1.2.3 | B16: Archivar soportes y registro fotografico | C16: 1 | D16: 1 | E16: 15148252 | F16: 13172393 | G16: 13172393 | H16: -1975859 | I16: -0.15 | J16: 0.87 | K16: 13172393 | L16: 15148252 | M16: -1975859 | N16: 0 | O16: 0 | P16: 15148252 | Q16: 14
A17: 1.1.1.2.4 | B17: Atender reclamaciones por afectaciones a vecinos | C17: 1 | D17: 1 | E17: 25247087 | F17: 21953989 | G17: 21953989 | H17: -3293098 | I17: -0.15 | J17: 0.87 | K17: 21953989 | L17: 25247087 | M17: -3293098 | N17: 0 | O17: 0 | P17: 25247087 | Q17: 14CC+2 días
A18: 1.1.1.3 | B18: Contratos y acuerdos legales suscritos | C18: 1 | D18: 1 | E18: 116136601 | F18: 100988349 | G18: 100988349 | H18: -15148252 | I18: -0.15 | J18: 0.87 | K18: 100988349 | L18: 116136601 | M18: -15148252 | N18: 0 | O18: 0 | P18: 116136601
A19: 1.1.1.3.1 | B19: Elaborar minutas y estudios previos | C19: 1 | D19: 1 | E19: 25247087 | F19: 21953989 | G19: 21953989 | H19: -3293098 | I19: -0.15 | J19: 0.87 | K19: 21953989 | L19: 25247087 | M19: -3293098 | N19: 0 | O19: 0 | P19: 25247087 | Q19: 4
A20: 1.1.1.3.2 | B20: Revisar juridicamente y aprobar los contratos | C20: 1 | D20: 1 | E20: 25247087 | F20: 21953989 | G20: 21953989 | H20: -3293098 | I20: -0.15 | J20: 0.87 | K20: 21953989 | L20: 25247087 | M20: -3293098 | N20: 0 | O20: 0 | P20: 25247087 | Q20: 18
A21: 1.1.1.3.3 | B21: Firmar y legalizar contratos y acuerdos con ESP | C21: 1 | D21: 1 | E21: 25247087 | F21: 21953989 | G21: 21953989 | H21: -3293098 | I21: -0.15 | J21: 0.87 | K21: 21953989 | L21: 25247087 | M21: -3293098 | N21: 0 | O21: 0 | P21: 25247087 | Q21: 19
A22: 1.1.1.3.4 | B22: Designar supervisores e interventoria | C22: 1 | D22: 1 | E22: 15148252 | F22: 13172393 | G22: 13172393 | H22: -1975859 | I22: -0.15 | J22: 0.87 | K22: 13172393 | L22: 15148252 | M22: -1975859 | N22: 0 | O22: 0 | P22: 15148252 | Q22: 20
A23: 1.1.1.3.5 | B23: Legalizar subcontratos criticos (asfalto y concreto) | C23: 1 | D23: 1 | E23: 25247087 | F23: 21953989 | G23: 21953989 | H23: -3293098 | I23: -0.15 | J23: 0.87 | K23: 21953989 | L23: 25247087 | M23: -3293098 | N23: 0 | O23: 0 | P23: 25247087 | Q23: 20
A24: 1.1.2 | B24: Cuenta de control: Tramites, Licencias y Gestion de Riesgos | C24: 0.52 | D24: 1 | E24: 453426601 | F24: 394284001 | G24: 250901008 | H24: -59142600 | I24: -0.24 | J24: 0.81 | K24: 394284001 | L24: 487224963 | M24: -92940962 | N24: 1.7 | O24: 177181355 | P24: 596809594
A25: 1.1.2.1 | B25: Licencias ambientales y de construccion vigentes | C25: 1 | D25: 1 | E25: 186828446 | F25: 162459518 | G25: 162459518 | H25: -24368928 | I25: -0.15 | J25: 0.87 | K25: 162459518 | L25: 186828446 | M25: -24368928 | N25: 0 | O25: 0 | P25: 186828446
A26: 1.1.2.1.1 | B26: Radicar solicitudes de licencias (SDA / Curaduria) | C26: 1 | D26: 1 | E26: 45444757 | F26: 39517180 | G26: 39517180 | H26: -5927577 | I26: -0.15 | J26: 0.87 | K26: 39517180 | L26: 45444757 | M26: -5927577 | N26: 0 | O26: 0 | P26: 45444757 | Q26: 4
A27: 1.1.2.1.2 | B27: Subsanar requerimientos de la autoridad | C27: 1 | D27: 1 | E27: 55543592 | F27: 48298776 | G27: 48298776 | H27: -7244816 | I27: -0.15 | J27: 0.87 | K27: 48298776 | L27: 55543592 | M27: -7244816 | N27: 0 | O27: 0 | P27: 55543592 | Q27: 25
A28: 1.1.2.1.3 | B28: Expedir y verificar la vigencia de las licencias | C28: 1 | D28: 1 | E28: 40395339 | F28: 35126382 | G28: 35126382 | H28: -5268957 | I28: -0.15 | J28: 0.87 | K28: 35126382 | L28: 40395339 | M28: -5268957 | N28: 0 | O28: 0 | P28: 40395339 | Q28: 26
A29: 1.1.2.1.4 | B29: Tramitar permiso de ocupacion de cauce y aprovechamiento forestal | C29: 1 | D29: 1 | E29: 45444757 | F29: 39517180 | G29: 39517180 | H29: -5927577 | I29: -0.15 | J29: 0.87 | K29: 39517180 | L29: 45444757 | M29: -5927577 | N29: 0 | O29: 0 | P29: 45444757 | Q29: 26
A30: 1.1.2.2 | B30: Permisos de Manejo de Trafico (PMT) aprobados | C30: 0.14 | D30: 1 | E30: 186828447 | F30: 162459519 | G30: 21953989 | H30: -24368928 | I30: -1.11 | J30: 0.47 | K30: 162459519 | L30: 342789586 | M30: -180330067 | N30: 1.21 | O30: 296466669 | P30: 327333977
A31: 1.1.2.2.1 | B31: Elaborar el Plan de Manejo de Trafico (desvios y senalizacion) | C31: 0 | D31: 1 | E31: 75741262 | F31: 65861967 | G31: 0 | H31: -9879295 | I31: 0 | J31: 0 | K31: 65861967 | L31: 141603229 | M31: -75741262 | N31: 1.18 | O31: 131723934 | P31: 141603229 | Q31: 4
A32: 1.1.2.2.2 | B32: Radicar y ajustar el PMT ante la SDM | C32: 0 | D32: 1 | E32: 60593010 | F32: 52689574 | G32: 0 | H32: -7903436 | I32: 0 | J32: 0 | K32: 52689574 | L32: 113282584 | M32: -60593010 | N32: 1.18 | O32: 105379148 | P32: 113282584 | Q32: 30
A33: 1.1.2.2.3 | B33: Aprobar e implementar el PMT en sitio | C33: 0 | D33: 1 | E33: 25247087 | F33: 21953989 | G33: 0 | H33: -3293098 | I33: 0 | J33: 0 | K33: 21953989 | L33: 47201076 | M33: -25247087 | N33: 1.18 | O33: 43907978 | P33: 47201076 | Q33: 31
A34: 1.1.2.2.4 | B34: Comunicar desvios y plan de cierres a la comunidad | C34: 1 | D34: 1 | E34: 25247087 | F34: 21953989 | G34: 21953989 | H34: -3293098 | I34: -0.15 | J34: 0.87 | K34: 21953989 | L34: 25247087 | M34: -3293098 | N34: 0 | O34: 0 | P34: 25247087 | Q34: 32CC+2 días
A35: 1.1.2.3 | B35: Plan de Manejo Arqueologico aprobado y ejecutado | C35: 0.19 | D35: 1 | E35: 4028448 | F35: 3502998 | G35: 625535 | H35: -525450 | I35: -0.84 | J35: 0.54 | K35: 3502998 | L35: 6445518 | M35: -2942520 | N35: 1.22 | O35: 5294533 | P35: 6905911
A36: 1.1.2.3.1 | B36: Formular el Plan de Manejo Arqueologico ante el ICANH | C36: 0 | D36: 1 | E36: 1007113 | F36: 875750 | G36: 0 | H36: -131363 | I36: 0 | J36: 0 | K36: 875750 | L36: 1882863 | M36: -1007113 | N36: 1.18 | O36: 1751500 | P36: 1882863 | Q36: 4
A37: 1.1.2.3.2 | B37: Aprobar el plan ante el ICANH | C37: 0 | D37: 1 | E37: 719365 | F37: 625535 | G37: 0 | H37: -93830 | I37: 0 | J37: 0 | K37: 625535 | L37: 1344900 | M37: -719365 | N37: 1.18 | O37: 1251070 | P37: 1344900 | Q37: 35
A38: 1.1.2.3.3 | B38: Monitorear arqueologicamente durante las excavaciones | C38: 0 | D38: 1 | E38: 1582605 | F38: 1376178 | G38: 0 | H38: -206427 | I38: 0 | J38: 0 | K38: 1376178 | L38: 2958783 | M38: -1582605 | N38: 1.18 | O38: 2752356 | P38: 2958783 | Q38: 36
A39: 1.1.2.3.4 | B39: Elaborar informe final de monitoreo y entregar al ICANH | C39: 1 | D39: 1 | E39: 719365 | F39: 625535 | G39: 625535 | H39: -93830 | I39: -0.15 | J39: 0.87 | K39: 625535 | L39: 719365 | M39: -93830 | N39: 0 | O39: 0 | P39: 719365 | Q39: 37
A40: 1.1.2.4 | B40: Politicas de estabilidad de obra constituidas | C40: 1 | D40: 1 | E40: 75741261 | F40: 65861966 | G40: 65861966 | H40: -9879295 | I40: -0.15 | J40: 0.87 | K40: 65861966 | L40: 75741261 | M40: -9879295 | N40: 0 | O40: 0 | P40: 75741261
A41: 1.1.2.4.1 | B41: Solicitar, cotizar y constituir las polizas | C41: 1 | D41: 1 | E41: 25247087 | F41: 21953989 | G41: 21953989 | H41: -3293098 | I41: -0.15 | J41: 0.87 | K41: 21953989 | L41: 25247087 | M41: -3293098 | N41: 0 | O41: 0 | P41: 25247087 | Q41: 4
A42: 1.1.2.4.2 | B42: Aprobar las polizas por interventoria | C42: 1 | D42: 1 | E42: 20197670 | F42: 17563191 | G42: 17563191 | H42: -2634479 | I42: -0.15 | J42: 0.87 | K42: 17563191 | L42: 20197670 | M42: -2634479 | N42: 0 | O42: 0 | P42: 20197670 | Q42: 40
A43: 1.1.2.4.3 | B43: Verificar vigencias y endosos de polizas | C43: 1 | D43: 1 | E43: 15148252 | F43: 13172393 | G43: 13172393 | H43: -1975859 | I43: -0.15 | J43: 0.87 | K43: 13172393 | L43: 15148252 | M43: -1975859 | N43: 0 | O43: 0 | P43: 15148252 | Q43: 41
A44: 1.1.2.4.4 | B44: Endosar las polizas a favor del IDU | C44: 1 | D44: 1 | E44: 15148252 | F44: 13172393 | G44: 13172393 | H44: -1975859 | I44: -0.15 | J44: 0.87 | K44: 13172393 | L44: 15148252 | M44: -1975859 | N44: 0 | O44: 0 | P44: 15148252 | Q44: 42
A45: 1.1.9 | B45: Hito: Acta de inicio firmada | C45: 1 | D45: 1 | E45: 0 | F45: 0 | G45: 0 | H45: 0 | I45: 0 | J45: 0 | K45: 0 | L45: 0 | M45: 0 | N45: 0 | O45: 0 | P45: 0 | Q45: 4
A46: 1.2 | B46: Fase: Estudios y Disenos (Fase III) | C46: 1 | D46: 1 | E46: 1004834079 | F46: 873768764 | G46: 873768764 | H46: -131065315 | I46: -0.15 | J46: 0.87 | K46: 873768764 | L46: 1004834079 | M46: -131065315 | N46: 0 | O46: 0 | P46: 1004834079
A47: 1.2.1 | B47: Cuenta de control: Estudios Tecnicos de Detalle | C47: 1 | D47: 1 | E47: 414052233 | F47: 360045420 | G47: 360045420 | H47: -54006813 | I47: -0.15 | J47: 0.87 | K47: 360045420 | L47: 414052233 | M47: -54006813 | N47: 0 | O47: 0 | P47: 414052233
A48: 1.2.1.1 | B48: Levantamientos topograficos y estudios geotecnicos finales | C48: 1 | D48: 1 | E48: 227223787 | F48: 197585902 | G48: 197585902 | H48: -29637885 | I48: -0.15 | J48: 0.87 | K48: 197585902 | L48: 227223787 | M48: -29637885 | N48: 0 | O48: 0 | P48: 227223787
A49: 1.2.1.1.1 | B49: Realizar comision topografica y levantamiento de detalle | C49: 1 | D49: 1 | E49: 55543592 | F49: 48298776 | G49: 48298776 | H49: -7244816 | I49: -0.15 | J49: 0.87 | K49: 48298776 | L49: 55543592 | M49: -7244816 | N49: 0 | O49: 0 | P49: 55543592 | Q49: 11;27;32;43
A50: 1.2.1.1.2 | B50: Explorar el subsuelo (sondeos y apiques) | C50: 1 | D50: 1 | E50: 50494175 | F50: 43907978 | G50: 43907978 | H50: -6586197 | I50: -0.15 | J50: 0.87 | K50: 43907978 | L50: 50494175 | M50: -6586197 | N50: 0 | O50: 0 | P50: 50494175 | Q50: 48
A51: 1.2.1.1.3 | B51: Ejecutar ensayos de laboratorio y elaborar informe geotecnico | C51: 1 | D51: 1 | E51: 50494175 | F51: 43907978 | G51: 43907978 | H51: -6586197 | I51: -0.15 | J51: 0.87 | K51: 43907978 | L51: 50494175 | M51: -6586197 | N51: 0 | O51: 0 | P51: 50494175 | Q51: 49
A52: 1.2.1.1.4 | B52: Elaborar estudio hidrologico e hidraulico del corredor | C52: 1 | D52: 1 | E52: 35345923 | F52: 30735585 | G52: 30735585 | H52: -4610338 | I52: -0.15 | J52: 0.87 | K52: 30735585 | L52: 35345923 | M52: -4610338 | N52: 0 | O52: 0 | P52: 35345923 | Q52: 49
A53: 1.2.1.1.5 | B53: Elaborar estudio de transito y capacidad de la interseccion | C53: 1 | D53: 1 | E53: 35345923 | F53: 30735585 | G53: 30735585 | H53: -4610338 | I53: -0.15 | J53: 0.87 | K53: 30735585 | L53: 35345923 | M53: -4610338 | N53: 0 | O53: 0 | P53: 35345923 | Q53: 48
A54: 1.2.1.2 | B54: Informe de maduracion tecnica del proyecto (IDU) | C54: 1 | D54: 1 | E54: 186828446 | F54: 162459518 | G54: 162459518 | H54: -24368928 | I54: -0.15 | J54: 0.87 | K54: 162459518 | L54: 186828446 | M54: -24368928 | N54: 0 | O54: 0 | P54: 186828446
A55: 1.2.1.2.1 | B55: Consolidar la informacion tecnica y de costos | C55: 1 | D55: 1 | E55: 45444757 | F55: 39517180 | G55: 39517180 | H55: -5927577 | I55: -0.15 | J55: 0.87 | K55: 39517180 | L55: 45444757 | M55: -5927577 | N55: 0 | O55: 0 | P55: 45444757 | Q55: 50
A56: 1.2.1.2.2 | B56: Elaborar el informe de maduracion (GU-FP-04) | C56: 1 | D56: 1 | E56: 40395339 | F56: 35126382 | G56: 35126382 | H56: -5268957 | I56: -0.15 | J56: 0.87 | K56: 35126382 | L56: 40395339 | M56: -5268957 | N56: 0 | O56: 0 | P56: 40395339 | Q56: 54
A57: 1.2.1.2.3 | B57: Revisar y avalar la maduracion por el IDU | C57: 1 | D57: 1 | E57: 40395339 | F57: 35126382 | G57: 35126382 | H57: -5268957 | I57: -0.15 | J57: 0.87 | K57: 35126382 | L57: 40395339 | M57: -5268957 | N57: 0 | O57: 0 | P57: 40395339 | Q57: 55
A58: 1.2.1.2.4 | B58: Actualizar el presupuesto y los APU | C58: 1 | D58: 1 | E58: 25247087 | F58: 21953989 | G58: 21953989 | H58: -3293098 | I58: -0.15 | J58: 0.87 | K58: 21953989 | L58: 25247087 | M58: -3293098 | N58: 0 | O58: 0 | P58: 25247087 | Q58: 55
A59: 1.2.1.2.5 | B59: Gestionar vistos buenos y concertacion interinstitucional | C59: 1 | D59: 1 | E59: 35345923 | F59: 30735585 | G59: 30735585 | H59: -4610338 | I59: -0.15 | J59: 0.87 | K59: 30735585 | L59: 35345923 | M59: -4610338 | N59: 0 | O59: 0 | P59: 35345923 | Q59: 56
A60: 1.2.2 | B60: Cuenta de control: Disenos de Especialidad | C60: 1 | D60: 1 | E60: 570584176 | F60: 496160153 | G60: 496160153 | H60: -74424023 | I60: -0.15 | J60: 0.87 | K60: 496160153 | L60: 570584176 | M60: -74424023 | N60: 0 | O60: 0 | P60: 570584176
A61: 1.2.2.1 | B61: Disenos de pavimentos y mezclas asfalticas aprobadas | C61: 1 | D61: 1 | E61: 171680194 | F61: 149287125 | G61: 149287125 | H61: -22393069 | I61: -0.15 | J61: 0.87 | K61: 149287125 | L61: 171680194 | M61: -22393069 | N61: 0 | O61: 0 | P61: 171680194
A62: 1.2.2.1.1 | B62: Disenar la estructura del pavimento | C62: 1 | D62: 1 | E62: 50494175 | F62: 43907978 | G62: 43907978 | H62: -6586197 | I62: -0.15 | J62: 0.87 | K62: 43907978 | L62: 50494175 | M62: -6586197 | N62: 0 | O62: 0 | P62: 50494175 | Q62: 50
A63: 1.2.2.1.2 | B63: Disenar las mezclas y la formula de trabajo (MDC-25/MDC-19 GCR) | C63: 1 | D63: 1 | E63: 40395339 | F63: 35126382 | G63: 35126382 | H63: -5268957 | I63: -0.15 | J63: 0.87 | K63: 35126382 | L63: 40395339 | M63: -5268957 | N63: 0 | O63: 0 | P63: 40395339 | Q63: 61
A64: 1.2.2.1.3 | B64: Aprobar los disenos de pavimento por interventoria | C64: 1 | D64: 1 | E64: 25247087 | F64: 21953989 | G64: 21953989 | H64: -3293098 | I64: -0.15 | J64: 0.87 | K64: 21953989 | L64: 25247087 | M64: -3293098 | N64: 0 | O64: 0 | P64: 25247087 | Q64: 62
A65: 1.2.2.1.4 | B65: Disenar la senalizacion y los dispositivos de trafico | C65: 1 | D65: 1 | E65: 30296505 | F65: 26344787 | G65: 26344787 | H65: -3951718 | I65: -0.15 | J65: 0.87 | K65: 26344787 | L65: 30296505 | M65: -3951718 | N65: 0 | O65: 0 | P65: 30296505 | Q65: 62
A66: 1.2.2.1.5 | B66: Aprobar el diseno de pavimento final por el IDU | C66: 1 | D66: 1 | E66: 25247087 | F66: 21953989 | G66: 21953989 | H66: -3293098 | I66: -0.15 | J66: 0.87 | K66: 21953989 | L66: 25247087 | M66: -3293098 | N66: 0 | O66: 0 | P66: 25247087 | Q66: 63
A67: 1.2.2.2 | B67: Disenos de redes de servicios publicos (humedas y secas) ajustados | C67: 1 | D67: 1 | E67: 237322623 | F67: 206367498 | G67: 206367498 | H67: -30955125 | I67: -0.15 | J67: 0.87 | K67: 206367498 | L67: 237322623 | M67: -30955125 | N67: 0 | O67: 0 | P67: 237322623
A68: 1.2.2.2.1 | B68: Ajustar los disenos de redes humedas con la EAAB | C68: 1 | D68: 1 | E68: 60593010 | F68: 52689574 | G68: 52689574 | H68: -7903436 | I68: -0.15 | J68: 0.87 | K68: 52689574 | L68: 60593010 | M68: -7903436 | N68: 0 | O68: 0 | P68: 60593010 | Q68: 56
A69: 1.2.2.2.2 | B69: Ajustar los disenos de redes secas (energia y telecom) | C69: 1 | D69: 1 | E69: 60593010 | F69: 52689574 | G69: 52689574 | H69: -7903436 | I69: -0.15 | J69: 0.87 | K69: 52689574 | L69: 60593010 | M69: -7903436 | N69: 0 | O69: 0 | P69: 60593010 | Q69: 56
A70: 1.2.2.2.3 | B70: Tramitar la no-objecion de las ESP | C70: 1 | D70: 1 | E70: 55543592 | F70: 48298776 | G70: 48298776 | H70: -7244816 | I70: -0.15 | J70: 0.87 | K70: 48298776 | L70: 55543592 | M70: -7244816 | N70: 0 | O70: 0 | P70: 55543592 | Q70: 67;68
A71: 1.2.2.2.4 | B71: Compatibilizar con las redes existentes (EAAB/Enel/Vanti) | C71: 1 | D71: 1 | E71: 30296505 | F71: 26344787 | G71: 26344787 | H71: -3951718 | I71: -0.15 | J71: 0.87 | K71: 26344787 | L71: 30296505 | M71: -3951718 | N71: 0 | O71: 0 | P71: 30296505 | Q71: 69
A72: 1.2.2.2.5 | B72: Elaborar planos de detalle y especificaciones de redes | C72: 1 | D72: 1 | E72: 30296505 | F72: 26344787 | G72: 26344787 | H72: -3951718 | I72: -0.15 | J72: 0.87 | K72: 26344787 | L72: 30296505 | M72: -3951718 | N72: 0 | O72: 0 | P72: 30296505 | Q72: 70
A73: 1.2.2.3 | B73: Modelado BIM de la infraestructura proyectada | C73: 1 | D73: 1 | E73: 161581360 | F73: 140505530 | G73: 140505530 | H73: -21075830 | I73: -0.15 | J73: 0.87 | K73: 140505530 | L73: 161581360 | M73: -21075830 | N73: 0 | O73: 0 | P73: 161581360
A74: 1.2.2.3.1 | B74: Desarrollar los modelos BIM por disciplina | C74: 1 | D74: 1 | E74: 50494175 | F74: 43907978 | G74: 43907978 | H74: -6586197 | I74: -0.15 | J74: 0.87 | K74: 43907978 | L74: 50494175 | M74: -6586197 | N74: 0 | O74: 0 | P74: 50494175 | Q74: 63
A75: 1.2.2.3.2 | B75: Coordinar y detectar interferencias | C75: 1 | D75: 1 | E75: 35345923 | F75: 30735585 | G75: 30735585 | H75: -4610338 | I75: -0.15 | J75: 0.87 | K75: 30735585 | L75: 35345923 | M75: -4610338 | N75: 0 | O75: 0 | P75: 35345923 | Q75: 73
A76: 1.2.2.3.3 | B76: Entregar el modelo federado y la documentacion | C76: 1 | D76: 1 | E76: 25247087 | F76: 21953989 | G76: 21953989 | H76: -3293098 | I76: -0.15 | J76: 0.87 | K76: 21953989 | L76: 25247087 | M76: -3293098 | N76: 0 | O76: 0 | P76: 25247087 | Q76: 74
A77: 1.2.2.3.4 | B77: Cuantificar las cantidades desde el modelo BIM | C77: 1 | D77: 1 | E77: 25247087 | F77: 21953989 | G77: 21953989 | H77: -3293098 | I77: -0.15 | J77: 0.87 | K77: 21953989 | L77: 25247087 | M77: -3293098 | N77: 0 | O77: 0 | P77: 25247087 | Q77: 75
A78: 1.2.2.3.5 | B78: Vincular el modelo BIM al cronograma (4D) | C78: 1 | D78: 1 | E78: 25247087 | F78: 21953989 | G78: 21953989 | H78: -3293098 | I78: -0.15 | J78: 0.87 | K78: 21953989 | L78: 25247087 | M78: -3293098 | N78: 0 | O78: 0 | P78: 25247087 | Q78: 76
A79: 1.2.3 | B79: Suscribir el acta de cambio de fase (Estudios -> Construccion) | C79: 1 | D79: 1 | E79: 20197670 | F79: 17563191 | G79: 17563191 | H79: -2634479 | I79: -0.15 | J79: 0.87 | K79: 17563191 | L79: 20197670 | M79: -2634479 | N79: 0 | O79: 0 | P79: 20197670 | Q79: 69;63;75;32;27;79;11;15;16;21;22;28;33;43;51;52;57;58;64;65;77
A80: 1.2.8 | B80: Hito: Aprobacion de estudios y disenos por las ESP de Bogota (EAAB, Enel-Codensa, Vanti) | C80: 1 | D80: 1 | E80: 0 | F80: 0 | G80: 0 | H80: 0 | I80: 0 | J80: 0 | K80: 0 | L80: 0 | M80: 0 | N80: 0 | O80: 0 | P80: 0 | Q80: 69;70;71
A81: 1.2.9 | B81: Hito: Inicio de Construccion | C81: 1 | D81: 1 | E81: 0 | F81: 0 | G81: 0 | H81: 0 | I81: 0 | J81: 0 | K81: 0 | L81: 0 | M81: 0 | N81: 0 | O81: 0 | P81: 0 | Q81: 78
A82: 1.3 | B82: Fase: Construccion de Obra Civil | C82: 0.87 | D82: 0.87 | E82: 10623234280 | F82: 9113037179 | G82: 9065591621 | H82: -1385639254 | I82: -0.15 | J82: 0.87 | K82: 10197470837 | L82: 11756113281 | M82: -1558642444 | N82: -4.46 | O82: 1304882407 | P82: 11583110091
A83: 1.3.1 | B83: Cuenta de control: Infraestructura de Redes de Servicios | C83: 1 | D83: 1 | E83: 3980817037 | F83: 3461580032 | G83: 3461580032 | H83: -519237005 | I83: -0.15 | J83: 0.87 | K83: 3461580032 | L83: 3980817037 | M83: -519237005 | N83: 0 | O83: 0 | P83: 3980817037
A84: 1.3.1.1 | B84: Redes hidrosanitarias (humedas) renovadas y probadas | C84: 1 | D84: 1 | E84: 3042315225 | F84: 2645491500 | G84: 2645491500 | H84: -396823725 | I84: -0.15 | J84: 0.87 | K84: 2645491500 | L84: 3042315225 | M84: -396823725 | N84: 0 | O84: 0 | P84: 3042315225
A85: 1.3.1.1.0 | B85: Instalar el campamento de obra (preliminares) | C85: 1 | D85: 1 | E85: 162948224 | F85: 141694108 | G85: 141694108 | H85: -21254116 | I85: -0.15 | J85: 0.87 | K85: 141694108 | L85: 162948224 | M85: -21254116 | N85: 0 | O85: 0 | P85: 162948224 | Q85: 78
A86: 1.3.1.1.1 | B86: Trasladar insumos y maquinaria a obra (preliminares) | C86: 1 | D86: 1 | E86: 122211168 | F86: 106270581 | G86: 106270581 | H86: -15940587 | I86: -0.15 | J86: 0.87 | K86: 106270581 | L86: 122211168 | M86: -15940587 | N86: 0 | O86: 0 | P86: 122211168 | Q86: 84
A87: 1.3.1.1.2 | B87: Localizar y replantear topograficamente la via (preliminares) | C87: 1 | D87: 1 | E87: 162948224 | F87: 141694108 | G87: 141694108 | H87: -21254116 | I87: -0.15 | J87: 0.87 | K87: 141694108 | L87: 162948224 | M87: -21254116 | N87: 0 | O87: 0 | P87: 162948224 | Q87: 85
A88: 1.3.1.1.3 | B88: Demoler y descapotar para redes (preliminares) | C88: 1 | D88: 1 | E88: 285159394 | F88: 247964690 | G88: 247964690 | H88: -37194704 | I88: -0.15 | J88: 0.87 | K88: 247964690 | L88: 285159394 | M88: -37194704 | N88: 0 | O88: 0 | P88: 285159394 | Q88: 86
A89: 1.3.1.1.4 | B89: Excavar la zanja para redes en el Tramo 1 | C89: 1 | D89: 1 | E89: 142095274 | F89: 123561108 | G89: 123561108 | H89: -18534166 | I89: -0.15 | J89: 0.87 | K89: 123561108 | L89: 142095274 | M89: -18534166 | N89: 0 | O89: 0 | P89: 142095274 | Q89: 87
A90: 1.3.1.1.5 | B90: Excavar la zanja para redes en los Tramos 2-3 | C90: 1 | D90: 1 | E90: 177619094 | F90: 154451386 | G90: 154451386 | H90: -23167708 | I90: -0.15 | J90: 0.87 | K90: 154451386 | L90: 177619094 | M90: -23167708 | N90: 0 | O90: 0 | P90: 177619094 | Q90: 88
A91: 1.3.1.1.6 | B91: Instalar alcantarillado pluvial y sanitario en el Tramo 1 | C91: 1 | D91: 1 | E91: 195381003 | F91: 169896524 | G91: 169896524 | H91: -25484479 | I91: -0.15 | J91: 0.87 | K91: 169896524 | L91: 195381003 | M91: -25484479 | N91: 0 | O91: 0 | P91: 195381003 | Q91: 88
A92: 1.3.1.1.7 | B92: Instalar alcantarillado pluvial y sanitario en el Tramo 2 | C92: 1 | D92: 1 | E92: 230904821 | F92: 200786801 | G92: 200786801 | H92: -30118020 | I92: -0.15 | J92: 0.87 | K92: 200786801 | L92: 230904821 | M92: -30118020 | N92: 0 | O92: 0 | P92: 230904821 | Q92: 90;89
A93: 1.3.1.1.8 | B93: Instalar alcantarillado pluvial y sanitario en el Tramo 3 | C93: 1 | D93: 1 | E93: 213142913 | F93: 185341663 | G93: 185341663 | H93: -27801250 | I93: -0.15 | J93: 0.87 | K93: 185341663 | L93: 213142913 | M93: -27801250 | N93: 0 | O93: 0 | P93: 213142913 | Q93: 91
A94: 1.3.1.1.9 | B94: Instalar la red de acueducto en los Tramos 1-2 | C94: 1 | D94: 1 | E94: 195381003 | F94: 169896524 | G94: 169896524 | H94: -25484479 | I94: -0.15 | J94: 0.87 | K94: 169896524 | L94: 195381003 | M94: -25484479 | N94: 0 | O94: 0 | P94: 195381003 | Q94: 88
A95: 1.3.1.1.10 | B95: Instalar la red de acueducto en el Tramo 3 y accesorios | C95: 1 | D95: 1 | E95: 177619094 | F95: 154451386 | G95: 154451386 | H95: -23167708 | I95: -0.15 | J95: 0.87 | K95: 154451386 | L95: 177619094 | M95: -23167708 | N95: 0 | O95: 0 | P95: 177619094 | Q95: 93
A96: 1.3.1.1.11 | B96: Rellenar y compactar las zanjas | C96: 1 | D96: 1 | E96: 142095274 | F96: 123561108 | G96: 123561108 | H96: -18534166 | I96: -0.15 | J96: 0.87 | K96: 123561108 | L96: 142095274 | M96: -18534166 | N96: 0 | O96: 0 | P96: 142095274 | Q96: 92;94
A97: 1.3.1.1.12 | B97: Ejecutar pruebas hidraulicas y empalmar a la red existente | C97: 1 | D97: 1 | E97: 142095274 | F97: 123561108 | G97: 123561108 | H97: -18534166 | I97: -0.15 | J97: 0.87 | K97: 123561108 | L97: 142095274 | M97: -18534166 | N97: 0 | O97: 0 | P97: 142095274 | Q97: 95
A98: 1.3.1.1.13 | B98: Completar y entregar las redes humedas para revision de la EAAB | C98: 1 | D98: 1 | E98: 124333366 | F98: 108115970 | G98: 108115970 | H98: -16217396 | I98: -0.15 | J98: 0.87 | K98: 108115970 | L98: 124333366 | M98: -16217396 | N98: 0 | O98: 0 | P98: 124333366 | Q98: 96
A99: 1.3.1.1.15 | B99: Construir pozos de inspeccion y conexiones domiciliarias del Tramo 1 | C99: 1 | D99: 1 | E99: 106571456 | F99: 92670831 | G99: 92670831 | H99: -13900625 | I99: -0.15 | J99: 0.87 | K99: 92670831 | L99: 106571456 | M99: -13900625 | N99: 0 | O99: 0 | P99: 106571456 | Q99: 90
A100: 1.3.1.1.16 | B100: Construir pozos de inspeccion y conexiones domiciliarias del Tramo 2 | C100: 1 | D100: 1 | E100: 124333366 | F100: 108115970 | G100: 108115970 | H100: -16217396 | I100: -0.15 | J100: 0.87 | K100: 108115970 | L100: 124333366 | M100: -16217396 | N100: 0 | O100: 0 | P100: 124333366 | Q100: 91
...

Sheet Análisis EVM
A1: EDT | B1: Nombre de tarea | C1: % completado | D1: % Planeado | E1: Costo real | F1: Valor planeado: PV (CPTP) | G1: Valor acumulado: VA (CPTR) | H1: VC | I1: %VC | J1: IRC | K1: CPF | L1: CEF | M1: VAF | N1: IRPC | O1: ETC | P1: Costo | Q1: Predecesoras | R1: Nivel | S1: ANÁLISIS EVM — ESTADO DEL PROYECTO | W1: CPI tarea (supuesto)
A2: 1 | B2: Empalme Vial Avenida Mutis - Transversal 112B Bis A (IDU-2412-2024) | C2: =IF(K2=0,0,G2/K2) -> 0.75238746 | D2: 0.85 | E2: =SUMIFS(E3:E165,$R3:$R165,1) -> 1.0546064e+10 | F2: =SUMIFS(F3:F165,$R3:$R165,1) -> 10918382784 | G2: =SUMIFS(G3:G165,$R3:$R165,1) -> 9.2806253e+09 | H2: =G2-E2 -> -1.2654391e+09 | I2: =IF(G2=0,0,H2/G2) -> -0.13635278 | J2: =IF(E2=0,0,G2/E2) -> 0.88000841 | K2: =SUMIFS(K3:K165,$R3:$R165,1) -> 12334901565 | L2: =IF(J2=0,K2,K2/J2) -> 1.40168e+10 | M2: =K2-L2 -> -1.6818981e+09 | N2: =IF((K2-E2)=0,0,(K2-G2)/(K2-E2)) -> 1.7074087 | O2: =L2-E2 -> 3.4707354e+09 | P2: =L2 -> 1.40168e+10 | R2: 0
A3: 1.1 | B3: Fase: Requisitos y Gestion Administrativa | C3: =IF(K3=0,0,G3/K3) -> 0.67542953 | D3: 1 | E3: =SUMIFS(E4:E45,$R4:$R45,2) -> 6.4663408e+08 | F3: =SUMIFS(F4:F45,$R4:$R45,2) -> 807018994 | G3: =SUMIFS(G4:G45,$R4:$R45,2) -> 5.4508446e+08 | H3: =G3-E3 -> -1.0154962e+08 | I3: =IF(G3=0,0,H3/G3) -> -0.18630071 | J3: =IF(E3=0,0,G3/E3) -> 0.84295659 | K3: =SUMIFS(K4:K45,$R4:$R45,2) -> 807018994 | L3: =IF(J3=0,K3,K3/J3) -> 9.5736721e+08 | M3: =K3-L3 -> -1.5034821e+08 | N3: =IF((K3-E3)=0,0,(K3-G3)/(K3-E3)) -> 1.6331619 | O3: =L3-E3 -> 3.1073312e+08 | P3: =L3 -> 9.5736721e+08 | R3: 1 | S3: Parámetros | T3: 0.88
A4: 1.1.1 | B4: Inicio | C4: 1 | D4: 1 | E4: =IF(G4>0,G4/W4,0) -> 0 | F4: =D4*K4 -> 0 | G4: =C4*K4 -> 0 | H4: =G4-E4 -> 0 | I4: =IF(G4=0,0,H4/G4) -> 0 | J4: =IF(E4=0,0,G4/E4) -> 0 | K4: 0 | L4: =IF(J4=0,K4,K4/J4) -> 0 | M4: =K4-L4 -> 0 | N4: =IF((K4-E4)=0,0,(K4-G4)/(K4-E4)) -> 0 | O4: =L4-E4 -> 0 | P4: =L4 -> 0 | R4: 2 | S4: CPI objetivo (impulsa Costo real) | T4: =T3 -> 0.88
A5: 1.1.0 | B5: Suscribir el acta de inicio del contrato | C5: 1 | D5: 1 | E5: =IF(G5>0,G5/W5,0) -> 10813442 | F5: =D5*K5 -> 8781596 | G5: =C5*K5 -> 8781596 | H5: =G5-E5 -> -2031845.7 | I5: =IF(G5=0,0,H5/G5) -> -0.23137545 | J5: =IF(E5=0,0,G5/E5) -> 0.8121 | K5: 8781596 | L5: =IF(J5=0,K5,K5/J5) -> 10813442 | M5: =K5-L5 -> -2031845.7 | N5: =IF((K5-E5)=0,0,(K5-G5)/(K5-E5)) -> 0 | O5: =L5-E5 -> 0 | P5: =L5 -> 10813442 | Q5: 3 | R5: 2 | S5: % Completado objetivo | T5: 0.85 | W5: 0.8121
A6: 1.1.1 | B6: Cuenta de control: Gestion de Predios y Legal | C6: =IF(K6=0,0,G6/K6) -> 0.64130435 | D6: 1 | E6: =SUMIFS(E7:E23,$R7:$R23,3) -> 3.0789482e+08 | F6: =SUMIFS(F7:F23,$R7:$R23,3) -> 403953397 | G6: =SUMIFS(G7:G23,$R7:$R23,3) -> 259057069 | H6: =G6-E6 -> -48837746 | I6: =IF(G6=0,0,H6/G6) -> -0.18852119 | J6: =IF(E6=0,0,G6/E6) -> 0.84138172 | K6: =SUMIFS(K7:K23,$R7:$R23,3) -> 403953397 | L6: =IF(J6=0,K6,K6/J6) -> 4.8010717e+08 | M6: =K6-L6 -> -76153774 | N6: =IF((K6-E6)=0,0,(K6-G6)/(K6-E6)) -> 1.5084163 | O6: =L6-E6 -> 1.7221236e+08 | P6: =L6 -> 4.8010717e+08 | R6: 2
A7: 1.1.1.1 | B7: Titulos de propiedad de predios adquiridos | C7: =IF(K7=0,0,G7/K7) -> 0.3125 | D7: 1 | E7: =SUMIFS(E8:E12,$R8:$R12,4) -> 78175103 | F7: =SUMIFS(F8:F12,$R8:$R12,4) -> 210758295 | G7: =SUMIFS(G8:G12,$R8:$R12,4) -> 65861967 | H7: =G7-E7 -> -12313136 | I7: =IF(G7=0,0,H7/G7) -> -0.18695366 | J7: =IF(E7=0,0,G7/E7) -> 0.84249287 | K7: =SUMIFS(K8:K12,$R8:$R12,4) -> 210758295 | L7: =IF(J7=0,K7,K7/J7) -> 2.5016033e+08 | M7: =K7-L7 -> -39402035 | N7: =IF((K7-E7)=0,0,(K7-G7)/(K7-E7)) -> 1.092871 | O7: =L7-E7 -> 1.7198523e+08 | P7: =L7 -> 2.5016033e+08 | R7: 3 | S7: Indicadores del proyecto
A8: 1.1.1.1.1 | B8: Identificar predios, elaborar ficha predial y avaluo comercial | C8: 1 | D8: 1 | E8: =IF(G8>0,G8/W8,0) -> 56044066 | F8: =D8*K8 -> 48298776 | G8: =C8*K8 -> 48298776 | H8: =G8-E8 -> -7745289.9 | I8: =IF(G8=0,0,H8/G8) -> -0.16036203 | J8: =IF(E8=0,0,G8/E8) -> 0.8618 | K8: 48298776 | L8: =IF(J8=0,K8,K8/J8) -> 56044066 | M8: =K8-L8 -> -7745289.9 | N8: =IF((K8-E8)=0,0,(K8-G8)/(K8-E8)) -> 0 | O8: =L8-E8 -> 0 | P8: =L8 -> 56044066 | Q8: 4 | R8: 4 | S8: Presupuesto (BAC) | T8: =K2 -> 12334901565 | W8: 0.8618
A9: 1.1.1.1.2 | B9: Negociar y suscribir promesas de compraventa | C9: 0 | D9: 1 | E9: =IF(G9>0,G9/W9,0) -> 0 | F9: =D9*K9 -> 65861967 | G9: =C9*K9 -> 0 | H9: =G9-E9 -> 0 | I9: =IF(G9=0,0,H9/G9) -> 0 | J9: =IF(E9=0,0,G9/E9) -> 0 | K9: 65861967 | L9: =IF(J9=0,K9,K9/J9) -> 65861967 | M9: =K9-L9 -> 0 | N9: =IF((K9-E9)=0,0,(K9-G9)/(K9-E9)) -> 1 | O9: =L9-E9 -> 65861967 | P9: =L9 -> 65861967 | Q9: 7 | R9: 4 | S9: Valor planeado (PV) | T9: =F2 -> 10918382784
A10: 1.1.1.1.3 | B10: Escriturar y registrar los titulos de propiedad | C10: 0 | D10: 1 | E10: =IF(G10>0,G10/W10,0) -> 0 | F10: =D10*K10 -> 48298776 | G10: =C10*K10 -> 0 | H10: =G10-E10 -> 0 | I10: =IF(G10=0,0,H10/G10) -> 0 | J10: =IF(E10=0,0,G10/E10) -> 0 | K10: 48298776 | L10: =IF(J10=0,K10,K10/J10) -> 48298776 | M10: =K10-L10 -> 0 | N10: =IF((K10-E10)=0,0,(K10-G10)/(K10-E10)) -> 1 | O10: =L10-E10 -> 48298776 | P10: =L10 -> 48298776 | Q10: 8 | R10: 4 | S10: Valor ganado (EV) | T10: =G2 -> 9.2806253e+09
A11: 1.1.1.1.4 | B11: Gestionar servidumbres y reubicaciones | C11: 0 | D11: 1 | E11: =IF(G11>0,G11/W11,0) -> 0 | F11: =D11*K11 -> 30735585 | G11: =C11*K11 -> 0 | H11: =G11-E11 -> 0 | I11: =IF(G11=0,0,H11/G11) -> 0 | J11: =IF(E11=0,0,G11/E11) -> 0 | K11: 30735585 | L11: =IF(J11=0,K11,K11/J11) -> 30735585 | M11: =K11-L11 -> 0 | N11: =IF((K11-E11)=0,0,(K11-G11)/(K11-E11)) -> 1 | O11: =L11-E11 -> 30735585 | P11: =L11 -> 30735585 | Q11: 8 | R11: 4 | S11: Costo real (AC) | T11: =E2 -> 1.0546064e+10
A12: 1.1.1.1.5 | B12: Suscribir acta de disponibilidad y entrega de predios | C12: 1 | D12: 1 | E12: =IF(G12>0,G12/W12,0) -> 22131037 | F12: =D12*K12 -> 17563191 | G12: =C12*K12 -> 17563191 | H12: =G12-E12 -> -4567846 | I12: =IF(G12=0,0,H12/G12) -> -0.26008065 | J12: =IF(E12=0,0,G12/E12) -> 0.7936 | K12: 17563191 | L12: =IF(J12=0,K12,K12/J12) -> 22131037 | M12: =K12-L12 -> -4567846 | N12: =IF((K12-E12)=0,0,(K12-G12)/(K12-E12)) -> 0 | O12: =L12-E12 -> 0 | P12: =L12 -> 22131037 | Q12: 9;10 | R12: 4 | S12: % Completado | T12: =C2 -> 0.75238746 | W12: 0.7936
A13: 1.1.1.2 | B13: Actas de vecindad formalizadas | C13: =IF(K13=0,0,G13/K13) -> 1 | D13: 1 | E13: =SUMIFS(E14:E17,$R14:$R17,4) -> 1.102682e+08 | F13: =SUMIFS(F14:F17,$R14:$R17,4) -> 92206753 | G13: =SUMIFS(G14:G17,$R14:$R17,4) -> 92206753 | H13: =G13-E13 -> -18061443 | I13: =IF(G13=0,0,H13/G13) -> -0.19587983 | J13: =IF(E13=0,0,G13/E13) -> 0.83620442 | K13: =SUMIFS(K14:K17,$R14:$R17,4) -> 92206753 | L13: =IF(J13=0,K13,K13/J13) -> 1.102682e+08 | M13: =K13-L13 -> -18061443 | N13: =IF((K13-E13)=0,0,(K13-G13)/(K13-E13)) -> 0 | O13: =L13-E13 -> 0 | P13: =L13 -> 1.102682e+08 | R13: 3 | S13: % Planeado | T13: =F2/K2 -> 0.88516173
A14: 1.1.1.2.1 | B14: Convocar y levantar registro tecnico-fotografico de colindantes | C14: 1 | D14: 1 | E14: =IF(G14>0,G14/W14,0) -> 44295564 | F14: =D14*K14 -> 35126382 | G14: =C14*K14 -> 35126382 | H14: =G14-E14 -> -9169181.7 | I14: =IF(G14=0,0,H14/G14) -> -0.26103405 | J14: =IF(E14=0,0,G14/E14) -> 0.793 | K14: 35126382 | L14: =IF(J14=0,K14,K14/J14) -> 44295564 | M14: =K14-L14 -> -9169181.7 | N14: =IF((K14-E14)=0,0,(K14-G14)/(K14-E14)) -> 0 | O14: =L14-E14 -> 0 | P14: =L14 -> 44295564 | Q14: 7 | R14: 4 | S14: CPI (índice de costo) | T14: =J2 -> 0.88000841 | W14: 0.793
A15: 1.1.1.2.2 | B15: Suscribir y protocolizar las actas de vecindad | C15: 1 | D15: 1 | E15: =IF(G15>0,G15/W15,0) -> 23985566 | F15: =D15*K15 -> 21953989 | G15: =C15*K15 -> 21953989 | H15: =G15-E15 -> -2031577.5 | I15: =IF(G15=0,0,H15/G15) -> -0.092537966 | J15: =IF(E15=0,0,G15/E15) -> 0.9153 | K15: 21953989 | L15: =IF(J15=0,K15,K15/J15) -> 23985566 | M15: =K15-L15 -> -2031577.5 | N15: =IF((K15-E15)=0,0,(K15-G15)/(K15-E15)) -> 0 | O15: =L15-E15 -> 0 | P15: =L15 -> 23985566 | Q15: 13 | R15: 4 | S15: SPI (índice de plazo) | T15: =G2/F2 -> 0.84999999 | W15: 0.9153
A16: 1.1.1.2.3 | B16: Archivar soportes y registro fotografico | C16: 1 | D16: 1 | E16: =IF(G16>0,G16/W16,0) -> 16426478 | F16: =D16*K16 -> 13172393 | G16: =C16*K16 -> 13172393 | H16: =G16-E16 -> -3254085.4 | I16: =IF(G16=0,0,H16/G16) -> -0.24703828 | J16: =IF(E16=0,0,G16/E16) -> 0.8019 | K16: 13172393 | L16: =IF(J16=0,K16,K16/J16) -> 16426478 | M16: =K16-L16 -> -3254085.4 | N16: =IF((K16-E16)=0,0,(K16-G16)/(K16-E16)) -> 0 | O16: =L16-E16 -> 0 | P16: =L16 -> 16426478 | Q16: 14 | R16: 4 | S16: CV (variación de costo) | T16: =H2 -> -1.2654391e+09 | W16: 0.8019
A17: 1.1.1.2.4 | B17: Atender reclamaciones por afectaciones a vecinos | C17: 1 | D17: 1 | E17: =IF(G17>0,G17/W17,0) -> 25560588 | F17: =D17*K17 -> 21953989 | G17: =C17*K17 -> 21953989 | H17: =G17-E17 -> -3606599 | I17: =IF(G17=0,0,H17/G17) -> -0.16427989 | J17: =IF(E17=0,0,G17/E17) -> 0.8589 | K17: 21953989 | L17: =IF(J17=0,K17,K17/J17) -> 25560588 | M17: =K17-L17 -> -3606599 | N17: =IF((K17-E17)=0,0,(K17-G17)/(K17-E17)) -> 0 | O17: =L17-E17 -> 0 | P17: =L17 -> 25560588 | Q17: 14CC+2 días | R17: 4 | S17: SV (variación de plazo) | T17: =G2-F2 -> -1.6377575e+09 | W17: 0.8589
A18: 1.1.1.3 | B18: Contratos y acuerdos legales suscritos | C18: =IF(K18=0,0,G18/K18) -> 1 | D18: 1 | E18: =SUMIFS(E19:E23,$R19:$R23,4) -> 1.1945152e+08 | F18: =SUMIFS(F19:F23,$R19:$R23,4) -> 100988349 | G18: =SUMIFS(G19:G23,$R19:$R23,4) -> 100988349 | H18: =G18-E18 -> -18463167 | I18: =IF(G18=0,0,H18/G18) -> -0.18282472 | J18: =IF(E18=0,0,G18/E18) -> 0.8454338 | K18: =SUMIFS(K19:K23,$R19:$R23,4) -> 100988349 | L18: =IF(J18=0,K18,K18/J18) -> 1.1945152e+08 | M18: =K18-L18 -> -18463167 | N18: =IF((K18-E18)=0,0,(K18-G18)/(K18-E18)) -> 0 | O18: =L18-E18 -> 0 | P18: =L18 -> 1.1945152e+08 | R18: 3 | S18: EAC (costo final estimado) | T18: =L2 -> 1.40168e+10
A19: 1.1.1.3.1 | B19: Elaborar minutas y estudios previos | C19: 1 | D19: 1 | E19: =IF(G19>0,G19/W19,0) -> 25087406 | F19: =D19*K19 -> 21953989 | G19: =C19*K19 -> 21953989 | H19: =G19-E19 -> -3133417 | I19: =IF(G19=0,0,H19/G19) -> -0.14272655 | J19: =IF(E19=0,0,G19/E19) -> 0.8751 | K19: 21953989 | L19: =IF(J19=0,K19,K19/J19) -> 25087406 | M19: =K19-L19 -> -3133417 | N19: =IF((K19-E19)=0,0,(K19-G19)/(K19-E19)) -> 0 | O19: =L19-E19 -> 0 | P19: =L19 -> 25087406 | Q19: 4 | R19: 4 | S19: VAC (variación al final) | T19: =M2 -> -1.6818981e+09 | W19: 0.8751
A20: 1.1.1.3.2 | B20: Revisar juridicamente y aprobar los contratos | C20: 1 | D20: 1 | E20: =IF(G20>0,G20/W20,0) -> 25353954 | F20: =D20*K20 -> 21953989 | G20: =C20*K20 -> 21953989 | H20: =G20-E20 -> -3399965.3 | I20: =IF(G20=0,0,H20/G20) -> -0.15486777 | J20: =IF(E20=0,0,G20/E20) -> 0.8659 | K20: 21953989 | L20: =IF(J20=0,K20,K20/J20) -> 25353954 | M20: =K20-L20 -> -3399965.3 | N20: =IF((K20-E20)=0,0,(K20-G20)/(K20-E20)) -> 0 | O20: =L20-E20 -> 0 | P20: =L20 -> 25353954 | Q20: 18 | R20: 4 | S20: ETC (costo para terminar) | T20: =O2 -> 3.4707354e+09 | W20: 0.8659
A21: 1.1.1.3.3 | B21: Firmar y legalizar contratos y acuerdos con ESP | C21: 1 | D21: 1 | E21: =IF(G21>0,G21/W21,0) -> 26064335 | F21: =D21*K21 -> 21953989 | G21: =C21*K21 -> 21953989 | H21: =G21-E21 -> -4110345.6 | I21: =IF(G21=0,0,H21/G21) -> -0.18722545 | J21: =IF(E21=0,0,G21/E21) -> 0.8423 | K21: 21953989 | L21: =IF(J21=0,K21,K21/J21) -> 26064335 | M21: =K21-L21 -> -4110345.6 | N21: =IF((K21-E21)=0,0,(K21-G21)/(K21-E21)) -> 0 | O21: =L21-E21 -> 0 | P21: =L21 -> 26064335 | Q21: 19 | R21: 4 | S21: TCPI (índice para cumplir) | T21: =N2 -> 1.7074087 | W21: 0.8423
A22: 1.1.1.3.4 | B22: Designar supervisores e interventoria | C22: 1 | D22: 1 | E22: =IF(G22>0,G22/W22,0) -> 16728973 | F22: =D22*K22 -> 13172393 | G22: =C22*K22 -> 13172393 | H22: =G22-E22 -> -3556579.6 | I22: =IF(G22=0,0,H22/G22) -> -0.27000254 | J22: =IF(E22=0,0,G22/E22) -> 0.7874 | K22: 13172393 | L22: =IF(J22=0,K22,K22/J22) -> 16728973 | M22: =K22-L22 -> -3556579.6 | N22: =IF((K22-E22)=0,0,(K22-G22)/(K22-E22)) -> 0 | O22: =L22-E22 -> 0 | P22: =L22 -> 16728973 | Q22: 20 | R22: 4 | W22: 0.7874
A23: 1.1.1.3.5 | B23: Legalizar subcontratos criticos (asfalto y concreto) | C23: 1 | D23: 1 | E23: =IF(G23>0,G23/W23,0) -> 26216849 | F23: =D23*K23 -> 21953989 | G23: =C23*K23 -> 21953989 | H23: =G23-E23 -> -4262859.6 | I23: =IF(G23=0,0,H23/G23) -> -0.19417244 | J23: =IF(E23=0,0,G23/E23) -> 0.8374 | K23: 21953989 | L23: =IF(J23=0,K23,K23/J23) -> 26216849 | M23: =K23-L23 -> -4262859.6 | N23: =IF((K23-E23)=0,0,(K23-G23)/(K23-E23)) -> 0 | O23: =L23-E23 -> 0 | P23: =L23 -> 26216849 | Q23: 20 | R23: 4 | S23: Estado por fase | W23: 0.8374
A24: 1.1.2 | B24: Cuenta de control: Tramites, Licencias y Gestion de Riesgos | C24: =IF(K24=0,0,G24/K24) -> 0.70316268 | D24: 1 | E24: =SUMIFS(E25:E44,$R25:$R44,3) -> 3.2792583e+08 | F24: =SUMIFS(F25:F44,$R25:$R44,3) -> 394284001 | G24: =SUMIFS(G25:G44,$R25:$R44,3) -> 2.7724579e+08 | H24: =G24-E24 -> -50680030 | I24: =IF(G24=0,0,H24/G24) -> -0.18279819 | J24: =IF(E24=0,0,G24/E24) -> 0.84545276 | K24: =SUMIFS(K25:K44,$R25:$R44,3) -> 394284001 | L24: =IF(J24=0,K24,K24/J24) -> 4.663584e+08 | M24: =K24-L24 -> -72074403 | N24: =IF((K24-E24)=0,0,(K24-G24)/(K24-E24)) -> 1.7637345 | O24: =L24-E24 -> 1.3843258e+08 | P24: =L24 -> 4.663584e+08 | R24: 2 | S24: Fase | T24: % Comp | U24: CPI | V24: EAC
A25: 1.1.2.1 | B25: Licencias ambientales y de construccion vigentes | C25: =IF(K25=0,0,G25/K25) -> 1 | D25: 1 | E25: =SUMIFS(E26:E29,$R26:$R29,4) -> 1.8993945e+08 | F25: =SUMIFS(F26:F29,$R26:$R29,4) -> 162459518 | G25: =SUMIFS(G26:G29,$R26:$R29,4) -> 162459518 | H25: =G25-E25 -> -27479928 | I25: =IF(G25=0,0,H25/G25) -> -0.16914939 | J25: =IF(E25=0,0,G25/E25) -> 0.85532269 | K25: =SUMIFS(K26:K29,$R26:$R29,4) -> 162459518 | L25: =IF(J25=0,K25,K25/J25) -> 1.8993945e+08 | M25: =K25-L25 -> -27479928 | N25: =IF((K25-E25)=0,0,(K25-G25)/(K25-E25)) -> 0 | O25: =L25-E25 -> 0 | P25: =L25 -> 1.8993945e+08 | R25: 3 | S25: =A3&" Requisitos y Gestión" -> 1.1 Requisitos y Gestión | T25: =C3 -> 0.67542953 | U25: =J3 -> 0.84295659 | V25: =L3 -> 9.5736721e+08
A26: 1.1.2.1.1 | B26: Radicar solicitudes de licencias (SDA / Curaduria) | C26: 1 | D26: 1 | E26: =IF(G26>0,G26/W26,0) -> 45054361 | F26: =D26*K26 -> 39517180 | G26: =C26*K26 -> 39517180 | H26: =G26-E26 -> -5537181 | I26: =IF(G26=0,0,H26/G26) -> -0.14012085 | J26: =IF(E26=0,0,G26/E26) -> 0.8771 | K26: 39517180 | L26: =IF(J26=0,K26,K26/J26) -> 45054361 | M26: =K26-L26 -> -5537181 | N26: =IF((K26-E26)=0,0,(K26-G26)/(K26-E26)) -> 0 | O26: =L26-E26 -> 0 | P26: =L26 -> 45054361 | Q26: 4 | R26: 4 | S26: =A46&" Estudios y Diseños" -> 1.2 Estudios y Diseños | T26: =C46 -> 1 | U26: =J46 -> 0.93127999 | V26: =L46 -> 9.3824497e+08 | W26: 0.8771
A27: 1.1.2.1.2 | B27: Subsanar requerimientos de la autoridad | C27: 1 | D27: 1 | E27: =IF(G27>0,G27/W27,0) -> 56174431 | F27: =D27*K27 -> 48298776 | G27: =C27*K27 -> 48298776 | H27: =G27-E27 -> -7875655.3 | I27: =IF(G27=0,0,H27/G27) -> -0.16306118 | J27: =IF(E27=0,0,G27/E27) -> 0.8598 | K27: 48298776 | L27: =IF(J27=0,K27,K27/J27) -> 56174431 | M27: =K27-L27 -> -7875655.3 | N27: =IF((K27-E27)=0,0,(K27-G27)/(K27-E27)) -> 0 | O27: =L27-E27 -> 0 | P27: =L27 -> 56174431 | Q27: 25 | R27: 4 | S27: =A82&" Construcción de Obra Civil" -> 1.3 Construcción de Obra Civil | T27: =C82 -> 0.77095313 | U27: =J82 -> 0.87731386 | V27: =L82 -> 1.1623515e+10 | W27: 0.8598
A28: 1.1.2.1.3 | B28: Expedir y verificar la vigencia de las licencias | C28: 1 | D28: 1 | E28: =IF(G28>0,G28/W28,0) -> 41817121 | F28: =D28*K28 -> 35126382 | G28: =C28*K28 -> 35126382 | H28: =G28-E28 -> -6690739.4 | I28: =IF(G28=0,0,H28/G28) -> -0.19047619 | J28: =IF(E28=0,0,G28/E28) -> 0.84 | K28: 35126382 | L28: =IF(J28=0,K28,K28/J28) -> 41817121 | M28: =K28-L28 -> -6690739.4 | N28: =IF((K28-E28)=0,0,(K28-G28)/(K28-E28)) -> 0 | O28: =L28-E28 -> 0 | P28: =L28 -> 41817121 | Q28: 26 | R28: 4 | S28: =A165&" Liquidación y Cierre" -> 1.4 Liquidación y Cierre | T28: =C165 -> 0 | U28: =J165 -> 0 | V28: =L165 -> 456642970 | W28: 0.84
A29: 1.1.2.1.4 | B29: Tramitar permiso de ocupacion de cauce y aprovechamiento forestal | C29: 1 | D29: 1 | E29: =IF(G29>0,G29/W29,0) -> 46893533 | F29: =D29*K29 -> 39517180 | G29: =C29*K29 -> 39517180 | H29: =G29-E29 -> -7376352.7 | I29: =IF(G29=0,0,H29/G29) -> -0.18666192 | J29: =IF(E29=0,0,G29/E29) -> 0.8427 | K29: 39517180 | L29: =IF(J29=0,K29,K29/J29) -> 46893533 | M29: =K29-L29 -> -7376352.7 | N29: =IF((K29-E29)=0,0,(K29-G29)/(K29-E29)) -> 0 | O29: =L29-E29 -> 0 | P29: =L29 -> 46893533 | Q29: 26 | R29: 4 | W29: 0.8427
A30: 1.1.2.2 | B30: Permisos de Manejo de Trafico (PMT) aprobados | C30: =IF(K30=0,0,G30/K30) -> 0.2972973 | D30: 1 | E30: =SUMIFS(E31:E34,$R31:$R34,4) -> 56970254 | F30: =SUMIFS(F31:F34,$R31:$R34,4) -> 162459519 | G30: =SUMIFS(G31:G34,$R31:$R34,4) -> 48298776 | H30: =G30-E30 -> -8671478.2 | I30: =IF(G30=0,0,H30/G30) -> -0.17953826 | J30: =IF(E30=0,0,G30/E30) -> 0.84778937 | K30: =SUMIFS(K31:K34,$R31:$R34,4) -> 162459519 | L30: =IF(J30=0,K30,K30/J30) -> 1.9162722e+08 | M30: =K30-L30 -> -29167699 | N30: =IF((K30-E30)=0,0,(K30-G30)/(K30-E30)) -> 1.0822025 | O30: =L30-E30 -> 1.3465696e+08 | P30: =L30 -> 1.9162722e+08 | R30: 3 | S30: Lectura gerencial
A31: 1.1.2.2.1 | B31: Elaborar el Plan de Manejo de Trafico (desvios y senalizacion) | C31: 0.4 | D31: 1 | E31: =IF(G31>0,G31/W31,0) -> 30180762 | F31: =D31*K31 -> 65861967 | G31: =C31*K31 -> 26344787 | H31: =G31-E31 -> -3835974.8 | I31: =IF(G31=0,0,H31/G31) -> -0.1456066 | J31: =IF(E31=0,0,G31/E31) -> 0.8729 | K31: 65861967 | L31: =IF(J31=0,K31,K31/J31) -> 75451904 | M31: =K31-L31 -> -9589937 | N31: =IF((K31-E31)=0,0,(K31-G31)/(K31-E31)) -> 1.1075069 | O31: =L31-E31 -> 45271142 | P31: =L31 -> 75451904 | Q31: 4 | R31: 4 | S31: • Costo: CPI 0.92 = 8% de sobrecosto sobre lo ejecutado (CV ≈ -$912M). El costo final estimado (EAC) sube a ≈$13.4B frente a un presupuesto de $12.3B (VAC ≈ -$1.07B). | W31: 0.8729
A32: 1.1.2.2.2 | B32: Radicar y ajustar el PMT ante la SDM | C32: 0 | D32: 1 | E32: =IF(G32>0,G32/W32,0) -> 0 | F32: =D32*K32 -> 52689574 | G32: =C32*K32 -> 0 | H32: =G32-E32 -> 0 | I32: =IF(G32=0,0,H32/G32) -> 0 | J32: =IF(E32=0,0,G32/E32) -> 0 | K32: 52689574 | L32: =IF(J32=0,K32,K32/J32) -> 52689574 | M32: =K32-L32 -> 0 | N32: =IF((K32-E32)=0,0,(K32-G32)/(K32-E32)) -> 1 | O32: =L32-E32 -> 52689574 | P32: =L32 -> 52689574 | Q32: 30 | R32: 4 | S32: • Avance: 85.0% ejecutado vs 88.5% planeado → ligero atraso de cronograma (SPI 0.96; SV ≈ -$434M).
A33: 1.1.2.2.3 | B33: Aprobar e implementar el PMT en sitio | C33: 0 | D33: 1 | E33: =IF(G33>0,G33/W33,0) -> 0 | F33: =D33*K33 -> 21953989 | G33: =C33*K33 -> 0 | H33: =G33-E33 -> 0 | I33: =IF(G33=0,0,H33/G33) -> 0 | J33: =IF(E33=0,0,G33/E33) -> 0 | K33: 21953989 | L33: =IF(J33=0,K33,K33/J33) -> 21953989 | M33: =K33-L33 -> 0 | N33: =IF((K33-E33)=0,0,(K33-G33)/(K33-E33)) -> 1 | O33: =L33-E33 -> 21953989 | P33: =L33 -> 21953989 | Q33: 31 | R33: 4 | S33: • Lógica de costos: solo las tareas iniciadas o terminadas cargan Costo real. Lo no iniciado / no planeado (Fase 1.4 Liquidación, predios y PMT pendientes) queda en $0 — coherente con el estado real.
A34: 1.1.2.2.4 | B34: Comunicar desvios y plan de cierres a la comunidad | C34: 1 | D34: 1 | E34: =IF(G34>0,G34/W34,0) -> 26789492 | F34: =D34*K34 -> 21953989 | G34: =C34*K34 -> 21953989 | H34: =G34-E34 -> -4835503.4 | I34: =IF(G34=0,0,H34/G34) -> -0.22025625 | J34: =IF(E34=0,0,G34/E34) -> 0.8195 | K34: 21953989 | L34: =IF(J34=0,K34,K34/J34) -> 26789492 | M34: =K34-L34 -> -4835503.4 | N34: =IF((K34-E34)=0,0,(K34-G34)/(K34-E34)) -> 0 | O34: =L34-E34 -> 0 | P34: =L34 -> 26789492 | Q34: 32CC+2 días | R34: 4 | S34: • Frentes críticos: Gestión de Predios y el PMT (Fase 1.1, 67.5% comp) son los que frenan el avance pleno; la calzada está en acabados (demarcación y bacheo al 40%). | W34: 0.8195
A35: 1.1.2.3 | B35: Plan de Manejo Arqueologico aprobado y ejecutado | C35: =IF(K35=0,0,G35/K35) -> 0.17857133 | D35: 1 | E35: =SUMIFS(E36:E39,$R36:$R39,4) -> 681856.33 | F35: =SUMIFS(F36:F39,$R36:$R39,4) -> 3502998 | G35: =SUMIFS(G36:G39,$R36:$R39,4) -> 625535 | H35: =G35-E35 -> -56321.333 | I35: =IF(G35=0,0,H35/G35) -> -0.090037061 | J35: =IF(E35=0,0,G35/E35) -> 0.9174 | K35: =SUMIFS(K36:K39,$R36:$R39,4) -> 3502998 | L35: =IF(J35=0,K35,K35/J35) -> 3818397.6 | M35: =K35-L35 -> -315399.65 | N35: =IF((K35-E35)=0,0,(K35-G35)/(K35-E35)) -> 1.019964 | O35: =L35-E35 -> 3136541.3 | P35: =L35 -> 3818397.6 | R35: 3 | S35: • Pronóstico: TCPI 1.97 indica que recuperar el sobrecosto dentro del presupuesto es inviable; se recomienda gestionar reserva/adición presupuestal y acelerar la liberación de predios.
A36: 1.1.2.3.1 | B36: Formular el Plan de Manejo Arqueologico ante el ICANH | C36: 0 | D36: 1 | E36: =IF(G36>0,G36/W36,0) -> 0 | F36: =D36*K36 -> 875750 | G36: =C36*K36 -> 0 | H36: =G36-E36 -> 0 | I36: =IF(G36=0,0,H36/G36) -> 0 | J36: =IF(E36=0,0,G36/E36) -> 0 | K36: 875750 | L36: =IF(J36=0,K36,K36/J36) -> 875750 | M36: =K36-L36 -> 0 | N36: =IF((K36-E36)=0,0,(K36-G36)/(K36-E36)) -> 1 | O36: =L36-E36 -> 875750 | P36: =L36 -> 875750 | Q36: 4 | R36: 4
A37: 1.1.2.3.2 | B37: Aprobar el plan ante el ICANH | C37: 0 | D37: 1 | E37: =IF(G37>0,G37/W37,0) -> 0 | F37: =D37*K37 -> 625535 | G37: =C37*K37 -> 0 | H37: =G37-E37 -> 0 | I37: =IF(G37=0,0,H37/G37) -> 0 | J37: =IF(E37=0,0,G37/E37) -> 0 | K37: 625535 | L37: =IF(J37=0,K37,K37/J37) -> 625535 | M37: =K37-L37 -> 0 | N37: =IF((K37-E37)=0,0,(K37-G37)/(K37-E37)) -> 1 | O37: =L37-E37 -> 625535 | P37: =L37 -> 625535 | Q37: 35 | R37: 4
A38: 1.1.2.3.3 | B38: Monitorear arqueologicamente durante las excavaciones | C38: 0 | D38: 1 | E38: =IF(G38>0,G38/W38,0) -> 0 | F38: =D38*K38 -> 1376178 | G38: =C38*K38 -> 0 | H38: =G38-E38 -> 0 | I38: =IF(G38=0,0,H38/G38) -> 0 | J38: =IF(E38=0,0,G38/E38) -> 0 | K38: 1376178 | L38: =IF(J38=0,K38,K38/J38) -> 1376178 | M38: =K38-L38 -> 0 | N38: =IF((K38-E38)=0,0,(K38-G38)/(K38-E38)) -> 1 | O38: =L38-E38 -> 1376178 | P38: =L38 -> 1376178 | Q38: 36 | R38: 4
A39: 1.1.2.3.4 | B39: Elaborar informe final de monitoreo y entregar al ICANH | C39: 1 | D39: 1 | E39: =IF(G39>0,G39/W39,0) -> 681856.33 | F39: =D39*K39 -> 625535 | G39: =C39*K39 -> 625535 | H39: =G39-E39 -> -56321.333 | I39: =IF(G39=0,0,H39/G39) -> -0.090037061 | J39: =IF(E39=0,0,G39/E39) -> 0.9174 | K39: 625535 | L39: =IF(J39=0,K39,K39/J39) -> 681856.33 | M39: =K39-L39 -> -56321.333 | N39: =IF((K39-E39)=0,0,(K39-G39)/(K39-E39)) -> 0 | O39: =L39-E39 -> 0 | P39: =L39 -> 681856.33 | Q39: 37 | R39: 4 | W39: 0.9174
A40: 1.1.2.4 | B40: Politicas de estabilidad de obra constituidas | C40: =IF(K40=0,0,G40/K40) -> 1 | D40: 1 | E40: =SUMIFS(E41:E44,$R41:$R44,4) -> 80334268 | F40: =SUMIFS(F41:F44,$R41:$R44,4) -> 65861966 | G40: =SUMIFS(G41:G44,$R41:$R44,4) -> 65861966 | H40: =G40-E40 -> -14472302 | I40: =IF(G40=0,0,H40/G40) -> -0.21973687 | J40: =IF(E40=0,0,G40/E40) -> 0.81984896 | K40: =SUMIFS(K41:K44,$R41:$R44,4) -> 65861966 | L40: =IF(J40=0,K40,K40/J40) -> 80334268 | M40: =K40-L40 -> -14472302 | N40: =IF((K40-E40)=0,0,(K40-G40)/(K40-E40)) -> 0 | O40: =L40-E40 -> 0 | P40: =L40 -> 80334268 | R40: 3
A41: 1.1.2.4.1 | B41: Solicitar, cotizar y constituir las polizas | C41: 1 | D41: 1 | E41: =IF(G41>0,G41/W41,0) -> 27046925 | F41: =D41*K41 -> 21953989 | G41: =C41*K41 -> 21953989 | H41: =G41-E41 -> -5092936 | I41: =IF(G41=0,0,H41/G41) -> -0.23198226 | J41: =IF(E41=0,0,G41/E41) -> 0.8117 | K41: 21953989 | L41: =IF(J41=0,K41,K41/J41) -> 27046925 | M41: =K41-L41 -> -5092936 | N41: =IF((K41-E41)=0,0,(K41-G41)/(K41-E41)) -> 0 | O41: =L41-E41 -> 0 | P41: =L41 -> 27046925 | Q41: 4 | R41: 4 | W41: 0.8117
A42: 1.1.2.4.2 | B42: Aprobar las polizas por interventoria | C42: 1 | D42: 1 | E42: =IF(G42>0,G42/W42,0) -> 22206589 | F42: =D42*K42 -> 17563191 | G42: =C42*K42 -> 17563191 | H42: =G42-E42 -> -4643397.7 | I42: =IF(G42=0,0,H42/G42) -> -0.26438235 | J42: =IF(E42=0,0,G42/E42) -> 0.7909 | K42: 17563191 | L42: =IF(J42=0,K42,K42/J42) -> 22206589 | M42: =K42-L42 -> -4643397.7 | N42: =IF((K42-E42)=0,0,(K42-G42)/(K42-E42)) -> 0 | O42: =L42-E42 -> 0 | P42: =L42 -> 22206589 | Q42: 40 | R42: 4 | W42: 0.7909
A43: 1.1.2.4.3 | B43: Verificar vigencias y endosos de polizas | C43: 1 | D43: 1 | E43: =IF(G43>0,G43/W43,0) -> 15286519 | F43: =D43*K43 -> 13172393 | G43: =C43*K43 -> 13172393 | H43: =G43-E43 -> -2114125.5 | I43: =IF(G43=0,0,H43/G43) -> -0.16049669 | J43: =IF(E43=0,0,G43/E43) -> 0.8617 | K43: 13172393 | L43: =IF(J43=0,K43,K43/J43) -> 15286519 | M43: =K43-L43 -> -2114125.5 | N43: =IF((K43-E43)=0,0,(K43-G43)/(K43-E43)) -> 0 | O43: =L43-E43 -> 0 | P43: =L43 -> 15286519 | Q43: 41 | R43: 4 | W43: 0.8617
A44: 1.1.2.4.4 | B44: Endosar las polizas a favor del IDU | C44: 1 | D44: 1 | E44: =IF(G44>0,G44/W44,0) -> 15794236 | F44: =D44*K44 -> 13172393 | G44: =C44*K44 -> 13172393 | H44: =G44-E44 -> -2621843.2 | I44: =IF(G44=0,0,H44/G44) -> -0.19904077 | J44: =IF(E44=0,0,G44/E44) -> 0.834 | K44: 13172393 | L44: =IF(J44=0,K44,K44/J44) -> 15794236 | M44: =K44-L44 -> -2621843.2 | N44: =IF((K44-E44)=0,0,(K44-G44)/(K44-E44)) -> 0 | O44: =L44-E44 -> 0 | P44: =L44 -> 15794236 | Q44: 42 | R44: 4 | W44: 0.834
A45: 1.1.9 | B45: Hito: Acta de inicio firmada | C45: 1 | D45: 1 | E45: =IF(G45>0,G45/W45,0) -> 0 | F45: =D45*K45 -> 0 | G45: =C45*K45 -> 0 | H45: =G45-E45 -> 0 | I45: =IF(G45=0,0,H45/G45) -> 0 | J45: =IF(E45=0,0,G45/E45) -> 0 | K45: 0 | L45: =IF(J45=0,K45,K45/J45) -> 0 | M45: =K45-L45 -> 0 | N45: =IF((K45-E45)=0,0,(K45-G45)/(K45-E45)) -> 0 | O45: =L45-E45 -> 0 | P45: =L45 -> 0 | Q45: 4 | R45: 2
A46: 1.2 | B46: Fase: Estudios y Disenos (Fase III) | C46: =IF(K46=0,0,G46/K46) -> 1 | D46: 1 | E46: =SUMIFS(E47:E81,$R47:$R81,2) -> 9.3824497e+08 | F46: =SUMIFS(F47:F81,$R47:$R81,2) -> 873768764 | G46: =SUMIFS(G47:G81,$R47:$R81,2) -> 873768764 | H46: =G46-E46 -> -64476204 | I46: =IF(G46=0,0,H46/G46) -> -0.073790924 | J46: =IF(E46=0,0,G46/E46) -> 0.93127999 | K46: =SUMIFS(K47:K81,$R47:$R81,2) -> 873768764 | L46: =IF(J46=0,K46,K46/J46) -> 9.3824497e+08 | M46: =K46-L46 -> -64476204 | N46: =IF((K46-E46)=0,0,(K46-G46)/(K46-E46)) -> 0 | O46: =L46-E46 -> 0 | P46: =L46 -> 9.3824497e+08 | R46: 1
A47: 1.2.1 | B47: Cuenta de control: Estudios Tecnicos de Detalle | C47: =IF(K47=0,0,G47/K47) -> 1 | D47: 1 | E47: =SUMIFS(E48:E59,$R48:$R59,3) -> 3.8995847e+08 | F47: =SUMIFS(F48:F59,$R48:$R59,3) -> 360045420 | G47: =SUMIFS(G48:G59,$R48:$R59,3) -> 360045420 | H47: =G47-E47 -> -29913047 | I47: =IF(G47=0,0,H47/G47) -> -0.083081314 | J47: =IF(E47=0,0,G47/E47) -> 0.92329171 | K47: =SUMIFS(K48:K59,$R48:$R59,3) -> 360045420 | L47: =IF(J47=0,K47,K47/J47) -> 3.8995847e+08 | M47: =K47-L47 -> -29913047 | N47: =IF((K47-E47)=0,0,(K47-G47)/(K47-E47)) -> 0 | O47: =L47-E47 -> 0 | P47: =L47 -> 3.8995847e+08 | R47: 2
A48: 1.2.1.1 | B48: Levantamientos topograficos y estudios geotecnicos finales | C48: =IF(K48=0,0,G48/K48) -> 1 | D48: 1 | E48: =SUMIFS(E49:E53,$R49:$R53,4) -> 2.1275392e+08 | F48: =SUMIFS(F49:F53,$R49:$R53,4) -> 197585902 | G48: =SUMIFS(G49:G53,$R49:$R53,4) -> 197585902 | H48: =G48-E48 -> -15168021 | I48: =IF(G48=0,0,H48/G48) -> -0.076766715 | J48: =IF(E48=0,0,G48/E48) -> 0.92870627 | K48: =SUMIFS(K49:K53,$R49:$R53,4) -> 197585902 | L48: =IF(J48=0,K48,K48/J48) -> 2.1275392e+08 | M48: =K48-L48 -> -15168021 | N48: =IF((K48-E48)=0,0,(K48-G48)/(K48-E48)) -> 0 | O48: =L48-E48 -> 0 | P48: =L48 -> 2.1275392e+08 | R48: 3
A49: 1.2.1.1.1 | B49: Realizar comision topografica y levantamiento de detalle | C49: 1 | D49: 1 | E49: =IF(G49>0,G49/W49,0) -> 55179682 | F49: =D49*K49 -> 48298776 | G49: =C49*K49 -> 48298776 | H49: =G49-E49 -> -6880906.4 | I49: =IF(G49=0,0,H49/G49) -> -0.14246544 | J49: =IF(E49=0,0,G49/E49) -> 0.8753 | K49: 48298776 | L49: =IF(J49=0,K49,K49/J49) -> 55179682 | M49: =K49-L49 -> -6880906.4 | N49: =IF((K49-E49)=0,0,(K49-G49)/(K49-E49)) -> 0 | O49: =L49-E49 -> 0 | P49: =L49 -> 55179682 | Q49: 11;27;32;43 | R49: 4 | W49: 0.8753
A50: 1.2.1.1.2 | B50: Explorar el subsuelo (sondeos y apiques) | C50: 1 | D50: 1 | E50: =IF(G50>0,G50/W50,0) -> 44927840 | F50: =D50*K50 -> 43907978 | G50: =C50*K50 -> 43907978 | H50: =G50-E50 -> -1019862 | I50: =IF(G50=0,0,H50/G50) -> -0.023227259 | J50: =IF(E50=0,0,G50/E50) -> 0.9773 | K50: 43907978 | L50: =IF(J50=0,K50,K50/J50) -> 44927840 | M50: =K50-L50 -> -1019862 | N50: =IF((K50-E50)=0,0,(K50-G50)/(K50-E50)) -> 0 | O50: =L50-E50 -> 0 | P50: =L50 -> 44927840 | Q50: 48 | R50: 4 | W50: 0.9773
A51: 1.2.1.1.3 | B51: Ejecutar ensayos de laboratorio y elaborar informe geotecnico | C51: 1 | D51: 1 | E51: =IF(G51>0,G51/W51,0) -> 47035863 | F51: =D51*K51 -> 43907978 | G51: =C51*K51 -> 43907978 | H51: =G51-E51 -> -3127884.9 | I51: =IF(G51=0,0,H51/G51) -> -0.071237279 | J51: =IF(E51=0,0,G51/E51) -> 0.9335 | K51: 43907978 | L51: =IF(J51=0,K51,K51/J51) -> 47035863 | M51: =K51-L51 -> -3127884.9 | N51: =IF((K51-E51)=0,0,(K51-G51)/(K51-E51)) -> 0 | O51: =L51-E51 -> 0 | P51: =L51 -> 47035863 | Q51: 49 | R51: 4 | W51: 0.9335
A52: 1.2.1.1.4 | B52: Elaborar estudio hidrologico e hidraulico del corredor | C52: 1 | D52: 1 | E52: =IF(G52>0,G52/W52,0) -> 34352951 | F52: =D52*K52 -> 30735585 | G52: =C52*K52 -> 30735585 | H52: =G52-E52 -> -3617365.7 | I52: =IF(G52=0,0,H52/G52) -> -0.11769308 | J52: =IF(E52=0,0,G52/E52) -> 0.8947 | K52: 30735585 | L52: =IF(J52=0,K52,K52/J52) -> 34352951 | M52: =K52-L52 -> -3617365.7 | N52: =IF((K52-E52)=0,0,(K52-G52)/(K52-E52)) -> 0 | O52: =L52-E52 -> 0 | P52: =L52 -> 34352951 | Q52: 49 | R52: 4 | W52: 0.8947
A53: 1.2.1.1.5 | B53: Elaborar estudio de transito y capacidad de la interseccion | C53: 1 | D53: 1 | E53: =IF(G53>0,G53/W53,0) -> 31257587 | F53: =D53*K53 -> 30735585 | G53: =C53*K53 -> 30735585 | H53: =G53-E53 -> -522001.7 | I53: =IF(G53=0,0,H53/G53) -> -0.016983627 | J53: =IF(E53=0,0,G53/E53) -> 0.9833 | K53: 30735585 | L53: =IF(J53=0,K53,K53/J53) -> 31257587 | M53: =K53-L53 -> -522001.7 | N53: =IF((K53-E53)=0,0,(K53-G53)/(K53-E53)) -> 0 | O53: =L53-E53 -> 0 | P53: =L53 -> 31257587 | Q53: 48 | R53: 4 | W53: 0.9833
A54: 1.2.1.2 | B54: Informe de maduracion tecnica del proyecto (IDU) | C54: =IF(K54=0,0,G54/K54) -> 1 | D54: 1 | E54: =SUMIFS(E55:E59,$R55:$R59,4) -> 1.7720454e+08 | F54: =SUMIFS(F55:F59,$R55:$R59,4) -> 162459518 | G54: =SUMIFS(G55:G59,$R55:$R59,4) -> 162459518 | H54: =G54-E54 -> -14745026 | I54: =IF(G54=0,0,H54/G54) -> -0.090761231 | J54: =IF(E54=0,0,G54/E54) -> 0.91679093 | K54: =SUMIFS(K55:K59,$R55:$R59,4) -> 162459518 | L54: =IF(J54=0,K54,K54/J54) -> 1.7720454e+08 | M54: =K54-L54 -> -14745026 | N54: =IF((K54-E54)=0,0,(K54-G54)/(K54-E54)) -> 0 | O54: =L54-E54 -> 0 | P54: =L54 -> 1.7720454e+08 | R54: 3
A55: 1.2.1.2.1 | B55: Consolidar la informacion tecnica y de costos | C55: 1 | D55: 1 | E55: =IF(G55>0,G55/W55,0) -> 43387330 | F55: =D55*K55 -> 39517180 | G55: =C55*K55 -> 39517180 | H55: =G55-E55 -> -3870149.8 | I55: =IF(G55=0,0,H55/G55) -> -0.097935881 | J55: =IF(E55=0,0,G55/E55) -> 0.9108 | K55: 39517180 | L55: =IF(J55=0,K55,K55/J55) -> 43387330 | M55: =K55-L55 -> -3870149.8 | N55: =IF((K55-E55)=0,0,(K55-G55)/(K55-E55)) -> 0 | O55: =L55-E55 -> 0 | P55: =L55 -> 43387330 | Q55: 50 | R55: 4 | W55: 0.9108
A56: 1.2.1.2.2 | B56: Elaborar el informe de maduracion (GU-FP-04) | C56: 1 | D56: 1 | E56: =IF(G56>0,G56/W56,0) -> 35150988 | F56: =D56*K56 -> 35126382 | G56: =C56*K56 -> 35126382 | H56: =G56-E56 -> -24605.691 | I56: =IF(G56=0,0,H56/G56) -> -0.00070049034 | J56: =IF(E56=0,0,G56/E56) -> 0.9993 | K56: 35126382 | L56: =IF(J56=0,K56,K56/J56) -> 35150988 | M56: =K56-L56 -> -24605.691 | N56: =IF((K56-E56)=0,0,(K56-G56)/(K56-E56)) -> 0 | O56: =L56-E56 -> 0 | P56: =L56 -> 35150988 | Q56: 54 | R56: 4 | W56: 0.9993
A57: 1.2.1.2.3 | B57: Revisar y avalar la maduracion por el IDU | C57: 1 | D57: 1 | E57: =IF(G57>0,G57/W57,0) -> 39278074 | F57: =D57*K57 -> 35126382 | G57: =C57*K57 -> 35126382 | H57: =G57-E57 -> -4151692.5 | I57: =IF(G57=0,0,H57/G57) -> -0.118193 | J57: =IF(E57=0,0,G57/E57) -> 0.8943 | K57: 35126382 | L57: =IF(J57=0,K57,K57/J57) -> 39278074 | M57: =K57-L57 -> -4151692.5 | N57: =IF((K57-E57)=0,0,(K57-G57)/(K57-E57)) -> 0 | O57: =L57-E57 -> 0 | P57: =L57 -> 39278074 | Q57: 55 | R57: 4 | W57: 0.8943
A58: 1.2.1.2.4 | B58: Actualizar el presupuesto y los APU | C58: 1 | D58: 1 | E58: =IF(G58>0,G58/W58,0) -> 24504955 | F58: =D58*K58 -> 21953989 | G58: =C58*K58 -> 21953989 | H58: =G58-E58 -> -2550965.8 | I58: =IF(G58=0,0,H58/G58) -> -0.116196 | J58: =IF(E58=0,0,G58/E58) -> 0.8959 | K58: 21953989 | L58: =IF(J58=0,K58,K58/J58) -> 24504955 | M58: =K58-L58 -> -2550965.8 | N58: =IF((K58-E58)=0,0,(K58-G58)/(K58-E58)) -> 0 | O58: =L58-E58 -> 0 | P58: =L58 -> 24504955 | Q58: 55 | R58: 4 | W58: 0.8959
A59: 1.2.1.2.5 | B59: Gestionar vistos buenos y concertacion interinstitucional | C59: 1 | D59: 1 | E59: =IF(G59>0,G59/W59,0) -> 34883197 | F59: =D59*K59 -> 30735585 | G59: =C59*K59 -> 30735585 | H59: =G59-E59 -> -4147612.1 | I59: =IF(G59=0,0,H59/G59) -> -0.13494496 | J59: =IF(E59=0,0,G59/E59) -> 0.8811 | K59: 30735585 | L59: =IF(J59=0,K59,K59/J59) -> 34883197 | M59: =K59-L59 -> -4147612.1 | N59: =IF((K59-E59)=0,0,(K59-G59)/(K59-E59)) -> 0 | O59: =L59-E59 -> 0 | P59: =L59 -> 34883197 | Q59: 56 | R59: 4 | W59: 0.8811
A60: 1.2.2 | B60: Cuenta de control: Disenos de Especialidad | C60: =IF(K60=0,0,G60/K60) -> 1 | D60: 1 | E60: =SUMIFS(E61:E78,$R61:$R78,3) -> 5.2998007e+08 | F60: =SUMIFS(F61:F78,$R61:$R78,3) -> 496160153 | G60: =SUMIFS(G61:G78,$R61:$R78,3) -> 496160153 | H60: =G60-E60 -> -33819917 | I60: =IF(G60=0,0,H60/G60) -> -0.068163307 | J60: =IF(E60=0,0,G60/E60) -> 0.93618644 | K60: =SUMIFS(K61:K78,$R61:$R78,3) -> 496160153 | L60: =IF(J60=0,K60,K60/J60) -> 5.2998007e+08 | M60: =K60-L60 -> -33819917 | N60: =IF((K60-E60)=0,0,(K60-G60)/(K60-E60)) -> 0 | O60: =L60-E60 -> 0 | P60: =L60 -> 5.2998007e+08 | R60: 2
A61: 1.2.2.1 | B61: Disenos de pavimentos y mezclas asfalticas aprobadas | C61: =IF(K61=0,0,G61/K61) -> 1 | D61: 1 | E61: =SUMIFS(E62:E66,$R62:$R66,4) -> 1.5641534e+08 | F61: =SUMIFS(F62:F66,$R62:$R66,4) -> 149287125 | G61: =SUMIFS(G62:G66,$R62:$R66,4) -> 149287125 | H61: =G61-E61 -> -7128216.3 | I61: =IF(G61=0,0,H61/G61) -> -0.047748366 | J61: =IF(E61=0,0,G61/E61) -> 0.95442764 | K61: =SUMIFS(K62:K66,$R62:$R66,4) -> 149287125 | L61: =IF(J61=0,K61,K61/J61) -> 1.5641534e+08 | M61: =K61-L61 -> -7128216.3 | N61: =IF((K61-E61)=0,0,(K61-G61)/(K61-E61)) -> 0 | O61: =L61-E61 -> 0 | P61: =L61 -> 1.5641534e+08 | R61: 3
A62: 1.2.2.1.1 | B62: Disenar la estructura del pavimento | C62: 1 | D62: 1 | E62: =IF(G62>0,G62/W62,0) -> 44603797 | F62: =D62*K62 -> 43907978 | G62: =C62*K62 -> 43907978 | H62: =G62-E62 -> -695819.24 | I62: =IF(G62=0,0,H62/G62) -> -0.015847217 | J62: =IF(E62=0,0,G62/E62) -> 0.9844 | K62: 43907978 | L62: =IF(J62=0,K62,K62/J62) -> 44603797 | M62: =K62-L62 -> -695819.24 | N62: =IF((K62-E62)=0,0,(K62-G62)/(K62-E62)) -> 0 | O62: =L62-E62 -> 0 | P62: =L62 -> 44603797 | Q62: 50 | R62: 4 | W62: 0.9844
A63: 1.2.2.1.2 | B63: Disenar las mezclas y la formula de trabajo (MDC-25/MDC-19 GCR) | C63: 1 | D63: 1 | E63: =IF(G63>0,G63/W63,0) -> 36415490 | F63: =D63*K63 -> 35126382 | G63: =C63*K63 -> 35126382 | H63: =G63-E63 -> -1289108.4 | I63: =IF(G63=0,0,H63/G63) -> -0.03669915 | J63: =IF(E63=0,0,G63/E63) -> 0.9646 | K63: 35126382 | L63: =IF(J63=0,K63,K63/J63) -> 36415490 | M63: =K63-L63 -> -1289108.4 | N63: =IF((K63-E63)=0,0,(K63-G63)/(K63-E63)) -> 0 | O63: =L63-E63 -> 0 | P63: =L63 -> 36415490 | Q63: 61 | R63: 4 | W63: 0.9646
A64: 1.2.2.1.3 | B64: Aprobar los disenos de pavimento por interventoria | C64: 1 | D64: 1 | E64: =IF(G64>0,G64/W64,0) -> 24341933 | F64: =D64*K64 -> 21953989 | G64: =C64*K64 -> 21953989 | H64: =G64-E64 -> -2387943.6 | I64: =IF(G64=0,0,H64/G64) -> -0.10877037 | J64: =IF(E64=0,0,G64/E64) -> 0.9019 | K64: 21953989 | L64: =IF(J64=0,K64,K64/J64) -> 24341933 | M64: =K64-L64 -> -2387943.6 | N64: =IF((K64-E64)=0,0,(K64-G64)/(K64-E64)) -> 0 | O64: =L64-E64 -> 0 | P64: =L64 -> 24341933 | Q64: 62 | R64: 4 | W64: 0.9019
A65: 1.2.2.1.4 | B65: Disenar la senalizacion y los dispositivos de trafico | C65: 1 | D65: 1 | E65: =IF(G65>0,G65/W65,0) -> 28548751 | F65: =D65*K65 -> 26344787 | G65: =C65*K65 -> 26344787 | H65: =G65-E65 -> -2203963.5 | I65: =IF(G65=0,0,H65/G65) -> -0.083658431 | J65: =IF(E65=0,0,G65/E65) -> 0.9228 | K65: 26344787 | L65: =IF(J65=0,K65,K65/J65) -> 28548751 | M65: =K65-L65 -> -2203963.5 | N65: =IF((K65-E65)=0,0,(K65-G65)/(K65-E65)) -> 0 | O65: =L65-E65 -> 0 | P65: =L65 -> 28548751 | Q65: 62 | R65: 4 | W65: 0.9228
A66: 1.2.2.1.5 | B66: Aprobar el diseno de pavimento final por el IDU | C66: 1 | D66: 1 | E66: =IF(G66>0,G66/W66,0) -> 22505371 | F66: =D66*K66 -> 21953989 | G66: =C66*K66 -> 21953989 | H66: =G66-E66 -> -551381.58 | I66: =IF(G66=0,0,H66/G66) -> -0.025115325 | J66: =IF(E66=0,0,G66/E66) -> 0.9755 | K66: 21953989 | L66: =IF(J66=0,K66,K66/J66) -> 22505371 | M66: =K66-L66 -> -551381.58 | N66: =IF((K66-E66)=0,0,(K66-G66)/(K66-E66)) -> 0 | O66: =L66-E66 -> 0 | P66: =L66 -> 22505371 | Q66: 63 | R66: 4 | W66: 0.9755
A67: 1.2.2.2 | B67: Disenos de redes de servicios publicos (humedas y secas) ajustados | C67: =IF(K67=0,0,G67/K67) -> 1 | D67: 1 | E67: =SUMIFS(E68:E72,$R68:$R72,4) -> 2.2388531e+08 | F67: =SUMIFS(F68:F72,$R68:$R72,4) -> 206367498 | G67: =SUMIFS(G68:G72,$R68:$R72,4) -> 206367498 | H67: =G67-E67 -> -17517809 | I67: =IF(G67=0,0,H67/G67) -> -0.084886475 | J67: =IF(E67=0,0,G67/E67) -> 0.92175543 | K67: =SUMIFS(K68:K72,$R68:$R72,4) -> 206367498 | L67: =IF(J67=0,K67,K67/J67) -> 2.2388531e+08 | M67: =K67-L67 -> -17517809 | N67: =IF((K67-E67)=0,0,(K67-G67)/(K67-E67)) -> 0 | O67: =L67-E67 -> 0 | P67: =L67 -> 2.2388531e+08 | R67: 3
A68: 1.2.2.2.1 | B68: Ajustar los disenos de redes humedas con la EAAB | C68: 1 | D68: 1 | E68: =IF(G68>0,G68/W68,0) -> 58713588 | F68: =D68*K68 -> 52689574 | G68: =C68*K68 -> 52689574 | H68: =G68-E68 -> -6024014.1 | I68: =IF(G68=0,0,H68/G68) -> -0.11433029 | J68: =IF(E68=0,0,G68/E68) -> 0.8974 | K68: 52689574 | L68: =IF(J68=0,K68,K68/J68) -> 58713588 | M68: =K68-L68 -> -6024014.1 | N68: =IF((K68-E68)=0,0,(K68-G68)/(K68-E68)) -> 0 | O68: =L68-E68 -> 0 | P68: =L68 -> 58713588 | Q68: 56 | R68: 4 | W68: 0.8974
A69: 1.2.2.2.2 | B69: Ajustar los disenos de redes secas (energia y telecom) | C69: 1 | D69: 1 | E69: =IF(G69>0,G69/W69,0) -> 58785645 | F69: =D69*K69 -> 52689574 | G69: =C69*K69 -> 52689574 | H69: =G69-E69 -> -6096071.4 | I69: =IF(G69=0,0,H69/G69) -> -0.11569787 | J69: =IF(E69=0,0,G69/E69) -> 0.8963 | K69: 52689574 | L69: =IF(J69=0,K69,K69/J69) -> 58785645 | M69: =K69-L69 -> -6096071.4 | N69: =IF((K69-E69)=0,0,(K69-G69)/(K69-E69)) -> 0 | O69: =L69-E69 -> 0 | P69: =L69 -> 58785645 | Q69: 56 | R69: 4 | W69: 0.8963
A70: 1.2.2.2.3 | B70: Tramitar la no-objecion de las ESP | C70: 1 | D70: 1 | E70: =IF(G70>0,G70/W70,0) -> 48250525 | F70: =D70*K70 -> 48298776 | G70: =C70*K70 -> 48298776 | H70: =G70-E70 -> 48250.525 | I70: =IF(G70=0,0,H70/G70) -> 0.000999001 | J70: =IF(E70=0,0,G70/E70) -> 1.001 | K70: 48298776 | L70: =IF(J70=0,K70,K70/J70) -> 48250525 | M70: =K70-L70 -> 48250.525 | N70: =IF((K70-E70)=0,0,(K70-G70)/(K70-E70)) -> 0 | O70: =L70-E70 -> 0 | P70: =L70 -> 48250525 | Q70: 67;68 | R70: 4 | W70: 1.001
A71: 1.2.2.2.4 | B71: Compatibilizar con las redes existentes (EAAB/Enel/Vanti) | C71: 1 | D71: 1 | E71: =IF(G71>0,G71/W71,0) -> 29832167 | F71: =D71*K71 -> 26344787 | G71: =C71*K71 -> 26344787 | H71: =G71-E71 -> -3487380.4 | I71: =IF(G71=0,0,H71/G71) -> -0.13237459 | J71: =IF(E71=0,0,G71/E71) -> 0.8831 | K71: 26344787 | L71: =IF(J71=0,K71,K71/J71) -> 29832167 | M71: =K71-L71 -> -3487380.4 | N71: =IF((K71-E71)=0,0,(K71-G71)/(K71-E71)) -> 0 | O71: =L71-E71 -> 0 | P71: =L71 -> 29832167 | Q71: 69 | R71: 4 | W71: 0.8831
A72: 1.2.2.2.5 | B72: Elaborar planos de detalle y especificaciones de redes | C72: 1 | D72: 1 | E72: =IF(G72>0,G72/W72,0) -> 28303381 | F72: =D72*K72 -> 26344787 | G72: =C72*K72 -> 26344787 | H72: =G72-E72 -> -1958594 | I72: =IF(G72=0,0,H72/G72) -> -0.07434465 | J72: =IF(E72=0,0,G72/E72) -> 0.9308 | K72: 26344787 | L72: =IF(J72=0,K72,K72/J72) -> 28303381 | M72: =K72-L72 -> -1958594 | N72: =IF((K72-E72)=0,0,(K72-G72)/(K72-E72)) -> 0 | O72: =L72-E72 -> 0 | P72: =L72 -> 28303381 | Q72: 70 | R72: 4 | W72: 0.9308
A73: 1.2.2.3 | B73: Modelado BIM de la infraestructura proyectada | C73: =IF(K73=0,0,G73/K73) -> 1 | D73: 1 | E73: =SUMIFS(E74:E78,$R74:$R78,4) -> 1.4967942e+08 | F73: =SUMIFS(F74:F78,$R74:$R78,4) -> 140505530 | G73: =SUMIFS(G74:G78,$R74:$R78,4) -> 140505530 | H73: =G73-E73 -> -9173890.9 | I73: =IF(G73=0,0,H73/G73) -> -0.065292027 | J73: =IF(E73=0,0,G73/E73) -> 0.93870974 | K73: =SUMIFS(K74:K78,$R74:$R78,4) -> 140505530 | L73: =IF(J73=0,K73,K73/J73) -> 1.4967942e+08 | M73: =K73-L73 -> -9173890.9 | N73: =IF((K73-E73)=0,0,(K73-G73)/(K73-E73)) -> 0 | O73: =L73-E73 -> 0 | P73: =L73 -> 1.4967942e+08 | R73: 3
A74: 1.2.2.3.1 | B74: Desarrollar los modelos BIM por disciplina | C74: 1 | D74: 1 | E74: =IF(G74>0,G74/W74,0) -> 48452856 | F74: =D74*K74 -> 43907978 | G74: =C74*K74 -> 43907978 | H74: =G74-E74 -> -4544877.9 | I74: =IF(G74=0,0,H74/G74) -> -0.10350916 | J74: =IF(E74=0,0,G74/E74) -> 0.9062 | K74: 43907978 | L74: =IF(J74=0,K74,K74/J74) -> 48452856 | M74: =K74-L74 -> -4544877.9 | N74: =IF((K74-E74)=0,0,(K74-G74)/(K74-E74)) -> 0 | O74: =L74-E74 -> 0 | P74: =L74 -> 48452856 | Q74: 63 | R74: 4 | W74: 0.9062
A75: 1.2.2.3.2 | B75: Coordinar y detectar interferencias | C75: 1 | D75: 1 | E75: =IF(G75>0,G75/W75,0) -> 31436622 | F75: =D75*K75 -> 30735585 | G75: =C75*K75 -> 30735585 | H75: =G75-E75 -> -701036.66 | I75: =IF(G75=0,0,H75/G75) -> -0.022808633 | J75: =IF(E75=0,0,G75/E75) -> 0.9777 | K75: 30735585 | L75: =IF(J75=0,K75,K75/J75) -> 31436622 | M75: =K75-L75 -> -701036.66 | N75: =IF((K75-E75)=0,0,(K75-G75)/(K75-E75)) -> 0 | O75: =L75-E75 -> 0 | P75: =L75 -> 31436622 | Q75: 73 | R75: 4 | W75: 0.9777
A76: 1.2.2.3.3 | B76: Entregar el modelo federado y la documentacion | C76: 1 | D76: 1 | E76: =IF(G76>0,G76/W76,0) -> 22013425 | F76: =D76*K76 -> 21953989 | G76: =C76*K76 -> 21953989 | H76: =G76-E76 -> -59436.248 | I76: =IF(G76=0,0,H76/G76) -> -0.0027073097 | J76: =IF(E76=0,0,G76/E76) -> 0.9973 | K76: 21953989 | L76: =IF(J76=0,K76,K76/J76) -> 22013425 | M76: =K76-L76 -> -59436.248 | N76: =IF((K76-E76)=0,0,(K76-G76)/(K76-E76)) -> 0 | O76: =L76-E76 -> 0 | P76: =L76 -> 22013425 | Q76: 74 | R76: 4 | W76: 0.9973
A77: 1.2.2.3.4 | B77: Cuantificar las cantidades desde el modelo BIM | C77: 1 | D77: 1 | E77: =IF(G77>0,G77/W77,0) -> 24703487 | F77: =D77*K77 -> 21953989 | G77: =C77*K77 -> 21953989 | H77: =G77-E77 -> -2749498.1 | I77: =IF(G77=0,0,H77/G77) -> -0.12523911 | J77: =IF(E77=0,0,G77/E77) -> 0.8887 | K77: 21953989 | L77: =IF(J77=0,K77,K77/J77) -> 24703487 | M77: =K77-L77 -> -2749498.1 | N77: =IF((K77-E77)=0,0,(K77-G77)/(K77-E77)) -> 0 | O77: =L77-E77 -> 0 | P77: =L77 -> 24703487 | Q77: 75 | R77: 4 | W77: 0.8887
A78: 1.2.2.3.5 | B78: Vincular el modelo BIM al cronograma (4D) | C78: 1 | D78: 1 | E78: =IF(G78>0,G78/W78,0) -> 23073031 | F78: =D78*K78 -> 21953989 | G78: =C78*K78 -> 21953989 | H78: =G78-E78 -> -1119042 | I78: =IF(G78=0,0,H78/G78) -> -0.050972149 | J78: =IF(E78=0,0,G78/E78) -> 0.9515 | K78: 21953989 | L78: =IF(J78=0,K78,K78/J78) -> 23073031 | M78: =K78-L78 -> -1119042 | N78: =IF((K78-E78)=0,0,(K78-G78)/(K78-E78)) -> 0 | O78: =L78-E78 -> 0 | P78: =L78 -> 23073031 | Q78: 76 | R78: 4 | W78: 0.9515
A79: 1.2.3 | B79: Suscribir el acta de cambio de fase (Estudios -> Construccion) | C79: 1 | D79: 1 | E79: =IF(G79>0,G79/W79,0) -> 18306432 | F79: =D79*K79 -> 17563191 | G79: =C79*K79 -> 17563191 | H79: =G79-E79 -> -743241.15 | I79: =IF(G79=0,0,H79/G79) -> -0.042318115 | J79: =IF(E79=0,0,G79/E79) -> 0.9594 | K79: 17563191 | L79: =IF(J79=0,K79,K79/J79) -> 18306432 | M79: =K79-L79 -> -743241.15 | N79: =IF((K79-E79)=0,0,(K79-G79)/(K79-E79)) -> 0 | O79: =L79-E79 -> 0 | P79: =L79 -> 18306432 | Q79: 69;63;75;32;27;79;11;15;16;21;22;28;33;43;51;52;57;58;64;65;77 | R79: 2 | W79: 0.9594
A80: 1.2.8 | B80: Hito: Aprobacion de estudios y disenos por las ESP de Bogota (EAAB, Enel-Codensa, Vanti) | C80: 1 | D80: 1 | E80: =IF(G80>0,G80/W80,0) -> 0 | F80: =D80*K80 -> 0 | G80: =C80*K80 -> 0 | H80: =G80-E80 -> 0 | I80: =IF(G80=0,0,H80/G80) -> 0 | J80: =IF(E80=0,0,G80/E80) -> 0 | K80: 0 | L80: =IF(J80=0,K80,K80/J80) -> 0 | M80: =K80-L80 -> 0 | N80: =IF((K80-E80)=0,0,(K80-G80)/(K80-E80)) -> 0 | O80: =L80-E80 -> 0 | P80: =L80 -> 0 | Q80: 69;70;71 | R80: 2
A81: 1.2.9 | B81: Hito: Inicio de Construccion | C81: 1 | D81: 1 | E81: =IF(G81>0,G81/W81,0) -> 0 | F81: =D81*K81 -> 0 | G81: =C81*K81 -> 0 | H81: =G81-E81 -> 0 | I81: =IF(G81=0,0,H81/G81) -> 0 | J81: =IF(E81=0,0,G81/E81) -> 0 | K81: 0 | L81: =IF(J81=0,K81,K81/J81) -> 0 | M81: =K81-L81 -> 0 | N81: =IF((K81-E81)=0,0,(K81-G81)/(K81-E81)) -> 0 | O81: =L81-E81 -> 0 | P81: =L81 -> 0 | Q81: 78 | R81: 2
A82: 1.3 | B82: Fase: Construccion de Obra Civil | C82: =IF(K82=0,0,G82/K82) -> 0.77095313 | D82: 0.87 | E82: =SUMIFS(E83:E164,$R83:$R164,2) -> 8.9611853e+09 | F82: =SUMIFS(F83:F164,$R83:$R164,2) -> 9237595026 | G82: =SUMIFS(G83:G164,$R83:$R164,2) -> 7.861772e+09 | H82: =G82-E82 -> -1.0994133e+09 | I82: =IF(G82=0,0,H82/G82) -> -0.13984293 | J82: =IF(E82=0,0,G82/E82) -> 0.87731386 | K82: =SUMIFS(K83:K164,$R83:$R164,2) -> 10197470837 | L82: =IF(J82=0,K82,K82/J82) -> 1.1623515e+10 | M82: =K82-L82 -> -1.4260442e+09 | N82: =IF((K82-E82)=0,0,(K82-G82)/(K82-E82)) -> 1.8892875 | O82: =L82-E82 -> 2.6623298e+09 | P82: =L82 -> 1.1623515e+10 | R82: 1
A83: 1.3.1 | B83: Cuenta de control: Infraestructura de Redes de Servicios | C83: =IF(K83=0,0,G83/K83) -> 1 | D83: 1 | E83: =SUMIFS(E84:E112,$R84:$R112,3) -> 3.9539526e+09 | F83: =SUMIFS(F84:F112,$R84:$R112,3) -> 3461580032 | G83: =SUMIFS(G84:G112,$R84:$R112,3) -> 3461580032 | H83: =G83-E83 -> -4.9237253e+08 | I83: =IF(G83=0,0,H83/G83) -> -0.14223925 | J83: =IF(E83=0,0,G83/E83) -> 0.87547333 | K83: =SUMIFS(K84:K112,$R84:$R112,3) -> 3461580032 | L83: =IF(J83=0,K83,K83/J83) -> 3.9539526e+09 | M83: =K83-L83 -> -4.9237253e+08 | N83: =IF((K83-E83)=0,0,(K83-G83)/(K83-E83)) -> 0 | O83: =L83-E83 -> 0 | P83: =L83 -> 3.9539526e+09 | R83: 2
A84: 1.3.1.1 | B84: Redes hidrosanitarias (humedas) renovadas y probadas | C84: =IF(K84=0,0,G84/K84) -> 1 | D84: 1 | E84: =SUMIFS(E85:E103,$R85:$R103,4) -> 3.0079661e+09 | F84: =SUMIFS(F85:F103,$R85:$R103,4) -> 2645491500 | G84: =SUMIFS(G85:G103,$R85:$R103,4) -> 2645491500 | H84: =G84-E84 -> -3.6247456e+08 | I84: =IF(G84=0,0,H84/G84) -> -0.13701596 | J84: =IF(E84=0,0,G84/E84) -> 0.87949513 | K84: =SUMIFS(K85:K103,$R85:$R103,4) -> 2645491500 | L84: =IF(J84=0,K84,K84/J84) -> 3.0079661e+09 | M84: =K84-L84 -> -3.6247456e+08 | N84: =IF((K84-E84)=0,0,(K84-G84)/(K84-E84)) -> 0 | O84: =L84-E84 -> 0 | P84: =L84 -> 3.0079661e+09 | R84: 3
A85: 1.3.1.1.0 | B85: Instalar el campamento de obra (preliminares) | C85: 1 | D85: 1 | E85: =IF(G85>0,G85/W85,0) -> 1.5455291e+08 | F85: =D85*K85 -> 141694108 | G85: =C85*K85 -> 141694108 | H85: =G85-E85 -> -12858802 | I85: =IF(G85=0,0,H85/G85) -> -0.090750436 | J85: =IF(E85=0,0,G85/E85) -> 0.9168 | K85: 141694108 | L85: =IF(J85=0,K85,K85/J85) -> 1.5455291e+08 | M85: =K85-L85 -> -12858802 | N85: =IF((K85-E85)=0,0,(K85-G85)/(K85-E85)) -> 0 | O85: =L85-E85 -> 0 | P85: =L85 -> 1.5455291e+08 | Q85: 78 | R85: 4 | W85: 0.9168
A86: 1.3.1.1.1 | B86: Trasladar insumos y maquinaria a obra (preliminares) | C86: 1 | D86: 1 | E86: =IF(G86>0,G86/W86,0) -> 1.1521095e+08 | F86: =D86*K86 -> 106270581 | G86: =C86*K86 -> 106270581 | H86: =G86-E86 -> -8940369.8 | I86: =IF(G86=0,0,H86/G86) -> -0.084128361 | J86: =IF(E86=0,0,G86/E86) -> 0.9224 | K86: 106270581 | L86: =IF(J86=0,K86,K86/J86) -> 1.1521095e+08 | M86: =K86-L86 -> -8940369.8 | N86: =IF((K86-E86)=0,0,(K86-G86)/(K86-E86)) -> 0 | O86: =L86-E86 -> 0 | P86: =L86 -> 1.1521095e+08 | Q86: 84 | R86: 4 | W86: 0.9224
A87: 1.3.1.1.2 | B87: Localizar y replantear topograficamente la via (preliminares) | C87: 1 | D87: 1 | E87: =IF(G87>0,G87/W87,0) -> 1.737299e+08 | F87: =D87*K87 -> 141694108 | G87: =C87*K87 -> 141694108 | H87: =G87-E87 -> -32035794 | I87: =IF(G87=0,0,H87/G87) -> -0.22609122 | J87: =IF(E87=0,0,G87/E87) -> 0.8156 | K87: 141694108 | L87: =IF(J87=0,K87,K87/J87) -> 1.737299e+08 | M87: =K87-L87 -> -32035794 | N87: =IF((K87-E87)=0,0,(K87-G87)/(K87-E87)) -> 0 | O87: =L87-E87 -> 0 | P87: =L87 -> 1.737299e+08 | Q87: 85 | R87: 4 | W87: 0.8156
A88: 1.3.1.1.3 | B88: Demoler y descapotar para redes (preliminares) | C88: 1 | D88: 1 | E88: =IF(G88>0,G88/W88,0) -> 2.9186051e+08 | F88: =D88*K88 -> 247964690 | G88: =C88*K88 -> 247964690 | H88: =G88-E88 -> -43895821 | I88: =IF(G88=0,0,H88/G88) -> -0.17702448 | J88: =IF(E88=0,0,G88/E88) -> 0.8496 | K88: 247964690 | L88: =IF(J88=0,K88,K88/J88) -> 2.9186051e+08 | M88: =K88-L88 -> -43895821 | N88: =IF((K88-E88)=0,0,(K88-G88)/(K88-E88)) -> 0 | O88: =L88-E88 -> 0 | P88: =L88 -> 2.9186051e+08 | Q88: 86 | R88: 4 | W88: 0.8496
A89: 1.3.1.1.4 | B89: Excavar la zanja para redes en el Tramo 1 | C89: 1 | D89: 1 | E89: =IF(G89>0,G89/W89,0) -> 1.3205206e+08 | F89: =D89*K89 -> 123561108 | G89: =C89*K89 -> 123561108 | H89: =G89-E89 -> -8490947.1 | I89: =IF(G89=0,0,H89/G89) -> -0.068718606 | J89: =IF(E89=0,0,G89/E89) -> 0.9357 | K89: 123561108 | L89: =IF(J89=0,K89,K89/J89) -> 1.3205206e+08 | M89: =K89-L89 -> -8490947.1 | N89: =IF((K89-E89)=0,0,(K89-G89)/(K89-E89)) -> 0 | O89: =L89-E89 -> 0 | P89: =L89 -> 1.3205206e+08 | Q89: 87 | R89: 4 | W89: 0.9357
A90: 1.3.1.1.5 | B90: Excavar la zanja para redes en los Tramos 2-3 | C90: 1 | D90: 1 | E90: =IF(G90>0,G90/W90,0) -> 1.7144121e+08 | F90: =D90*K90 -> 154451386 | G90: =C90*K90 -> 154451386 | H90: =G90-E90 -> -16989824 | I90: =IF(G90=0,0,H90/G90) -> -0.11000111 | J90: =IF(E90=0,0,G90/E90) -> 0.9009 | K90: 154451386 | L90: =IF(J90=0,K90,K90/J90) -> 1.7144121e+08 | M90: =K90-L90 -> -16989824 | N90: =IF((K90-E90)=0,0,(K90-G90)/(K90-E90)) -> 0 | O90: =L90-E90 -> 0 | P90: =L90 -> 1.7144121e+08 | Q90: 88 | R90: 4 | W90: 0.9009
A91: 1.3.1.1.6 | B91: Instalar alcantarillado pluvial y sanitario en el Tramo 1 | C91: 1 | D91: 1 | E91: =IF(G91>0,G91/W91,0) -> 2.0096584e+08 | F91: =D91*K91 -> 169896524 | G91: =C91*K91 -> 169896524 | H91: =G91-E91 -> -31069319 | I91: =IF(G91=0,0,H91/G91) -> -0.18287201 | J91: =IF(E91=0,0,G91/E91) -> 0.8454 | K91: 169896524 | L91: =IF(J91=0,K91,K91/J91) -> 2.0096584e+08 | M91: =K91-L91 -> -31069319 | N91: =IF((K91-E91)=0,0,(K91-G91)/(K91-E91)) -> 0 | O91: =L91-E91 -> 0 | P91: =L91 -> 2.0096584e+08 | Q91: 88 | R91: 4 | W91: 0.8454
A92: 1.3.1.1.7 | B92: Instalar alcantarillado pluvial y sanitario en el Tramo 2 | C92: 1 | D92: 1 | E92: =IF(G92>0,G92/W92,0) -> 2.1292344e+08 | F92: =D92*K92 -> 200786801 | G92: =C92*K92 -> 200786801 | H92: =G92-E92 -> -12136636 | I92: =IF(G92=0,0,H92/G92) -> -0.060445387 | J92: =IF(E92=0,0,G92/E92) -> 0.943 | K92: 200786801 | L92: =IF(J92=0,K92,K92/J92) -> 2.1292344e+08 | M92: =K92-L92 -> -12136636 | N92: =IF((K92-E92)=0,0,(K92-G92)/(K92-E92)) -> 0 | O92: =L92-E92 -> 0 | P92: =L92 -> 2.1292344e+08 | Q92: 90;89 | R92: 4 | W92: 0.943
A93: 1.3.1.1.8 | B93: Instalar alcantarillado pluvial y sanitario en el Tramo 3 | C93: 1 | D93: 1 | E93: =IF(G93>0,G93/W93,0) -> 2.1061553e+08 | F93: =D93*K93 -> 185341663 | G93: =C93*K93 -> 185341663 | H93: =G93-E93 -> -25273863 | I93: =IF(G93=0,0,H93/G93) -> -0.13636364 | J93: =IF(E93=0,0,G93/E93) -> 0.88 | K93: 185341663 | L93: =IF(J93=0,K93,K93/J93) -> 2.1061553e+08 | M93: =K93-L93 -> -25273863 | N93: =IF((K93-E93)=0,0,(K93-G93)/(K93-E93)) -> 0 | O93: =L93-E93 -> 0 | P93: =L93 -> 2.1061553e+08 | Q93: 91 | R93: 4 | W93: 0.88
A94: 1.3.1.1.9 | B94: Instalar la red de acueducto en los Tramos 1-2 | C94: 1 | D94: 1 | E94: =IF(G94>0,G94/W94,0) -> 1.8843891e+08 | F94: =D94*K94 -> 169896524 | G94: =C94*K94 -> 169896524 | H94: =G94-E94 -> -18542389 | I94: =IF(G94=0,0,H94/G94) -> -0.10913931 | J94: =IF(E94=0,0,G94/E94) -> 0.9016 | K94: 169896524 | L94: =IF(J94=0,K94,K94/J94) -> 1.8843891e+08 | M94: =K94-L94 -> -18542389 | N94: =IF((K94-E94)=0,0,(K94-G94)/(K94-E94)) -> 0 | O94: =L94-E94 -> 0 | P94: =L94 -> 1.8843891e+08 | Q94: 88 | R94: 4 | W94: 0.9016
A95: 1.3.1.1.10 | B95: Instalar la red de acueducto en el Tramo 3 y accesorios | C95: 1 | D95: 1 | E95: =IF(G95>0,G95/W95,0) -> 1.8678363e+08 | F95: =D95*K95 -> 154451386 | G95: =C95*K95 -> 154451386 | H95: =G95-E95 -> -32332247 | I95: =IF(G95=0,0,H95/G95) -> -0.20933607 | J95: =IF(E95=0,0,G95/E95) -> 0.8269 | K95: 154451386 | L95: =IF(J95=0,K95,K95/J95) -> 1.8678363e+08 | M95: =K95-L95 -> -32332247 | N95: =IF((K95-E95)=0,0,(K95-G95)/(K95-E95)) -> 0 | O95: =L95-E95 -> 0 | P95: =L95 -> 1.8678363e+08 | Q95: 93 | R95: 4 | W95: 0.8269
A96: 1.3.1.1.11 | B96: Rellenar y compactar las zanjas | C96: 1 | D96: 1 | E96: =IF(G96>0,G96/W96,0) -> 1.4173103e+08 | F96: =D96*K96 -> 123561108 | G96: =C96*K96 -> 123561108 | H96: =G96-E96 -> -18169917 | I96: =IF(G96=0,0,H96/G96) -> -0.14705208 | J96: =IF(E96=0,0,G96/E96) -> 0.8718 | K96: 123561108 | L96: =IF(J96=0,K96,K96/J96) -> 1.4173103e+08 | M96: =K96-L96 -> -18169917 | N96: =IF((K96-E96)=0,0,(K96-G96)/(K96-E96)) -> 0 | O96: =L96-E96 -> 0 | P96: =L96 -> 1.4173103e+08 | Q96: 92;94 | R96: 4 | W96: 0.8718
A97: 1.3.1.1.12 | B97: Ejecutar pruebas hidraulicas y empalmar a la red existente | C97: 1 | D97: 1 | E97: =IF(G97>0,G97/W97,0) -> 1.4350884e+08 | F97: =D97*K97 -> 123561108 | G97: =C97*K97 -> 123561108 | H97: =G97-E97 -> -19947728 | I97: =IF(G97=0,0,H97/G97) -> -0.16144019 | J97: =IF(E97=0,0,G97/E97) -> 0.861 | K97: 123561108 | L97: =IF(J97=0,K97,K97/J97) -> 1.4350884e+08 | M97: =K97-L97 -> -19947728 | N97: =IF((K97-E97)=0,0,(K97-G97)/(K97-E97)) -> 0 | O97: =L97-E97 -> 0 | P97: =L97 -> 1.4350884e+08 | Q97: 95 | R97: 4 | W97: 0.861
A98: 1.3.1.1.13 | B98: Completar y entregar las redes humedas para revision de la EAAB | C98: 1 | D98: 1 | E98: =IF(G98>0,G98/W98,0) -> 1.1779905e+08 | F98: =D98*K98 -> 108115970 | G98: =C98*K98 -> 108115970 | H98: =G98-E98 -> -9683082.1 | I98: =IF(G98=0,0,H98/G98) -> -0.089561996 | J98: =IF(E98=0,0,G98/E98) -> 0.9178 | K98: 108115970 | L98: =IF(J98=0,K98,K98/J98) -> 1.1779905e+08 | M98: =K98-L98 -> -9683082.1 | N98: =IF((K98-E98)=0,0,(K98-G98)/(K98-E98)) -> 0 | O98: =L98-E98 -> 0 | P98: =L98 -> 1.1779905e+08 | Q98: 96 | R98: 4 | W98: 0.9178
A99: 1.3.1.1.15 | B99: Construir pozos de inspeccion y conexiones domiciliarias del Tramo 1 | C99: 1 | D99: 1 | E99: =IF(G99>0,G99/W99,0) -> 1.0696079e+08 | F99: =D99*K99 -> 92670831 | G99: =C99*K99 -> 92670831 | H99: =G99-E99 -> -14289962 | I99: =IF(G99=0,0,H99/G99) -> -0.15420129 | J99: =IF(E99=0,0,G99/E99) -> 0.8664 | K99: 92670831 | L99: =IF(J99=0,K99,K99/J99) -> 1.0696079e+08 | M99: =K99-L99 -> -14289962 | N99: =IF((K99-E99)=0,0,(K99-G99)/(K99-E99)) -> 0 | O99: =L99-E99 -> 0 | P99: =L99 -> 1.0696079e+08 | Q99: 90 | R99: 4 | W99: 0.8664
A100: 1.3.1.1.16 | B100: Construir pozos de inspeccion y conexiones domiciliarias del Tramo 2 | C100: 1 | D100: 1 | E100: =IF(G100>0,G100/W100,0) -> 1.2506185e+08 | F100: =D100*K100 -> 108115970 | G100: =C100*K100 -> 108115970 | H100: =G100-E100 -> -16945881 | I100: =IF(G100=0,0,H100/G100) -> -0.156738 | J100: =IF(E100=0,0,G100/E100) -> 0.8645 | K100: 108115970 | L100: =IF(J100=0,K100,K100/J100) -> 1.2506185e+08 | M100: =K100-L100 -> -16945881 | N100: =IF((K100-E100)=0,0,(K100-G100)/(K100-E100)) -> 0 | O100: =L100-E100 -> 0 | P100: =L100 -> 1.2506185e+08 | Q100: 91 | R100: 4 | W100: 0.8645
...

Sheet Informe EVM
A1: INFORME DE VALOR GANADO (EVM)
A3: Indicador | B3: Valor
A4: Presupuesto (BAC) | B4: ='Análisis EVM'!K2 -> 12334901565
A5: Valor Planeado (PV) | B5: ='Análisis EVM'!F2 -> 10918382784
A6: Valor Ganado (EV) | B6: ='Análisis EVM'!G2 -> 9.2806253e+09
A7: Costo Real (AC) | B7: ='Análisis EVM'!E2 -> 1.0546064e+10
A8: Variación de Costo (CV) | B8: =B6-B7 -> -1.2654391e+09
A9: Variación de Plazo (SV) | B9: =B6-B5 -> -1.6377575e+09
A10: Índice de Costo (CPI) | B10: =B6/B7 -> 0.88000841
A11: Índice de Plazo (SPI) | B11: =B6/B5 -> 0.84999999
A12: % Completado | B12: =B6/B4 -> 0.75238746
A13: Costo Final Estimado (EAC) | B13: ='Análisis EVM'!L2 -> 1.40168e+10
A14: Costo para Terminar (ETC) | B14: ='Análisis EVM'!O2 -> 3.4707354e+09
A15: Variación al Final (VAC) | B15: =B4-B13 -> -1.6818981e+09
A16: Índice para Cumplir (TCPI) | B16: ='Análisis EVM'!N2 -> 1.7074087
A18: Datos por fase
A19: Fase | B19: PV | C19: EV | D19: AC | E19: BAC | F19: EAC | G19: CPI | H19: SPI
A20: 1.1 Requisitos | B20: ='Análisis EVM'!F3 -> 807018994 | C20: ='Análisis EVM'!G3 -> 5.4508446e+08 | D20: ='Análisis EVM'!E3 -> 6.4663408e+08 | E20: ='Análisis EVM'!K3 -> 807018994 | F20: ='Análisis EVM'!L3 -> 9.5736721e+08 | G20: =IF(D20=0,0,C20/D20) -> 0.84295659 | H20: =IF(B20=0,0,C20/B20) -> 0.67542953
A21: 1.2 Estudios | B21: ='Análisis EVM'!F46 -> 873768764 | C21: ='Análisis EVM'!G46 -> 873768764 | D21: ='Análisis EVM'!E46 -> 9.3824497e+08 | E21: ='Análisis EVM'!K46 -> 873768764 | F21: ='Análisis EVM'!L46 -> 9.3824497e+08 | G21: =IF(D21=0,0,C21/D21) -> 0.93127999 | H21: =IF(B21=0,0,C21/B21) -> 1
A22: 1.3 Construcción | B22: ='Análisis EVM'!F82 -> 9237595026 | C22: ='Análisis EVM'!G82 -> 7.861772e+09 | D22: ='Análisis EVM'!E82 -> 8.9611853e+09 | E22: ='Análisis EVM'!K82 -> 10197470837 | F22: ='Análisis EVM'!L82 -> 1.1623515e+10 | G22: =IF(D22=0,0,C22/D22) -> 0.87731386 | H22: =IF(B22=0,0,C22/B22) -> 0.85106264
A23: 1.4 Liquidación | B23: ='Análisis EVM'!F165 -> 0 | C23: ='Análisis EVM'!G165 -> 0 | D23: ='Análisis EVM'!E165 -> 0 | E23: ='Análisis EVM'!K165 -> 456642970 | F23: ='Análisis EVM'!L165 -> 456642970 | G23: =IF(D23=0,0,C23/D23) -> 0 | H23: =IF(B23=0,0,C23/B23) -> 0
A24: TOTAL | B24: =B5 -> 10918382784 | C24: =B6 -> 9.2806253e+09 | D24: =B7 -> 1.0546064e+10 | E24: =B4 -> 12334901565 | F24: =B13 -> 1.40168e+10 | G24: =B10 -> 0.88000841 | H24: =B11 -> 0.84999999
A27: Fase | B27: BAC | C27: EAC
A28: =A20 -> 1.1 Requisitos | B28: =E20 -> 807018994 | C28: =F20 -> 9.5736721e+08
A29: =A21 -> 1.2 Estudios | B29: =E21 -> 873768764 | C29: =F21 -> 9.3824497e+08
A30: =A22 -> 1.3 Construcción | B30: =E22 -> 10197470837 | C30: =F22 -> 1.1623515e+10
A31: =A23 -> 1.4 Liquidación | B31: =E23 -> 456642970 | C31: =F23 -> 456642970
A32: TOTAL | B32: =E24 -> 12334901565 | C32: =F24 -> 1.40168e+10
A35: Fase | B35: CPI | C35: SPI
A36: =A20 -> 1.1 Requisitos | B36: =G20 -> 0.84295659 | C36: =H20 -> 0.67542953
A37: =A21 -> 1.2 Estudios | B37: =G21 -> 0.93127999 | C37: =H21 -> 1
A38: =A22 -> 1.3 Construcción | B38: =G22 -> 0.87731386 | C38: =H22 -> 0.85106264
A39: =A23 -> 1.4 Liquidación | B39: =G23 -> 0 | C39: =H23 -> 0
