Workbook
Name BALANCE: '6. ESTADOS FINANCIEROS'!$A$61:$G$96
Name COMPUTADOR_A: '3, INVENTARIO'!$A$32:$K$55
Name FACTORES: '1. PERSONAL'!$A$68:$D$105
Name FLUJO: '6. ESTADOS FINANCIEROS'!$A$98:$G$154
Name INGRESOS: '3, INVENTARIO'!$A$1:$H$23
Name INVERSION: '2. INVERSION'!$A$1:$D$77
Name LIBRE: '6. ESTADOS FINANCIEROS'!$A$156:$G$181
Name PERSONAL: '1. PERSONAL'!$A$1:$I$31
Name PYG: '6. ESTADOS FINANCIEROS'!$A$1:$G$59

Sheet 1. PERSONAL
B1: IMPORTACIÓN, VENTA Y POSTVENTA DE EQUIPOS DE AUDIOLOGÍA
A2: TABLA 2.1.
A3: PLANTA DE PERSONAL Y ASIGNACIONES MENSUALES
A5: DEPENDENCIA Y CARGO | B5: NUMERO DE CARGOS | C5: SUELDO BASICO MENSUAL ($) | D5: TOTAL | E5: MANO DE OBRA DIRECTA | F5: MANO DE OBRA INDIRECTA | G5: GASTOS DE VENTAS | H5: GASTOS ADMON | I5: PRESTACIONES SOCIALES
A6: GERENCIA
A7: Gerente General | B7: 1 | C7: 2000000 | D7: =+C7*B7 -> 2000000 | H7: =+D7 -> 2000000 | I7: =IF(C7>K7,C105*D7,B105*D7) -> 900015.79 | K7: =1423500*2 -> 2847000
A8: Asistente Administrativa y Contable | B8: 1 | C8: 1500000 | D8: =+C8*B8 -> 1500000 | H8: =+D8 -> 1500000 | I8: =IF(C8>1817052,$C$105*D8,$B$105*D8) -> 675011.84
A10: SUBGERENCIA COMERCIAL
A11: Subgerente Comercial | B11: 1 | C11: 2000000 | D11: =+B11*C11 -> 2000000 | G11: =+D11 -> 2000000 | I11: =IF(C11>1817052,$C$105*D11,$B$105*D11) -> 892500
A12: Jefe de Ventas | B12: 0 | C12: 0 | D12: =+C12*B12 -> 0 | G12: =+D12 -> 0 | I12: =IF(C12>K7,$C$105*D12,$B$105*D12) -> 0
A13: Representantes de ventas | B13: 0 | C13: 0 | D13: =+C13*B13 -> 0 | G13: =+D13 -> 0 | I13: =IF(C13>K7,$C$105*D13,$B$105*D13) -> 0
A15: SUBGERENCIA ADMINISTRATIVA Y FINANCIERA
B16: 0 | D16: =+C16*B16 -> 0 | H16: =+D16 -> 0 | I16: =IF(C16>1817052,$C$105*D16,$B$105*D16) -> 0
A17: Contador | B17: 1 | C17: 1500000 | D17: =+C17*B17 -> 1500000 | H17: =+D17 -> 1500000 | I17: =IF(C17>K7,$C$105*D17,$B$105*D17) -> 675011.84
A18: HSEQ-SST | B18: 1 | C18: 1500000 | D18: =+C18*B18 -> 1500000 | H18: =+D18 -> 1500000 | I18: =IF(C18>K7,$C$105*D18,$B$105*D18) -> 675011.84
B19: 0 | D19: =+C19*B19 -> 0 | H19: =+D19 -> 0 | I19: =IF(C19>1817052,$C$105*D19,$D$105*D19) -> 0 | M19: =SUM(E31:H31) -> 11500000
B20: 0 | D20: =+C20*B20 -> 0 | H20: =+D20 -> 0 | I20: =IF(C20>1817052,$C$105*D20,$B$105*D20) -> 0
A21: Auxiliar de Servicios Generales | B21: 1 | C21: 1500000 | D21: 1500000 | H21: =+D21 -> 1500000 | I21: =IF(C21>1817052,$C$105*D21,$B$105*D21) -> 675011.84
A23: DIVISION TECNICA
A24: Director Técnico | B24: 1 | C24: 1500000 | D24: =+B24*C24 -> 1500000 | E24: =+D24 -> 1500000 | I24: =IF(C24>1817052,$C$105*D24,$B$105*D24) -> 675011.84
A25: Técnico | B25: 0 | D25: =+B25*C25 -> 0 | E25: =+D25 -> 0 | I25: =IF(C25>1817052,$C$105*D25,$B$105*D25) -> 0
A26: Jefe de bodega | B26: 0 | D26: =+C26*B26 -> 0 | F26: =+D26 -> 0 | I26: =IF(C26>1817052,$C$105*D26,$B$105*D26) -> 0
A27: Operario | B27: 0 | D27: =+B27*C27 -> 0 | E27: =+D27 -> 0 | I27: =IF(C27>1817052,$C$105*D27,$B$105*D27) -> 0
A28: Bodeguero | B28: 0 | D28: =+B28*C28 -> 0 | F28: =+D28 -> 0 | I28: =IF(C28>1817052,$C$105*D28,$B$105*D28) -> 0
A29: Conductor | B29: 0 | C29: 0 | D29: =+B29*C29 -> 0 | F29: =+D29 -> 0 | I29: =IF(C29>K7,$C$105*D29,$B$105*D29) -> 0
A30: Ayudante | B30: 0 | D30: =+B30*C30 -> 0 | F30: =+D30 -> 0 | I30: =IF(C30>1817052,$C$105*D30,$B$105*D30) -> 0
A31: TOTAL | B31: =SUM(B7:B30) -> 7 | D31: =SUM(D7:D30) -> 11500000 | E31: =SUM(E7:E30) -> 1500000 | F31: =SUM(F7:F30) -> 0 | G31: =SUM(G7:G30) -> 2000000 | H31: =SUM(H7:H30) -> 8000000 | I31: =SUM(I7:I30) -> 5167575 | K31: =+I31*12 -> 62010900
K32: =+D31*12 -> 138000000
A33: IMPORTACIÓN, VENTA Y POSTVENTA DE EQUIPOS DE AUDIOLOGÍA | K33: =SUM(K31:K32) -> 200010900
A34: TABLA 2.2. | H34: Partici % prest= | I34: =+I31/D31 -> 0.44935435
A36: CLASIFICACION Y COSTO TOTAL DE LA PLANTA DE PERSONAL SEGUN CALIFICACION
A38: MANO DE OBRA | B38: NUMERO DE TRABAJADORES | C38: TOTAL MENSUAL ($) | D38: TOTALSUELDOS Y PRESTACIONES SOCIALES | K38: =+K33-D84 -> 293115.79
A39: Calificada | B39: =+B7+B11+B12+B16+B17+B18+B19+B24+B25 -> 5 | C39: =+D7+D11+D12+D16+D17+D18+D19+D24+D25 -> 8500000 | D39: =+C39*(1+B63) -> 12495000
A40: No Calificada | B40: =+B8+B13+B20+B21+B26+B27+B28+B29+B30 -> 2 | C40: =+D8+D13+D20+D21+D26+D27+D28+D29+D30 -> 3000000 | D40: =+C40*(1+C63) -> 4510066.8
A41: TOTAL MES | B41: =SUM(B39:B40) -> 7 | C41: =SUM(C39:C40) -> 11500000 | D41: =SUM(D39:D40) -> 17005067
A42: TOTAL AÑO "0" | B42: =+B41 -> 7 | C42: =+C41*12 -> 138000000 | D42: =+D41*12 -> 2.040608e+08
A44: FACTORES PRESTACIONALES | B44: calificado | C44: no calificado
A45: sueldo basico | B45: 1 | C45: 1
A46: Recargos Nocturnos | C46: 0
A47: subsidio de transporte | C47: =+(B40-B13-B26)*106454/C40 -> 0.070969333
...

Sheet 2. INVERSION
A1: IMPORTACIÓN, VENTA Y POSTVENTA DE EQUIPOS DE AUDIOLOGÍA
A2: 1. INVERSION
A4: TABLA 1.1
A5: INVERSIONES FIJAS
A6: (ADQUISICION EQUIPOS Y MONTAJE)
D7: 2025 | E7: =D7+1 -> 2026 | F7: =E7+1 -> 2027 | G7: =F7+1 -> 2028 | H7: =G7+1 -> 2029 | I7: =H7+1 -> 2030
A8: DESCRIPCION | B8: CANTIDAD | C8: VALOR UNIT | D8: VALOR TOTAL
A10: Equipo patrón - Sistema de Calibración 831C | B10: 1 | C10: 77800000 | D10: =+B10*C10 -> 77800000
A11: Herramientas y equipos de apoyo | B11: 1 | C11: 5000000 | D11: =+B11*C11 -> 5000000
A12: Equipo de oficina (calculadoras, teléfonos, equipos de computo) | B12: 1 | C12: 2000000 | D12: =+B12*C12 -> 2000000
A13: Mobiliario de oficina (archivador, sillas, etc) | B13: 6 | C13: 1000000 | D13: =+B13*C13 -> 6000000
A14: Equipo de cómputo | B14: 3 | C14: 2000000 | D14: =+B14*C14 -> 6000000
A15: Muebles y utencillos de cafetería | B15: 1 | C15: 1000000 | D15: =+B15*C15 -> 1000000
A16: Vehículo | B16: 1 | C16: 10000000 | D16: =+B16*C16 -> 10000000
B17: 1 | C17: 0 | D17: =+B17*C17 -> 0
B18: 1 | C18: 0 | D18: =+B18*C18 -> 0
B19: 0 | C19: 0 | D19: =+B19*C19 -> 0
A20: TOTAL INVERSIONES FIJAS | D20: =SUM(D10:D19) -> 107800000 | E20: =SUM(E10:E19) -> 0 | F20: =SUM(F10:F19) -> 0 | G20: =SUM(G10:G19) -> 0 | H20: =SUM(H10:H19) -> 0 | I20: =SUM(I10:I19) -> 0
A24: TABLA 1.2
A25: INVERSION PREOPERATIVA (DIFERIDA)
A27: CONCEPTO | B27: CANTIDAD | C27: VALOR UNIT | D27: VALOR TOTAL
A28: Estudios | B28: 1 | C28: 500000 | D28: =+C28*B28 -> 500000
B29: 0 | C29: 0 | D29: =+B29*C29 -> 0
A30: Gastos de Constitución | B30: 1 | C30: 1000000 | D30: =+B30*C30 -> 1000000
A31: Gastos Generales (papelerìa, transporte) | B31: 1 | C31: 300000 | D31: =+B31*C31 -> 300000
A32: Gastos del Personal varios | C32: 3000000 | D32: =+C32 -> 3000000
A33: Servicios Públicos | C33: 500000 | D33: =+C33 -> 500000
A34: Capacitación | B34: 2 | C34: 500000 | D34: =+B34*C34 -> 1000000
A35: Imprevistos | C35: 1000000 | D35: =+C35 -> 1000000
A36: TOTAL | D36: =SUM(D28:D35) -> 7300000
A38: TABLA 1.3.
A39: PRESUPUESTO DE INVERSIONES
B40: =D7 -> 2025 | C40: =B40+1 -> 2026 | D40: =C40+1 -> 2027 | E40: =D40+1 -> 2028 | F40: =E40+1 -> 2029 | G40: =F40+1 -> 2030
A41: PERIODO | B41: 0 | C41: 1 | D41: 2 | E41: 3 | F41: 4 | G41: 5
A42: 1. INVERSIONES FIJAS | B42: =+B43+B44 -> 113800000 | C42: =+C43+C44 -> 0 | D42: =+D43+D44 -> 0 | E42: =+E43+E44 -> 0 | F42: =+F43+F44 -> 0 | G42: =+G43+G44 -> 0
A43: 1.1. NO DEPRECIABLES | B43: 0
A44: 1.2. DEPRECIABLES | B44: =SUM(B45:B49) -> 113800000 | C44: =SUM(C45:C49) -> 0 | D44: =SUM(D45:D49) -> 0 | E44: =SUM(E45:E49) -> 0 | F44: =SUM(F45:F49) -> 0 | G44: =SUM(G45:G49) -> 0
A45: 1.2.1. Construcciones y obras civiles | B45: 0
A46: 1.2.2. Maquinaria y equipo | B46: =+D10+D11+D12+D14 -> 90800000 | C46: =+E10+E11+E13+E14+E15+E19 -> 0 | D46: =+F10+F11+F13+F14+F15+F19 -> 0 | E46: =+G10+G11+G13+G14+G15+G19 -> 0 | F46: =+H10+H11+H13+H14+H15+H19 -> 0 | G46: =+I10+I11+I13+I14+I15+I19 -> 0
A47: 1.2.3. Muebles y enseres | B47: =+D13+D14+D15 -> 13000000 | C47: =+E16+E17+E18 -> 0 | D47: =+F16+F17+F18 -> 0 | E47: =+G16+G17+G18 -> 0 | F47: =+H16+H17+H18 -> 0 | G47: =+I16+I17+I18 -> 0
...

Sheet 3, INVENTARIO
B2: PLAN DE NEGOCIOS PARA LA VENTA Y POSTVENTA DE EQUIPOS DE DIAGNÓSTICO AUDIOLÓGICO EN COLOMBIA
C3: ESTIMACION DE VENTAS (PRECIOS Y CANTIDADES)
D5: 0 | E5: 1 | F5: 2 | G5: 3 | H5: 4 | I5: 5
B6: UNIDADES VENDIDAS | D6: mes-uds. 2026
B7: Audiómetros | D7: =+'4. COSTOS'!C25 -> 10 | E7: =+D7*12 -> 120 | F7: =+(E7)*(1+$F$11) -> 138 | G7: =+F7*(1+$G$11) -> 162.84 | H7: =+G7*(1+$H$11) -> 197.0364 | I7: =+H7*(1+$I$11) -> 244.32514
B8: Impedanciómetros | D8: =+'4. COSTOS'!C26 -> 3 | E8: =+D8*12 -> 36 | F8: =+(E8)*(1+$F$11) -> 41.4 | G8: =+F8*(1+$G$11) -> 48.852 | H8: =+G8*(1+$H$11) -> 59.11092 | I8: =+H8*(1+$I$11) -> 73.297541
B9: Equipos OAE/ABR | D9: =+'4. COSTOS'!C27 -> 2 | E9: =+D9*12 -> 24 | F9: =+(E9)*(1+$F$11) -> 27.6 | G9: =+F9*(1+$G$11) -> 32.568 | H9: =+G9*(1+$H$11) -> 39.40728 | I9: =+H9*(1+$I$11) -> 48.865027
B10: TOTAL | E10: =SUM(E7:E9) -> 180 | F10: =+(E10)*(1+$F$11) -> 207 | G10: =SUM(G7:G9) -> 244.26 | H10: =SUM(H7:H9) -> 295.5546 | I10: =SUM(I7:I9) -> 366.4877
B11: Crecimiento ventas | F11: 0.15 | G11: 0.18 | H11: 0.21 | I11: 0.24 | J11: Estrategia comercial y dinámica económica
B13: PRECIOS VENTA | C13: MARGEN UTILIDAD = | D13: 0.4
B14: Audiómetros | E14: ='4. COSTOS'!C20*(1+'3, INVENTARIO'!$D$13) -> 11900000 | F14: =+E14*(1+$F$17) -> 13030500 | G14: =+F14*(1+$G$17) -> 14265791 | H14: =+G14*(1+$H$17) -> 15874973 | I14: =+H14*(1+$I$17) -> 17525970
B15: Impedanciómetros | E15: =+'4. COSTOS'!D20*(1+$D$13) -> 16310000 | F15: =+E15*(1+$F$17) -> 17859450 | G15: =+F15*(1+$G$17) -> 19552526 | H15: =+G15*(1+$H$17) -> 21758051 | I15: =+H15*(1+$I$17) -> 24020888
B16: Equipos OAE/ABR | E16: =+'4. COSTOS'!E20*(1+$D$13) -> 56000000 | F16: =+E16*(1+$F$17) -> 61320000 | G16: =+F16*(1+$G$17) -> 67133136 | H16: =+G16*(1+$H$17) -> 74705754 | I16: =+H16*(1+$I$17) -> 82475152
B17: Crecimiento precio | F17: =+(0.9*'4. COSTOS'!O8+0.1*'3, INVENTARIO'!F18) -> 0.095 | G17: =+(0.9*'4. COSTOS'!O8+0.1*'3, INVENTARIO'!G18) -> 0.0948 | H17: =+(0.9*'4. COSTOS'!P8+0.1*'3, INVENTARIO'!H18) -> 0.1128 | I17: =+(0.9*'4. COSTOS'!Q8+0.1*'3, INVENTARIO'!I18) -> 0.104
B18: Inflación proyectada | E18: 0.052 | F18: 0.05 | G18: 0.048 | H18: 0.048 | I18: 0.05
B19: INGRESOS POR VENTAS
B20: Audiómetros | E20: =+E7*E14 -> 1428000000 | F20: =+F7*F14 -> 1798209000 | G20: =+G7*G14 -> 2.3230415e+09 | H20: =+H7*H14 -> 3.1279475e+09 | I20: =+I7*I14 -> 4.282035e+09
B21: Impedanciómetros | E21: =+E8*E15 -> 5.8716e+08 | F21: =+F8*F15 -> 7.3938123e+08 | G21: =+G8*G15 -> 9.5517999e+08 | H21: =+H8*H15 -> 1.2861384e+09 | I21: =+I8*I15 -> 1.760672e+09
B22: Equipos OAE/ABR | E22: =+E9*E16 -> 1344000000 | F22: =+F9*F16 -> 1.692432e+09 | G22: =+G9*G16 -> 2.186392e+09 | H22: =+H9*H16 -> 2.9439506e+09 | I22: =+I9*I16 -> 4.0301506e+09
B23: total ingresos | E23: =SUM(E20:E22) -> 3359160000 | F23: =SUM(F20:F22) -> 4230022230 | G23: =SUM(G20:G22) -> 5.4646134e+09 | H23: =SUM(H20:H22) -> 7.3580364e+09 | I23: =SUM(I20:I22) -> 1.0072858e+10
B25: Impuestos= | D25: 0.31 | E25: 0.31 | F25: 0.31 | G25: 0.31 | H25: 0.31 | I25: 0.31
A28: IMPORTACIÓN, VENTA Y POSTVENTA DE EQUIPOS DE AUDIOLOGÍA
A30: MOVIMIENTO DE INVENTARIOS
A32: AUDIÓMETROS | C32: INGRESOS | F32: EGRESOS | I32: SALDO
A33: PERIODO | B33: DETALLE | C33: UNDADES | D33: $/UNT | E33: TOTAL | F33: UNDADES | G33: $/UNT | H33: TOTAL | I33: UNDADES | J33: $/UNT | K33: TOTAL
I34: 0 | K34: 0
A35: ene-dic | B35: Compras | C35: =+'3, INVENTARIO'!E7+1 -> 121 | D35: =+'4. COSTOS'!M10 -> 8500000 | E35: =+C35*D35 -> 1028500000 | I35: =+C35-F35 -> 121 | J35: =+K35/I35 -> 8500000 | K35: =+E35-H35 -> 1028500000
A36: 2025 | B36: devoluc. en compras | F36: =ROUND(+C35*0%,0) -> 0 | G36: =+J35 -> 8500000 | H36: =+G36*F36 -> 0 | I36: =+I35+C36-F36 -> 121 | J36: =+K36/I36 -> 8500000 | K36: =+K35+E36-H36 -> 1028500000
B37: Ventas | F37: =+'3, INVENTARIO'!E7 -> 120 | G37: =+J36 -> 8500000 | H37: =+F37*G37 -> 1020000000 | I37: =+I36+C37-F37 -> 1 | J37: =+K37/I37 -> 8500000 | K37: =+K36+E37-H37 -> 8500000
B38: Devolucion en ventas | C38: =ROUND(+F37*0%,0) -> 0 | D38: =+J37 -> 8500000 | E38: =+C38*D38 -> 0 | I38: =+I37+C38-F38 -> 1 | J38: =+K38/I38 -> 8500000 | K38: =+K37+E38-H38 -> 8500000
A39: ene-dic | B39: Compras | C39: =+'3, INVENTARIO'!F7 -> 138 | D39: =+'4. COSTOS'!N10 -> 8500000 | E39: =+C39*D39 -> 1173000000 | I39: =+I38+C39-F39 -> 139 | J39: =+K39/I39 -> 8500000 | K39: =+K38+E39-H39 -> 1181500000
A40: 2026 | B40: devoluc. en compras | F40: =ROUND(+C39*0%,0) -> 0 | G40: =+J39 -> 8500000 | H40: =+G40*F40 -> 0 | I40: =+I39+C40-F40 -> 139 | J40: =+K40/I40 -> 8500000 | K40: =+K39+E40-H40 -> 1181500000
B41: Ventas | F41: =+'3, INVENTARIO'!F7 -> 138 | G41: =+J40 -> 8500000 | H41: =+F41*G41 -> 1173000000 | I41: =+I40+C41-F41 -> 1 | J41: =+K41/I41 -> 8500000 | K41: =+K40+E41-H41 -> 8500000
B42: Devolucion en ventas | C42: =ROUND(+F41*0%,0) -> 0 | D42: =+J41 -> 8500000 | E42: =+C42*D42 -> 0 | I42: =+I41+C42-F42 -> 1 | J42: =+K42/I42 -> 8500000 | K42: =+K41+E42-H42 -> 8500000
A43: ene-dic | B43: Compras | C43: =+'3, INVENTARIO'!G7 -> 162.84 | D43: =+'4. COSTOS'!O10 -> 9350000 | E43: =+C43*D43 -> 1522554000 | I43: =+I42+C43-F43 -> 163.84 | J43: =+K43/I43 -> 9344812 | K43: =+K42+E43-H43 -> 1531054000
A44: 2027 | B44: devoluc. en compras | F44: =ROUND(+C43*0%,0) -> 0 | G44: =+J43 -> 9344812 | H44: =+G44*F44 -> 0 | I44: =+I43+C44-F44 -> 163.84 | J44: =+K44/I44 -> 9344812 | K44: =+K43+E44-H44 -> 1531054000
B45: Ventas | F45: =+C43 -> 162.84 | G45: =+J44 -> 9344812 | H45: =+F45*G45 -> 1.5217092e+09 | I45: =+I44+C45-F45 -> 1 | J45: =+K45/I45 -> 9344812 | K45: =+K44+E45-H45 -> 9344812
B46: Devolucion en ventas | C46: =ROUND(+F45*0%,0) -> 0 | D46: =+J45 -> 9344812 | E46: =+C46*D46 -> 0 | I46: =+I45+C46-F46 -> 1 | J46: =+K46/I46 -> 9344812 | K46: =+K45+E46-H46 -> 9344812
A47: ene-dic | B47: Compras | C47: =+'3, INVENTARIO'!H7 -> 197.0364 | D47: =+'4. COSTOS'!P10 -> 10472000 | E47: =+C47*D47 -> 2.0633652e+09 | I47: =+I46+C47-F47 -> 198.0364 | J47: =+K47/I47 -> 10466308 | K47: =+K46+E47-H47 -> 2.07271e+09
A48: 2028 | B48: devoluc. en compras | F48: =ROUND(+C47*0%,0) -> 0 | G48: =+J47 -> 10466308 | H48: =+G48*F48 -> 0 | I48: =+I47+C48-F48 -> 198.0364 | J48: =+K48/I48 -> 10466308 | K48: =+K47+E48-H48 -> 2.07271e+09
...

Sheet 4. COSTOS
B1: IMPORTACIÓN, VENTA Y POSTVENTA DE EQUIPOS DE AUDIOLOGÍA
B2: 3. COSTOS Y GASTOS DE PRODUCCION
A3: TABLA 3.1 | E3: 2025 | F3: =E3+1 -> 2026 | G3: =F3+1 -> 2027 | H3: =G3+1 -> 2028 | I3: =H3+1 -> 2029
A4: 1. COSTOS DE SERVICIO | L4: PROYECCION ANUAL DE COSTOS TOTAL UNITARIO
A5: 1.1 COSTO DIRECTO | E5: =+E6+E32+E37 -> 2428013475 | F5: =+F6+F32+F37 -> 2.3873204e+09 | G5: =+G6+G32+G37 -> 3.1538939e+09 | H5: =+H6+H32+H37 -> 4.235941e+09 | I5: =+I6+I32+I37 -> 5.8296587e+09
A6: 1.1.1.RELACION MATERIA PRIMA | E6: =+E30 -> 2399400000 | F6: =+F30 -> 2351382000 | G6: =+G30 -> 3.1075865e+09 | H6: =+H30 -> 4.1737994e+09 | I6: =+I30 -> 5.7448174e+09 | M6: PRECIO INICIAL | N6: PRECIO 2026 | O6: PRECIO 2027 | P6: PRECIO 2028 | Q6: PRECIO 2029 | R6: PRECIO 2030
A7: Especificaciones | C7: AUDIÓMETROS | D7: IMPEDANCIÓMETROS | E7: EQUIPOS OAE/ABR
C8: 0 | L8: % CRECIMIENTO TCRM | N8: 0 | O8: 0.1 | P8: 0.12 | Q8: 0.11 | R8: 0.12
C9: 0 | L9: DETALLE EQUIPOS DE AUDIOLOGÍA
C10: 0 | L10: Audiómetros | M10: =+B25 -> 8500000 | N10: =+M10*(1+$N$8) -> 8500000 | O10: =+N10*(1+$O$8) -> 9350000 | P10: =+O10*(1+$P$8) -> 10472000 | Q10: =+P10*(1+$Q$8) -> 11623920 | R10: =+Q10*(1+$Q$8) -> 12902551
C11: 0 | L11: Impedanciómetros | M11: =+B26 -> 11650000 | N11: =+M11*(1+$N$8) -> 11650000 | O11: =+N11*(1+$O$8) -> 12815000 | P11: =+O11*(1+$P$8) -> 14352800 | Q11: =+P11*(1+$Q$8) -> 15931608 | R11: =+Q11*(1+$Q$8) -> 17684085
C12: 0 | L12: Equipos OAE/ABR | M12: =+B27 -> 40000000 | N12: =+M12*(1+$N$8) -> 40000000 | O12: =+N12*(1+$O$8) -> 44000000 | P12: =+O12*(1+$P$8) -> 49280000 | Q12: =+P12*(1+$Q$8) -> 54700800 | R12: =+Q12*(1+$Q$8) -> 60717888
C13: 0
C14: 0
A15: Costo de Fabrica | C15: 8000000 | D15: 11000000 | E15: 38000000
A16: Fletes | C16: 100000 | D16: 100000 | E16: 100000
A17: Nacionalización | C17: =C15*0.05 -> 400000 | D17: =D15*0.05 -> 550000 | E17: =E15*0.05 -> 1900000
C18: 0
A20: COSTO UNITARIO IMPORTACIÓN | C20: =SUM(C8:C18) -> 8500000 | D20: =SUM(D8:D19) -> 11650000 | E20: =SUM(E8:E19) -> 40000000
A22: TABLA 3.2.
A23: PROYECCIÓN COSTO IMPORTACIÓN, VENTA Y POSTVENTA DE EQUIPOS DE AUDIOLOGÍA
A24: DETALLE | B24: COSTO UNITARIO 2026 | C24: CANTIDAD (Uds. un mes de 2026) | D24: TOTAL MES (2027) | E24: TOTAL 2027 | F24: TOTAL 2028 | G24: TOTAL 2029 | H24: TOTAL 2030 | I24: TOTAL 2031
A25: Audiómetros | B25: =+C20 -> 8500000 | C25: 10 | D25: =+B25*C25 -> 85000000 | E25: =+D25*12 -> 1020000000 | F25: =+O10*'3, INVENTARIO'!F7 -> 1290300000 | G25: =+P10*'3, INVENTARIO'!G7 -> 1.7052605e+09 | H25: =+Q10*'3, INVENTARIO'!H7 -> 2.2903354e+09 | I25: =+R10*'3, INVENTARIO'!I7 -> 3.1524176e+09
A26: Impedanciómetros | B26: =+D20 -> 11650000 | C26: 3 | D26: =+B26*C26 -> 34950000 | E26: =+D26*12 -> 419400000 | F26: =+O11*'3, INVENTARIO'!F8 -> 5.30541e+08 | G26: =+P11*'3, INVENTARIO'!G8 -> 7.0116299e+08 | H26: =+Q11*'3, INVENTARIO'!H8 -> 9.4173201e+08 | I26: =+R11*'3, INVENTARIO'!I8 -> 1.2961999e+09
A27: Equipos OAE y ABR | B27: =+E20 -> 40000000 | C27: 2 | D27: =+B27*C27 -> 80000000 | E27: =+D27*12 -> 960000000 | F27: =+O11*'3, INVENTARIO'!F8 -> 5.30541e+08 | G27: =+P11*'3, INVENTARIO'!G8 -> 7.0116299e+08 | H27: =+Q11*'3, INVENTARIO'!H8 -> 9.4173201e+08 | I27: =+R11*'3, INVENTARIO'!I8 -> 1.2961999e+09
A28: Servicios de Calibración | D28: =+B28*C28 -> 0 | E28: =+D28*12 -> 0 | F28: =+O12*'3, INVENTARIO'!F9 -> 1214400000 | G28: =+P12*'3, INVENTARIO'!G9 -> 1.604951e+09 | H28: =+Q12*'3, INVENTARIO'!H9 -> 2.1556097e+09 | I28: =+R12*'3, INVENTARIO'!I9 -> 2.9669812e+09
A29: Servicio Técnico | D29: =+B29*C29 -> 0 | E29: =+D29*12 -> 0 | F29: =+O12*'3, INVENTARIO'!F9 -> 1214400000 | G29: =+P12*'3, INVENTARIO'!G9 -> 1.604951e+09 | H29: =+Q12*'3, INVENTARIO'!H9 -> 2.1556097e+09 | I29: =+R12*'3, INVENTARIO'!I9 -> 2.9669812e+09
A30: TOTAL COSTO IMPORTACIÓN | C30: =SUM(C25:C27) -> 15 | D30: =SUM(D25:D27) -> 199950000 | E30: =SUM(E25:E27) -> 2399400000 | F30: =SUM(F25:F27) -> 2351382000 | G30: =SUM(G25:G27) -> 3.1075865e+09 | H30: =SUM(H25:H27) -> 4.1737994e+09 | I30: =SUM(I25:I27) -> 5.7448174e+09
A32: 1.1.2. RELACION MATERIALES DIRECTOS | D32: =SUM(D33:D34) -> 150000 | E32: =SUM(E33:E34) -> 1800000 | F32: =+E32*(1+'3, INVENTARIO'!$F$11)*(1+'3, INVENTARIO'!$F$18) -> 2173500 | G32: =+F32*(1+'3, INVENTARIO'!$G$11)*(1+'3, INVENTARIO'!$G$18) -> 2687837 | H32: =+G32*(1+'3, INVENTARIO'!$H$11)*(1+'3, INVENTARIO'!$H$18) -> 3408392.4 | I32: =+H32*(1+'3, INVENTARIO'!$I$11)*(1+'3, INVENTARIO'!$I$18) -> 4437726.9
A33: Materiales de laboratorio (alcohol isopropílico, toallas, etc) | B33: 50000 | C33: 1 | D33: =+B33*C33 -> 50000 | E33: =+D33*12 -> 600000
A34: Wypall | B34: 2000 | C34: 50 | D34: =+B34*C34 -> 100000 | E34: =+D34*12 -> 1200000
A37: 1.1.3. MANO OBRA DIR. Y PRES | D37: =+'1. PERSONAL'!D73 -> 2169375 | E37: =+D37*12*(1.03) -> 26813475 | F37: =+E37*(1+'3, INVENTARIO'!F11)*(1+'3, INVENTARIO'!F17) -> 33764868 | G37: =+F37*(1+'3, INVENTARIO'!G11)*(1+'3, INVENTARIO'!G17) -> 43619618 | H37: =+G37*(1+'3, INVENTARIO'!H11)*(1+'3, INVENTARIO'!H17) -> 58733292 | I37: =+H37*(1+'3, INVENTARIO'!I11)*(1+'3, INVENTARIO'!I17) -> 80403528
A39: 1.2. RELACION GASTOS DE SERVICIO | D39: =+D40+D45 -> 338333.33 | E39: =+D39*12 -> 4060000 | F39: =+F45+F40 -> 4667985 | G39: =+G45+G40 -> 5417140.6 | H39: =+H45+H40 -> 6450167.6 | I39: =+I45+I40 -> 7690663.9
A40: 1.2.1. MATERIALES INDIRECTOS | D40: =SUM(D41:D44) -> 338333.33 | E40: =+D40*12 -> 4060000 | F40: =+E40*(1+'3, INVENTARIO'!F11/3)*(1+'3, INVENTARIO'!F17) -> 4667985 | G40: =+F40*(1+'3, INVENTARIO'!G11/3)*(1+'3, INVENTARIO'!G17) -> 5417140.6 | H40: =+G40*(1+'3, INVENTARIO'!H11/3)*(1+'3, INVENTARIO'!H17) -> 6450167.6 | I40: =+H40*(1+'3, INVENTARIO'!I11/3)*(1+'3, INVENTARIO'!I17) -> 7690663.9
A41: Papeleria y utiles de oficina | B41: 250000 | C41: 1 | D41: =+B41*C41 -> 250000 | E41: =+D41*12 -> 3000000 | F41: =+E41*(1+'3, INVENTARIO'!F11) -> 3450000 | G41: =+F41*(1+'3, INVENTARIO'!G11) -> 4071000 | H41: =+G41*(1+'3, INVENTARIO'!H11) -> 4925910 | I41: =+H41*(1+'3, INVENTARIO'!I11) -> 6108128.4
A42: Elementos de aseo y cafetería | B42: 250000 | C42: 1 | E42: =+D42*12 -> 0
A43: Combustible Carros | B43: 16000 | C43: 5 | D43: =+B43*C43 -> 80000 | E43: =+D43*12*(1+'3, INVENTARIO'!E18)*(1+'3, INVENTARIO'!E11) -> 1009920 | F43: =+E43*((1+'3, INVENTARIO'!F11)*0.7+(1+'3, INVENTARIO'!E18)*0.3) -> 1131716.4 | G43: =+F43*((1+'3, INVENTARIO'!G11)*0.7+(1+'3, INVENTARIO'!F18)*0.3) -> 1291288.4 | H43: =+G43*((1+'3, INVENTARIO'!H11)*0.7+(1+'3, INVENTARIO'!G18)*0.3) -> 1499702.3 | I43: =+H43*((1+'3, INVENTARIO'!I11)*0.7+(1+'3, INVENTARIO'!H18)*0.3) -> 1773248
A44: Dotaciones y seguridad Industrial | B44: 100000 | C44: 1 | D44: =+(B44*C44)/12 -> 8333.3333 | E44: =+D44*12 -> 100000 | F44: =+E44*((1+'3, INVENTARIO'!F11)*0.7+(1+'3, INVENTARIO'!F18)*0.3) -> 112000
A45: 1.2.2. MANO DE OBRA INDIRECTA (SUELDOS Y PREST) | D45: =+'1. PERSONAL'!D76 -> 0 | E45: =+D45*12*(1+'3, INVENTARIO'!E11/3)*(1+'3, INVENTARIO'!E18) -> 0 | F45: =+E45*(1+'3, INVENTARIO'!F11/3)*(1+'3, INVENTARIO'!F18) -> 0 | G45: =+F45*(1+'3, INVENTARIO'!G11/3)*(1+'3, INVENTARIO'!G18) -> 0 | H45: =+G45*(1+'3, INVENTARIO'!H11/3)*(1+'3, INVENTARIO'!H18) -> 0 | I45: =+H45*(1+'3, INVENTARIO'!I11/3)*(1+'3, INVENTARIO'!I18) -> 0
A48: 1.3. OTROS GASTOS INDIRECTOS | D48: =+D49+D55+D59+C62+D64+D66+D69 -> 42950294 | E48: =+E49+E55+E59+E62+E64+E66+E69 -> 1.2283553e+08 | F48: =+F49+F55+F59+F62+F64+F66+F69 -> 1.3799014e+08 | G48: =+G49+G55+G59+G62+G64+G66+G69 -> 1.5736275e+08 | H48: =+H49+H55+H59+H62+H64+H66+H69 -> 1.8544131e+08 | I48: =+I49+I55+I59+I62+I64+I66+I69 -> 2.2279091e+08
...

Sheet 5. EVALUACIÓN
A3: CALCULO DEL CPC, VALOR DE LA FIRMA Y EVALUACION FINANCIERA
C4: 0 | D4: 1 | E4: 2 | F4: 3 | G4: 4 | H4: 5
A5: Costo de la deuda (d) = | D5: =+'9. PRESTAMO'!K12 -> 0.24468296 | E5: =+'9. PRESTAMO'!K24 -> 0.24336914 | F5: =+'9. PRESTAMO'!K36 -> 0.23813115 | G5: =+'9. PRESTAMO'!K48 -> 0.24074669 | H5: =+'9. PRESTAMO'!K60 -> 0.24468296
A7: Tasa de impuestos = | D7: =+'3, INVENTARIO'!E25 -> 0.31 | E7: =+'3, INVENTARIO'!F25 -> 0.31 | F7: =+'3, INVENTARIO'!G25 -> 0.31 | G7: =+'3, INVENTARIO'!H25 -> 0.31 | H7: =+'3, INVENTARIO'!I25 -> 0.31
A8: Inflación py = | D8: 0.053 | E8: 0.052 | F8: 0.048 | G8: 0.05 | H8: 0.053 | I8: Citar fuente secundaria, o si esproyección propia ver cálculos en Notas Cálculo CPC. xls, E126
A9: Tasa libre de riesgo (Rf)= (bonos TES) | D9: 0.0925 | E9: 0.0925 | F9: 0.1165 | G9: 0.1165 | H9: 0.1165
A10: Rentabilidad esperada del mercado | D10: 0.22 | E10: 0.21 | F10: 0.22 | G10: 0.21 | H10: 0.22
A11: Beta firma (Damoran x Sector Tecnología) | D11: 1.22 | E11: 1.34 | F11: 1.45 | G11: 1.56 | H11: 1.65
A12: (William Sharpe) | B12: Pho = Rf +Bfirma(Rm-Rf) | D12: =+D9+D11*(D10-D9) -> 0.24805 | E12: =+E9+E11*(E10-E9) -> 0.24995 | F12: =+F9+F11*(F10-F9) -> 0.266575 | G12: =+G9+G11*(G10-G9) -> 0.26236 | H12: =+H9+H11*(H10-H9) -> 0.287275
A13: CAPM | B13: Pho: Rentabilidad del patrimonio antes de impuestos
A15: PRACTICA
A17: AÑO | C17: 0 | D17: 1 | E17: 2 | F17: 3 | G17: 4 | H17: 5
A18: FCL | C18: =+'6. ESTADOS FINANCIEROS'!D177 -> -1.196e+08 | D18: =+'6. ESTADOS FINANCIEROS'!E177 -> 4.1121975e+08 | E18: =+'6. ESTADOS FINANCIEROS'!F177 -> 8.461058e+08 | F18: =+'6. ESTADOS FINANCIEROS'!G177 -> 1.0874412e+09 | G18: =+'6. ESTADOS FINANCIEROS'!H177 -> 1.4967302e+09 | H18: =+'6. ESTADOS FINANCIEROS'!I177 -> 7.722008e+08
A19: Saldo deuda | C19: =+'9. PRESTAMO'!B12 -> 3.2172667e+08 | D19: =+'9. PRESTAMO'!B24 -> 2.5738133e+08 | E19: =+'9. PRESTAMO'!B36 -> 1.93036e+08 | F19: =+'9. PRESTAMO'!B48 -> 1.2869067e+08 | G19: =+'9. PRESTAMO'!B60 -> 64345333 | H19: =+'9. PRESTAMO'!B71 -> 5362111.1
A20: Aporte socios | C20: =+'9. PRESTAMO'!C2 -> 80431667
A21: Inv. Inicial | C21: =+C19+C20 -> 4.0215833e+08
A22: WACC = CPC = d(1-T)D% + eP%
A23: Participación de la deuda en el valor total y su contribución en el CPC, después de impuestos
A24: Deuda
A25: Peso relativo D% (Deuda t-1/Vfirma t-1) | D25: =+(C19/C37) -> 0.13943316 | E25: =+(D19/D37) -> 0.10530657 | F25: =+(E19/E37) -> 0.088164528 | G25: =+(F19/F37) -> 0.076992448 | H25: =+(G19/G37) -> 0.10659131
A26: Costo deuda después imp.d(1-T) | D26: =+(D5*(1-D7)) -> 0.16883124 | E26: =+(E5*(1-E7)) -> 0.16792471 | F26: =+(F5*(1-F7)) -> 0.16431049 | G26: =+(G5*(1-G7)) -> 0.16611522 | H26: =+(H5*(1-H7)) -> 0.16883124
A27: Contribución deuda al CPC = D%d(1-T) | D27: =+D25*D26 -> 0.023540674 | E27: =+E25*E26 -> 0.017683575 | F27: =+F25*F26 -> 0.014486357 | G27: =+G25*G26 -> 0.012789617 | H27: =+H25*H26 -> 0.017995944
A29: Patrimonio
A30: Peso relativo patrimonio P% = (1-D%) | D30: =+(1-D25) -> 0.86056684 | E30: =+(1-E25) -> 0.89469343 | F30: =+(1-F25) -> 0.91183547 | G30: =+(1-G25) -> 0.92300755 | H30: =+(1-H25) -> 0.89340869
A31: e= (Pho -dD%)/P% | D31: =+(D12-(D5*D25))/D30 -> 0.24859554 | E31: =+(E12-(E5*E25))/E30 -> 0.25072458 | F31: =+(F12-(F5*F25))/F30 -> 0.26932521 | G31: =+(G12-(G5*G25))/G30 -> 0.26416287 | H31: =+(H12-(H5*H25))/H30 -> 0.2923566
A32: Contribución del patrimonio al CPC | D32: =+D30*D31 -> 0.21393308 | E32: =+E30*E31 -> 0.22432163 | F32: =+F30*F31 -> 0.24558028 | G32: =+G30*G31 -> 0.24382432 | H32: =+H30*H31 -> 0.26119392
A34: CPC después de impuestos = contribuciones | D34: =+D27+D32 -> 0.23747376 | E34: =+E27+E32 -> 0.24200521 | F34: =+F27+F32 -> 0.26006664 | G34: =+G27+G32 -> 0.25661394 | H34: =+H27+H32 -> 0.27918987 | I34: =+(D34*E34*F34*G34*H34)^(1/5) -> 0.25464841 | J34: Prom Geométrico
B36: Primer método: VP (FCL a wacc)
A37: Valor firma | C37: =C48 -> 2.3073899e+09 | D37: =D48 -> 2.4441147e+09 | E37: =E48 -> 2.1894973e+09 | F37: =F48 -> 1.6714713e+09 | G37: =G48 -> 6.0366395e+08 | I37: Herramientas/Opciones/Calcular/Interación /Aceptar
A38: VPN | C38: =+C37+C18 -> 2.1877899e+09 | I38: Archivo/opciones/Fórmulas/Habilitar Iteraciones
I39: Si persisten errores, cualquier número en CPC y deshacer acción desde el úlitmo hasta el primero
A41: AÑOS | C41: 0 | D41: 1 | E41: 2 | F41: 3 | G41: 4 | H41: 5
A42: Segundo método VP del CCF a Pho | C42: (Propuesto por Tham 2000 y Ruback, 2000) | F42: CCF = VP(FCL sin deuda a Ƥ) + VP (ahorro en impuestos Ƥ)
A43: Pago de intereses (Dt-1*d) | D43: =+C19*D5 -> 78721034 | E43: =+D19*E5 -> 62638674 | F43: =+E19*F5 -> 45967885 | G43: =+F19*G5 -> 30981852 | H43: =+G19*H5 -> 15744207
A44: Ahorro en impuestos | D44: =+D43*D7 -> 24403521 | E44: =+E43*E7 -> 19417989 | F44: =+F43*F7 -> 14250044 | G44: =+G43*G7 -> 9604374.1 | H44: =+H43*H7 -> 4880704.1
A46: Capital Cash Flow (CCF = | D46: =+D18+D44 -> 4.3562327e+08 | E46: =+E18+E44 -> 8.6552378e+08 | F46: =+F18+F44 -> 1.1016913e+09 | G46: =+G18+G44 -> 1.5063346e+09 | H46: =+H18+H44 -> 7.7708151e+08
A47: FCL+AI)
A48: Valor firma | C48: =+(D48+D46)/(1+D12) -> 2.3073899e+09 | D48: =+(E48+E46)/(1+E12) -> 2.4441147e+09 | E48: =+(F48+F46)/(1+F12) -> 2.1894973e+09 | F48: =+(G48+G46)/(1+G12) -> 1.6714713e+09 | G48: =+H46/(1+H12) -> 6.0366395e+08
A50: Factor VPN | C50: 1 | D50: =1/(1+D34) -> 0.80809795 | E50: =(1/(1+E34))*(D50) -> 0.65063974 | F50: =(1/(1+F34))*(E50) -> 0.51635344 | G50: =(1/(1+G34))*F50 -> 0.41090857 | H50: =(1/(1+H34))*G50 -> 0.32122563
A51: Valor firma en año 0 (Suma producto) | C51: =SUMPRODUCT(D18:H18,D50:H50) -> 2.3073899e+09
...

Sheet 6. ESTADOS FINANCIEROS
A1: PLAN DE NEGOCIOS PARA LA VENTA Y POSTVENTA DE EQUIPOS DE DIAGNÓSTICO AUDIOLÓGICO EN COLOMBIA
C2: ESTADO DE RESULTADOS PROYECTADOS 2027 A 2031
A3: DEL 1° DE ENERO AL 31 DE DICIEMBRE
A4: ( CIFRAS EN PESOS COLOMBIANOS )
D6: 1 | E6: 2 | F6: 3 | G6: 4 | H6: 5
A8: INGRESOS
B9: Ventas equipos de audiología | D9: =+'3, INVENTARIO'!E23 -> 3359160000 | E9: =+'3, INVENTARIO'!F23 -> 4230022230 | F9: =+'3, INVENTARIO'!G23 -> 5.4646134e+09 | G9: =+'3, INVENTARIO'!H23 -> 7.3580364e+09 | H9: =+'3, INVENTARIO'!I23 -> 1.0072858e+10
B10: Menos devoluciones | D10: =+'3, INVENTARIO'!E112 -> 40000000 | E10: =+'3, INVENTARIO'!E116 -> 40000000 | F10: =+'3, INVENTARIO'!E120 -> 56560203 | G10: =+'3, INVENTARIO'!E124 -> 63315501 | H10: =+'3, INVENTARIO'!E128 -> 86253820
B11: Ventas netas | D11: =+D9-D10 -> 3319160000 | E11: =+E9-E10 -> 4190022230 | F11: =+F9-F10 -> 5.4080532e+09 | G11: =+G9-G10 -> 7.2947209e+09 | H11: =+H9-H10 -> 9.9866037e+09
A13: Menos: Costo de ventas
B14: Inventario Inicial | D14: =+'3, INVENTARIO'!K108 -> 0 | E14: =-D23 -> 100150000 | F14: =-E23 -> 100150000 | G14: =-F23 -> 1.2246522e+08 | H14: =-G23 -> 1.3709731e+08
B16: Compras | D16: =+'3, INVENTARIO'!E109 -> 2459550000 | E16: =+'3, INVENTARIO'!E113 -> 2759310000 | F16: =+'3, INVENTARIO'!E117 -> 3581584380 | G16: =+'3, INVENTARIO'!E121 -> 4.8537632e+09 | H16: =+'3, INVENTARIO'!E125 -> 6.6807196e+09
B17: - Devoluciones en compras | D17: =-'3, INVENTARIO'!H110 -> 0 | E17: =-'3, INVENTARIO'!H114 -> -40000000 | F17: =-'3, INVENTARIO'!H118 -> -43768572 | G17: =-'3, INVENTARIO'!H122 -> -63315501 | H17: =-'3, INVENTARIO'!H126 -> -1.0214214e+08
B18: - Descuentos en Compras | D18: 0 | E18: =+D18 -> 0 | F18: =+E18 -> 0 | G18: =+F18 -> 0 | H18: =+G18 -> 0
B19: = Compras Netas | D19: =SUM(D16:D18) -> 2459550000 | E19: =SUM(E16:E18) -> 2719310000 | F19: =SUM(F16:F18) -> 3.5378158e+09 | G19: =SUM(G16:G18) -> 4.7904477e+09 | H19: =SUM(H16:H18) -> 6.5785775e+09
B21: Mercancia Disponible para la Venta | D21: =+D14+D19 -> 2459550000 | E21: =+E14+E19 -> 2819460000 | F21: =+F14+F19 -> 3.6379658e+09 | G21: =+G14+G19 -> 4.9129129e+09 | H21: =+H14+H19 -> 6.7156748e+09
B22: Menos
B23: Inventario Final de Mercancias | D23: =-'3, INVENTARIO'!K112 -> -100150000 | E23: =-'3, INVENTARIO'!K116 -> -100150000 | F23: =-'3, INVENTARIO'!K120 -> -1.2246522e+08 | G23: =-'3, INVENTARIO'!K124 -> -1.3709731e+08 | H23: =-'3, INVENTARIO'!K128 -> -1.3646189e+08
B25: Costo materia prima | D25: =SUM(D21:D24) -> 2359400000 | E25: =SUM(E21:E24) -> 2719310000 | F25: =SUM(F21:F24) -> 3.5155006e+09 | G25: =SUM(G21:G24) -> 4.7758156e+09 | H25: =SUM(H21:H24) -> 6.5792129e+09
D26: =+D25-('3, INVENTARIO'!H111-'3, INVENTARIO'!E112) -> 0 | E26: =+E25-('3, INVENTARIO'!$H$115-'3, INVENTARIO'!$E$116) -> 0 | F26: =+F25-('3, INVENTARIO'!$H$119-'3, INVENTARIO'!$E$120) -> 0 | G26: =+G25-('3, INVENTARIO'!$H$123-'3, INVENTARIO'!$E$124) -> 0 | H26: =+H25-('3, INVENTARIO'!$H$127-'3, INVENTARIO'!$E$128) -> 0
B27: Sueldos y prest.Directo | D27: =+'4. COSTOS'!B102 -> 26813475 | E27: =+'4. COSTOS'!C102 -> 33764868 | F27: =+'4. COSTOS'!D102 -> 43619618 | G27: =+'4. COSTOS'!E102 -> 58733292 | H27: =+'4. COSTOS'!F102 -> 80403528 | I27: =SUM(D27:D30) -> 1.55509e+08
B28: Material directo | D28: =+'4. COSTOS'!B101 -> 1800000 | E28: =+'4. COSTOS'!C101 -> 2173500 | F28: =+'4. COSTOS'!D101 -> 2687837 | G28: =+'4. COSTOS'!E101 -> 3408392.4 | H28: =+'4. COSTOS'!F101 -> 4437726.9
B29: Gastos de Acondicionamiento | D29: =+'4. COSTOS'!B105 -> 4060000 | E29: =+'4. COSTOS'!C105 -> 4667985 | F29: =+'4. COSTOS'!D105 -> 5417140.6 | G29: =+'4. COSTOS'!E105 -> 6450167.6 | H29: =+'4. COSTOS'!F105 -> 7690663.9
B30: Otros gastos indirectos | D30: =+'4. COSTOS'!B110 -> 1.2283553e+08 | E30: =+'4. COSTOS'!C110 -> 1.3799014e+08 | F30: =+'4. COSTOS'!D110 -> 1.5736275e+08 | G30: =+'4. COSTOS'!E110 -> 1.8544131e+08 | H30: =+'4. COSTOS'!F110 -> 2.2279091e+08
B31: Costos ventas(=costos de acondicionamiento) | D31: =SUM(D25:D30) -> 2.514909e+09 | E31: =SUM(E25:E30) -> 2.8979065e+09 | F31: =SUM(F25:F30) -> 3.7245879e+09 | G31: =SUM(G25:G30) -> 5.0298487e+09 | H31: =SUM(H25:H30) -> 6.8945357e+09
A33: Utilidad bruta en ventas | D33: =+D11-D31 -> 8.04251e+08 | E33: =+E11-E31 -> 1.2921157e+09 | F33: =+F11-F31 -> 1.6834653e+09 | G33: =+G11-G31 -> 2.2648722e+09 | H33: =+H11-H31 -> 3.092068e+09
A35: Menos: Gastos de ventas | D35: =SUM(D36:D39) -> 73498520 | E35: =SUM(E36:E39) -> 84393128 | F35: =SUM(F36:F39) -> 98807423 | G35: =SUM(G36:G39) -> 1.2011556e+08 | H35: =SUM(H36:H39) -> 1.4966598e+08
B36: Sueldos y prestaciones | D36: =+'4. COSTOS'!B127 -> 36514920 | E36: =+'4. COSTOS'!C127 -> 38340666 | F36: =+'4. COSTOS'!D127 -> 40181018 | G36: =+'4. COSTOS'!E127 -> 42109707 | H36: =+'4. COSTOS'!F127 -> 44215192
B37: Gastos de publicidad | D37: =+'4. COSTOS'!B128 -> 33191600 | E37: =+'4. COSTOS'!C128 -> 41900222 | F37: =+'4. COSTOS'!D128 -> 54080532 | G37: =+'4. COSTOS'!E128 -> 72947209 | H37: =+'4. COSTOS'!F128 -> 99866037
B38: Otros | D38: =+'4. COSTOS'!B129 -> 3792000 | E38: =+'4. COSTOS'!C129 -> 4152240 | F38: =+'4. COSTOS'!D129 -> 4545872.4 | G38: =+'4. COSTOS'!E129 -> 5058646.8 | H38: =+'4. COSTOS'!F129 -> 5584746
A40: Menos: Gastos de administración | D40: =SUM(D41:D45) -> 1.5043128e+08 | E40: =SUM(E41:E45) -> 1.6461776e+08 | F40: =SUM(F41:F45) -> 1.8011924e+08 | G40: =SUM(G41:G45) -> 2.0031261e+08 | H40: =SUM(H41:H45) -> 2.2103072e+08
B41: Sueldos y prestaciones | D41: =+'4. COSTOS'!B120 -> 1.4617528e+08 | E41: =+'4. COSTOS'!C120 -> 1.6006194e+08 | F41: =+'4. COSTOS'!D120 -> 1.7523581e+08 | G41: =+'4. COSTOS'!E120 -> 1.9500241e+08 | H41: =+'4. COSTOS'!F120 -> 2.1528266e+08
B42: Depreciaciones activas | D42: =+'4. COSTOS'!B121 -> 1100000 | E42: =+'4. COSTOS'!C121 -> 1100000 | F42: =+'4. COSTOS'!D121 -> 1100000 | G42: =+'4. COSTOS'!E121 -> 1100000 | H42: =+'4. COSTOS'!F121 -> 1100000
B43: Seguros | D43: =+'4. COSTOS'!B122 -> 0 | E43: =+'4. COSTOS'!C122 -> 0 | F43: =+'4. COSTOS'!D122 -> 0 | G43: =+'4. COSTOS'!E122 -> 0 | H43: =+'4. COSTOS'!F122 -> 0
B44: Impuestos | D44: =+'4. COSTOS'!B123 -> 0 | E44: =+'4. COSTOS'!C123 -> 0 | F44: =+'4. COSTOS'!D123 -> 0 | G44: =+'4. COSTOS'!E123 -> 0 | H44: =+'4. COSTOS'!F123 -> 0
B45: Otros | D45: =+'4. COSTOS'!B124 -> 3156000 | E45: =+'4. COSTOS'!C124 -> 3455820 | F45: =+'4. COSTOS'!D124 -> 3783431.7 | G45: =+'4. COSTOS'!E124 -> 4210202.8 | H45: =+'4. COSTOS'!F124 -> 4648063.9
A47: UTILIDAD OPERACIONAL | D47: =+D33-D35-D40 -> 5.8032119e+08 | E47: =+E33-E35-E40 -> 1.0431049e+09 | F47: =+F33-F35-F40 -> 1.4045386e+09 | G47: =+G33-G35-G40 -> 1.944444e+09 | H47: =+H33-H35-H40 -> 2.7213713e+09
A49: OTROS INGRESOS
B50: Intereses ea = | D50: 0.04 | E50: 0.04 | F50: 0.04 | G50: 0.04 | H50: 0.04 | I50: Intereses de colocación bancarios en corto plazo
B51: Rendimientos Financieros | D51: =IF(+(((D11-D21-D27-D28-D29-D30-D35-D53+'4. COSTOS'!B111+'4. COSTOS'!B121+'4. COSTOS'!E91-'6. ESTADOS FINANCIEROS'!E146)/2)*D50)<0,0,((D11-D21-D27-D28-D29-D30-D35-D53+'4. COSTOS'!B111+'4. COSTOS'!B121+'4. COSTOS'!E91-'6. ESTADOS FINANCIEROS'!E146)/2)*D50) -> 10253711 | E51: =IF(+(((E11-E21-E27-E28-E29-E30-E35-E53+'4. COSTOS'!C111+'4. COSTOS'!C121+'4. COSTOS'!F91-'6. ESTADOS FINANCIEROS'!F146)/2)*E50)<0,0,((E11-E21-E27-E28-E29-E30-E35-E53+'4. COSTOS'!C111+'4. COSTOS'!C121+'4. COSTOS'!F91-'6. ESTADOS FINANCIEROS'!F146)/2)*E50) -> 20082280 | F51: =IF(+(((F11-F21-F27-F28-F29-F30-F35-F53+'4. COSTOS'!D111+'4. COSTOS'!D121+'4. COSTOS'!G91-'6. ESTADOS FINANCIEROS'!G146)/2)*F50)<0,0,((F11-F21-F27-F28-F29-F30-F35-F53+'4. COSTOS'!D111+'4. COSTOS'!D121+'4. COSTOS'!G91-'6. ESTADOS FINANCIEROS'!G146)/2)*F50) -> 27471619 | G51: =IF(+(((G11-G21-G27-G28-G29-G30-G35-G53+'4. COSTOS'!E111+'4. COSTOS'!E121+'4. COSTOS'!H91-'6. ESTADOS FINANCIEROS'!H146)/2)*G50)<0,0,((G11-G21-G27-G28-G29-G30-G35-G53+'4. COSTOS'!E111+'4. COSTOS'!E121+'4. COSTOS'!H91-'6. ESTADOS FINANCIEROS'!H146)/2)*G50) -> 38654039 | H51: =IF(+(((H11-H21-H27-H28-H29-H30-H35-H53+'4. COSTOS'!F111+'4. COSTOS'!F121+'4. COSTOS'!I91-'6. ESTADOS FINANCIEROS'!I146)/2)*H50)<0,0,((H11-H21-H27-H28-H29-H30-H35-H53+'4. COSTOS'!F111+'4. COSTOS'!F121+'4. COSTOS'!I91-'6. ESTADOS FINANCIEROS'!I146)/2)*H50) -> 54897520
...

Sheet 7. EJERCICIO DE ESTIMACIÓN

Sheet 8. PUNTO EQ
C5: COSTOS FIJOS | D5: =SUM('6. ESTADOS FINANCIEROS'!D27:D30) -> 1.55509e+08
D6: ='1. PERSONAL'!D42 -> 2.040608e+08
C7: TOTAL | D7: =SUM(D5:D6) -> 3.595698e+08
C10: Ganancia x Aud. | D10: ='3, INVENTARIO'!E14-'4. COSTOS'!C20 -> 3400000
C11: Ganancia x Imp. | D11: ='3, INVENTARIO'!E15-'4. COSTOS'!D20 -> 4660000
C12: Ganancia x OAE | D12: ='3, INVENTARIO'!E16-'4. COSTOS'!E20 -> 16000000
C13: TOTAL | D13: =SUM(D10:D12) -> 24060000
C16: Q (año) = | D16: =D7/D13 -> 14.944713 | E16: Equipos x año
C17: Q (mes)= | D17: =D16/12 -> 1.2453928 | E17: Equipos x mes, considerando las tres referencias de equipos (Aud, Imp, OAE)
C20: Q(anual) = | D20: =D7/D11 -> 77.160902 | E20: Equipos x año, considerando una ganancia promedio por equipo de $4,660,000
C21: Q(mensual)= | D21: =D20/12 -> 6.4300752 | E21: Equipos x mes, considerando una ganancia promedio por equipo de $4,660,000
C24: PRI (Periodo de Retorno de la Inversión)= | F24: 113800000 | G24: = | H24: =F24/F25 -> 2.2172532 | I24: ~ 2 años
F25: 51324765

Sheet 9. PRESTAMO
A1: INVERSION TOTAL | C1: =+'2. INVERSION'!B76 -> 4.0215833e+08 | F1: Aporte | G1: Participación
A2: APORTES DE CAPITAL | C2: =+C1*0.2 -> 80431667 | E2: 1 | F2: =C2 -> 80431667 | G2: =+F2/$F$6 -> 1
A3: MONTO DEL PRESTAMO | C3: =+C1*80% -> 3.2172667e+08 | G3: =+F3/$F$6 -> 0
A4: PLAZO EN MESES | C4: =5*12 -> 60 | G4: =+F4/$F$6 -> 0
A5: INTERES ANUAL | G5: =+F5/$F$6 -> 0
A6: DTF T.A MAS (IBR) | C6: 0.16 | F6: =SUM(F2:F5) -> 80431667
B7: AÑO | C7: 1 | D7: 2 | E7: 3 | F7: 4 | G7: 5
A8: DTF (IBR Persona Juridica) | C8: 0.053 | D8: 0.052 | E8: 0.048 | F8: 0.05 | G8: 0.053
A10: MESES | B10: SALDO INICIAL | C10: INTERES | D10: ABONO A CAPITAL | E10: CUOTA | F10: SALDO FINAL | G10: DTF TRIMESTRE ANTIPADO | H10: TASA (DTF+3,5) TRIMESTRE ANTICIPADO | I10: TASA (DTF+3,5) TRIMESTRE VENCIDO | J10: TASA EFECTIVA MENSUAL | K10: TASA EFECTIVA ANUAL | L10: FLUJO ANUAL | M10: INTERESES ANUAL | N10: AMORTIZACION ANUAL
A11: 0 | F11: =+C3 -> 3.2172667e+08
A12: =1+A11 -> 1 | B12: =+F11 -> 3.2172667e+08 | C12: =+B12*J12 -> 5922163.3 | D12: =+C3/C4 -> 5362111.1 | E12: =+C12+D12 -> 11284274 | F12: =+B12-D12 -> 3.1636456e+08 | G12: =+$C$8 -> 0.053 | H12: =((G12+$C$6)/4) -> 0.05325 | I12: =+H12/(1-H12) -> 0.056245049 | J12: =(1+(I12))^(1/3)-1 -> 0.018407437 | K12: =+(J12+1)^12-1 -> 0.24468296 | L12: VPN AÑO 1
A13: =1+A12 -> 2 | B13: =+F12 -> 3.1636456e+08 | C13: =+B13*J13 -> 5823460.6 | D13: =+D12 -> 5362111.1 | E13: =+C13+D13 -> 11185572 | F13: =+B13-D13 -> 3.1100244e+08 | G13: =+$C$8 -> 0.053 | H13: =((G13+$C$6)/4) -> 0.05325 | I13: =+H13/(1-H13) -> 0.056245049 | J13: =(1+(I13))^(1/3)-1 -> 0.018407437 | K13: =+(J13+1)^12-1 -> 0.24468296 | L13: =NPV(J23,E12:E23) -> 1.1494201e+08
A14: =1+A13 -> 3 | B14: =+F13 -> 3.1100244e+08 | C14: =+B14*J14 -> 5724757.9 | D14: =+D13 -> 5362111.1 | E14: =+C14+D14 -> 11086869 | F14: =+B14-D14 -> 3.0564033e+08 | G14: =+$C$8 -> 0.053 | H14: =((G14+$C$6)/4) -> 0.05325 | I14: =+H14/(1-H14) -> 0.056245049 | J14: =(1+(I14))^(1/3)-1 -> 0.018407437 | K14: =+(J14+1)^12-1 -> 0.24468296 | L14: VF AÑO 1
A15: =1+A14 -> 4 | B15: =+F14 -> 3.0564033e+08 | C15: =+B15*J15 -> 5626055.1 | D15: =+D14 -> 5362111.1 | E15: =+C15+D15 -> 10988166 | F15: =+B15-D15 -> 3.0027822e+08 | G15: =+$C$8 -> 0.053 | H15: =((G15+$C$6)/4) -> 0.05325 | I15: =+H15/(1-H15) -> 0.056245049 | J15: =(1+(I15))^(1/3)-1 -> 0.018407437 | K15: =+(J15+1)^12-1 -> 0.24468296 | L15: =(1+K22)*L13 -> 1.4306637e+08
A16: =1+A15 -> 5 | B16: =+F15 -> 3.0027822e+08 | C16: =+B16*J16 -> 5527352.4 | D16: =+D15 -> 5362111.1 | E16: =+C16+D16 -> 10889464 | F16: =+B16-D16 -> 2.9491611e+08 | G16: =+$C$8 -> 0.053 | H16: =((G16+$C$6)/4) -> 0.05325 | I16: =+H16/(1-H16) -> 0.056245049 | J16: =(1+(I16))^(1/3)-1 -> 0.018407437 | K16: =+(J16+1)^12-1 -> 0.24468296
A17: =1+A16 -> 6 | B17: =+F16 -> 2.9491611e+08 | C17: =+B17*J17 -> 5428649.7 | D17: =+D16 -> 5362111.1 | E17: =+C17+D17 -> 10790761 | F17: =+B17-D17 -> 2.89554e+08 | G17: =+$C$8 -> 0.053 | H17: =((G17+$C$6)/4) -> 0.05325 | I17: =+H17/(1-H17) -> 0.056245049 | J17: =(1+(I17))^(1/3)-1 -> 0.018407437 | K17: =+(J17+1)^12-1 -> 0.24468296
A18: =1+A17 -> 7 | B18: =+F17 -> 2.89554e+08 | C18: =+B18*J18 -> 5329947 | D18: =+D17 -> 5362111.1 | E18: =+C18+D18 -> 10692058 | F18: =+B18-D18 -> 2.8419189e+08 | G18: =+$C$8 -> 0.053 | H18: =((G18+$C$6)/4) -> 0.05325 | I18: =+H18/(1-H18) -> 0.056245049 | J18: =(1+(I18))^(1/3)-1 -> 0.018407437 | K18: =+(J18+1)^12-1 -> 0.24468296
A19: =1+A18 -> 8 | B19: =+F18 -> 2.8419189e+08 | C19: =+B19*J19 -> 5231244.3 | D19: =+D18 -> 5362111.1 | E19: =+C19+D19 -> 10593355 | F19: =+B19-D19 -> 2.7882978e+08 | G19: =+$C$8 -> 0.053 | H19: =((G19+$C$6)/4) -> 0.05325 | I19: =+H19/(1-H19) -> 0.056245049 | J19: =(1+(I19))^(1/3)-1 -> 0.018407437 | K19: =+(J19+1)^12-1 -> 0.24468296
A20: =1+A19 -> 9 | B20: =+F19 -> 2.7882978e+08 | C20: =+B20*J20 -> 5132541.5 | D20: =+D19 -> 5362111.1 | E20: =+C20+D20 -> 10494653 | F20: =+B20-D20 -> 2.7346767e+08 | G20: =+$C$8 -> 0.053 | H20: =((G20+$C$6)/4) -> 0.05325 | I20: =+H20/(1-H20) -> 0.056245049 | J20: =(1+(I20))^(1/3)-1 -> 0.018407437 | K20: =+(J20+1)^12-1 -> 0.24468296
A21: =1+A20 -> 10 | B21: =+F20 -> 2.7346767e+08 | C21: =+B21*J21 -> 5033838.8 | D21: =+D20 -> 5362111.1 | E21: =+C21+D21 -> 10395950 | F21: =+B21-D21 -> 2.6810556e+08 | G21: =+$C$8 -> 0.053 | H21: =((G21+$C$6)/4) -> 0.05325 | I21: =+H21/(1-H21) -> 0.056245049 | J21: =(1+(I21))^(1/3)-1 -> 0.018407437 | K21: =+(J21+1)^12-1 -> 0.24468296
A22: =1+A21 -> 11 | B22: =+F21 -> 2.6810556e+08 | C22: =+B22*J22 -> 4935136.1 | D22: =+D21 -> 5362111.1 | E22: =+C22+D22 -> 10297247 | F22: =+B22-D22 -> 2.6274344e+08 | G22: =+$C$8 -> 0.053 | H22: =((G22+$C$6)/4) -> 0.05325 | I22: =+H22/(1-H22) -> 0.056245049 | J22: =(1+(I22))^(1/3)-1 -> 0.018407437 | K22: =+(J22+1)^12-1 -> 0.24468296
A23: =1+A22 -> 12 | B23: =+F22 -> 2.6274344e+08 | C23: =+B23*J23 -> 4836433.4 | D23: =+D22 -> 5362111.1 | E23: =+C23+D23 -> 10198544 | F23: =+B23-D23 -> 2.5738133e+08 | G23: =+$C$8 -> 0.053 | H23: =((G23+$C$6)/4) -> 0.05325 | I23: =+H23/(1-H23) -> 0.056245049 | J23: =(1+(I23))^(1/3)-1 -> 0.018407437 | K23: =+(J23+1)^12-1 -> 0.24468296 | M23: =SUM(C12:C23) -> 64551580 | N23: =SUM(D12:D23) -> 64345333
A24: =1+A23 -> 13 | B24: =+F23 -> 2.5738133e+08 | C24: =+B24*J24 -> 4714662.9 | D24: =+D23 -> 5362111.1 | E24: =+C24+D24 -> 10076774 | F24: =+B24-D24 -> 2.5201922e+08 | G24: =+$D$8 -> 0.052 | H24: =((G24+$C$6)/4) -> 0.053 | I24: =+H24/(1-H24) -> 0.055966209 | J24: =(1+(I24))^(1/3)-1 -> 0.018317812 | K24: =+(J24+1)^12-1 -> 0.24336914 | L24: VPN AÑO 2
A25: =1+A24 -> 14 | B25: =+F24 -> 2.5201922e+08 | C25: =+B25*J25 -> 4616440.7 | D25: =+D24 -> 5362111.1 | E25: =+C25+D25 -> 9978551.8 | F25: =+B25-D25 -> 2.4665711e+08 | G25: =+$D$8 -> 0.052 | H25: =((G25+$C$6)/4) -> 0.053 | I25: =+H25/(1-H25) -> 0.055966209 | J25: =(1+(I25))^(1/3)-1 -> 0.018317812 | K25: =+(J25+1)^12-1 -> 0.24336914 | L25: =NPV(J35,E24:E35) -> 1.0212897e+08
A26: =1+A25 -> 15 | B26: =+F25 -> 2.4665711e+08 | C26: =+B26*J26 -> 4518218.6 | D26: =+D25 -> 5362111.1 | E26: =+C26+D26 -> 9880329.7 | F26: =+B26-D26 -> 2.41295e+08 | G26: =+$D$8 -> 0.052 | H26: =((G26+$C$6)/4) -> 0.053 | I26: =+H26/(1-H26) -> 0.055966209 | J26: =(1+(I26))^(1/3)-1 -> 0.018317812 | K26: =+(J26+1)^12-1 -> 0.24336914 | L26: VF AÑO 2
A27: =1+A26 -> 16 | B27: =+F26 -> 2.41295e+08 | C27: =+B27*J27 -> 4419996.4 | D27: =+D26 -> 5362111.1 | E27: =+C27+D27 -> 9782107.6 | F27: =+B27-D27 -> 2.3593289e+08 | G27: =+$D$8 -> 0.052 | H27: =((G27+$C$6)/4) -> 0.053 | I27: =+H27/(1-H27) -> 0.055966209 | J27: =(1+(I27))^(1/3)-1 -> 0.018317812 | K27: =+(J27+1)^12-1 -> 0.24336914 | L27: =(1+K34)*L25 -> 1.2698401e+08
A28: =1+A27 -> 17 | B28: =+F27 -> 2.3593289e+08 | C28: =+B28*J28 -> 4321774.3 | D28: =+D27 -> 5362111.1 | E28: =+C28+D28 -> 9683885.4 | F28: =+B28-D28 -> 2.3057078e+08 | G28: =+$D$8 -> 0.052 | H28: =((G28+$C$6)/4) -> 0.053 | I28: =+H28/(1-H28) -> 0.055966209 | J28: =(1+(I28))^(1/3)-1 -> 0.018317812 | K28: =+(J28+1)^12-1 -> 0.24336914
A29: =1+A28 -> 18 | B29: =+F28 -> 2.3057078e+08 | C29: =+B29*J29 -> 4223552.2 | D29: =+D28 -> 5362111.1 | E29: =+C29+D29 -> 9585663.3 | F29: =+B29-D29 -> 2.2520867e+08 | G29: =+$D$8 -> 0.052 | H29: =((G29+$C$6)/4) -> 0.053 | I29: =+H29/(1-H29) -> 0.055966209 | J29: =(1+(I29))^(1/3)-1 -> 0.018317812 | K29: =+(J29+1)^12-1 -> 0.24336914
A30: =1+A29 -> 19 | B30: =+F29 -> 2.2520867e+08 | C30: =+B30*J30 -> 4125330 | D30: =+D29 -> 5362111.1 | E30: =+C30+D30 -> 9487441.1 | F30: =+B30-D30 -> 2.1984656e+08 | G30: =+$D$8 -> 0.052 | H30: =((G30+$C$6)/4) -> 0.053 | I30: =+H30/(1-H30) -> 0.055966209 | J30: =(1+(I30))^(1/3)-1 -> 0.018317812 | K30: =+(J30+1)^12-1 -> 0.24336914
A31: =1+A30 -> 20 | B31: =+F30 -> 2.1984656e+08 | C31: =+B31*J31 -> 4027107.9 | D31: =+D30 -> 5362111.1 | E31: =+C31+D31 -> 9389219 | F31: =+B31-D31 -> 2.1448444e+08 | G31: =+$D$8 -> 0.052 | H31: =((G31+$C$6)/4) -> 0.053 | I31: =+H31/(1-H31) -> 0.055966209 | J31: =(1+(I31))^(1/3)-1 -> 0.018317812 | K31: =+(J31+1)^12-1 -> 0.24336914
A32: =1+A31 -> 21 | B32: =+F31 -> 2.1448444e+08 | C32: =+B32*J32 -> 3928885.7 | D32: =+D31 -> 5362111.1 | E32: =+C32+D32 -> 9290996.8 | F32: =+B32-D32 -> 2.0912233e+08 | G32: =+$D$8 -> 0.052 | H32: =((G32+$C$6)/4) -> 0.053 | I32: =+H32/(1-H32) -> 0.055966209 | J32: =(1+(I32))^(1/3)-1 -> 0.018317812 | K32: =+(J32+1)^12-1 -> 0.24336914
A33: =1+A32 -> 22 | B33: =+F32 -> 2.0912233e+08 | C33: =+B33*J33 -> 3830663.6 | D33: =+D32 -> 5362111.1 | E33: =+C33+D33 -> 9192774.7 | F33: =+B33-D33 -> 2.0376022e+08 | G33: =+$D$8 -> 0.052 | H33: =((G33+$C$6)/4) -> 0.053 | I33: =+H33/(1-H33) -> 0.055966209 | J33: =(1+(I33))^(1/3)-1 -> 0.018317812 | K33: =+(J33+1)^12-1 -> 0.24336914
A34: =1+A33 -> 23 | B34: =+F33 -> 2.0376022e+08 | C34: =+B34*J34 -> 3732441.4 | D34: =+D33 -> 5362111.1 | E34: =+C34+D34 -> 9094552.6 | F34: =+B34-D34 -> 1.9839811e+08 | G34: =+$D$8 -> 0.052 | H34: =((G34+$C$6)/4) -> 0.053 | I34: =+H34/(1-H34) -> 0.055966209 | J34: =(1+(I34))^(1/3)-1 -> 0.018317812 | K34: =+(J34+1)^12-1 -> 0.24336914
A35: =1+A34 -> 24 | B35: =+F34 -> 1.9839811e+08 | C35: =+B35*J35 -> 3634219.3 | D35: =+D34 -> 5362111.1 | E35: =+C35+D35 -> 8996330.4 | F35: =+B35-D35 -> 1.93036e+08 | G35: =+$D$8 -> 0.052 | H35: =((G35+$C$6)/4) -> 0.053 | I35: =+H35/(1-H35) -> 0.055966209 | J35: =(1+(I35))^(1/3)-1 -> 0.018317812 | K35: =+(J35+1)^12-1 -> 0.24336914 | M35: =SUM(C24:C35) -> 50093293 | N35: =SUM(D24:D35) -> 64345333
A36: =1+A35 -> 25 | B36: =+F35 -> 1.93036e+08 | C36: =+B36*J36 -> 3466854.7 | D36: =+D35 -> 5362111.1 | E36: =+C36+D36 -> 8828965.8 | F36: =+B36-D36 -> 1.8767389e+08 | G36: =+$E$8 -> 0.048 | H36: =((G36+$C$6)/4) -> 0.052 | I36: =+H36/(1-H36) -> 0.054852321 | J36: =(1+(I36))^(1/3)-1 -> 0.017959628 | K36: =+(J36+1)^12-1 -> 0.23813115 | L36: VPN AÑO 3
A37: =1+A36 -> 26 | B37: =+F36 -> 1.8767389e+08 | C37: =+B37*J37 -> 3370553.2 | D37: =+D36 -> 5362111.1 | E37: =+C37+D37 -> 8732664.3 | F37: =+B37-D37 -> 1.8231178e+08 | G37: =+$E$8 -> 0.048 | H37: =((G37+$C$6)/4) -> 0.052 | I37: =+H37/(1-H37) -> 0.054852321 | J37: =(1+(I37))^(1/3)-1 -> 0.017959628 | K37: =+(J37+1)^12-1 -> 0.23813115 | L37: =NPV(J47,E36:E47) -> 89096553
A38: =1+A37 -> 27 | B38: =+F37 -> 1.8231178e+08 | C38: =+B38*J38 -> 3274251.7 | D38: =+D37 -> 5362111.1 | E38: =+C38+D38 -> 8636362.8 | F38: =+B38-D38 -> 1.7694967e+08 | G38: =+$E$8 -> 0.048 | H38: =((G38+$C$6)/4) -> 0.052 | I38: =+H38/(1-H38) -> 0.054852321 | J38: =(1+(I38))^(1/3)-1 -> 0.017959628 | K38: =+(J38+1)^12-1 -> 0.23813115 | L38: VF AÑO 3
A39: =1+A38 -> 28 | B39: =+F38 -> 1.7694967e+08 | C39: =+B39*J39 -> 3177950.1 | D39: =+D38 -> 5362111.1 | E39: =+C39+D39 -> 8540061.2 | F39: =+B39-D39 -> 1.7158756e+08 | G39: =+$E$8 -> 0.048 | H39: =((G39+$C$6)/4) -> 0.052 | I39: =+H39/(1-H39) -> 0.054852321 | J39: =(1+(I39))^(1/3)-1 -> 0.017959628 | K39: =+(J39+1)^12-1 -> 0.23813115 | L39: =(1+K46)*L37 -> 1.1031322e+08
A40: =1+A39 -> 29 | B40: =+F39 -> 1.7158756e+08 | C40: =+B40*J40 -> 3081648.6 | D40: =+D39 -> 5362111.1 | E40: =+C40+D40 -> 8443759.7 | F40: =+B40-D40 -> 1.6622544e+08 | G40: =+$E$8 -> 0.048 | H40: =((G40+$C$6)/4) -> 0.052 | I40: =+H40/(1-H40) -> 0.054852321 | J40: =(1+(I40))^(1/3)-1 -> 0.017959628 | K40: =+(J40+1)^12-1 -> 0.23813115
A41: =1+A40 -> 30 | B41: =+F40 -> 1.6622544e+08 | C41: =+B41*J41 -> 2985347.1 | D41: =+D40 -> 5362111.1 | E41: =+C41+D41 -> 8347458.2 | F41: =+B41-D41 -> 1.6086333e+08 | G41: =+$E$8 -> 0.048 | H41: =((G41+$C$6)/4) -> 0.052 | I41: =+H41/(1-H41) -> 0.054852321 | J41: =(1+(I41))^(1/3)-1 -> 0.017959628 | K41: =+(J41+1)^12-1 -> 0.23813115
...

Sheet 10. GAO.GAF
A3: EQUIPOS DE AUDIOLOGÍA
A4: APALANCAMIENTO OPERATIVO Y FINANCIERO
B6: CLASIFICACIÓN COSTOS FIJO Y COSTO VARIABLE TOTAL Y UNITARIO | H6: VALORES FORMULADOS
B7: EQUIPOS DE AUDIOLOGÍA | D7: Audiómetros | E7: Impedanciómetros | F7: Equipos OAE ABR | H7: EQUIPOS DE AUDIOLOGÍA | J7: Audiómetros | K7: Impedanciómetros | L7: OAE
B8: COSTOS FIJOS % | D8: =J8 -> 0.42510628 | E8: 0 | F8: 0 | H8: COSTOS FIJOS % | J8: =+('4. COSTOS'!D25/'4. COSTOS'!$D$30) -> 0.42510628 | K8: =+'4. COSTOS'!D26/'4. COSTOS'!$D$30 -> 0.1747937 | L8: =+'4. COSTOS'!D27/'4. COSTOS'!$D$30 -> 0.40010003
B9: VALOR COSTOS FIJOS | D9: =J9 -> 95193965 | E9: 0 | F9: 0 | H9: VALOR COSTOS FIJOS | J9: =+('4. COSTOS'!$B$119+'4. COSTOS'!$B$126)*'10. GAO.GAF'!J8 -> 95193965 | K9: =+('4. COSTOS'!$B$119+'4. COSTOS'!$B$126)*'10. GAO.GAF'!K8 -> 39141519 | L9: =+('4. COSTOS'!$B$119+'4. COSTOS'!$B$126)*'10. GAO.GAF'!L8 -> 89594320
B10: COSTOS VARIABLES TOTALES | D10: =J10 -> 1.0691036e+09 | E10: 0 | F10: 0 | H10: COSTOS VARIABLES TOTALES | J10: =+'4. COSTOS'!$B$98*'10. GAO.GAF'!J8 -> 1.0691036e+09 | K10: =+'4. COSTOS'!$B$98*'10. GAO.GAF'!K8 -> 4.3959025e+08 | L10: =+'4. COSTOS'!$B$98*'10. GAO.GAF'!L8 -> 1.0062152e+09
B11: COSTO TOTAL | D11: =J11 -> 1.1642976e+09 | E11: 0 | F11: 0 | H11: COSTO TOTAL | J11: =+J9+J10 -> 1.1642976e+09 | K11: =+K9+K10 -> 4.7873176e+08 | L11: =+L9+L10 -> 1.0958095e+09
B12: CANTIDAD VENTAS | D12: 120 | E12: 0 | F12: 0 | H12: CANTIDAD VENTAS | J12: =+'4. COSTOS'!C25*12 -> 120 | K12: =+'4. COSTOS'!C26*12 -> 36 | L12: =+'4. COSTOS'!C27*12 -> 24
B13: COSTO VARIABLE UNITARIO | D13: =J13 -> 8909196.7 | H13: COSTO VARIABLE UNITARIO | J13: =+J10/J12 -> 8909196.7 | K13: =+K10/K12 -> 12210840 | L13: =+L10/L12 -> 41925631
B14: COSTO UNITARIO TOTAL | D14: =J14 -> 9702479.7 | H14: COSTO UNITARIO TOTAL | J14: =+J11/J12 -> 9702479.7 | K14: =+K11/K12 -> 13298105 | L14: =+L11/L12 -> 45658728
B15: PRECIO VENTA | D15: =J15 -> 13583472 | H15: PRECIO VENTA | J15: =+J14*(1+'3, INVENTARIO'!D13) -> 13583472 | K15: =+K14*(1+'3, INVENTARIO'!E13) -> 13298105 | L15: =+L14*(1+'3, INVENTARIO'!F13) -> 45658728
B16: Control Costo total | D16: =+D11-'4. COSTOS'!B132 -> -1.5745412e+09 | H16: Control Costo total | J16: =+J11-'4. COSTOS'!B132 -> -1.5745412e+09
B18: PUNTO DE EQUILIBRIO
A19: 1.-Determinar el punto de equilibrio financiero de "AUDIÓMETROS"
B20: Qpe= CF/ (P - cv) | C20: =+D9/(D15-D13) -> 20.365504 | D20: =+J9/(J15-J13) -> 20.365504 | F20: V = C
F21: C= CF+CV
B22: Costo variable unitario | C22: =+D13 -> 8909196.7 | F22: V = CF+CV
B23: Costos fijos anuales | C23: =+D9 -> 95193965 | F23: V= P*Q
B24: Precio por unidad | C24: =+D15 -> 13583472 | F24: P*Q = CF+Cv | H24: CV= Q*Cvu
F25: P*Q = CF+(Q*Cvu)
A26: ANALISIS PARA DIFERENTES ESCENARIOS
A28: CANTIDADES ANUALES | B28: VENTAS | C28: C.V. TOTALES | D28: C. FIJOS | E28: C. TOTALES | F28: UAII | G28: GAO | H28: INTERESES | I28: UAI | J28: IMPUESTOS | K28: U. NETA | L28: GAF | M28: GAT
A29: 0 | B29: =A29*$C$24 -> 0 | C29: =$C$22*A29 -> 0 | D29: =$C$23 -> 95193965 | E29: =C29+D29 -> 95193965 | F29: =B29-E29 -> -95193965 | G29: =+(B29-C29)/(B29-C29-D29) -> 0 | H29: =$B$90 -> 3750000 | I29: =F29-H29 -> -98943965 | J29: =IF(I29>0,(I29*$B$136),0) -> 0 | K29: =I29-J29 -> -98943965 | L29: =+F29/(F29-H29) -> 0.96209976 | M29: =G29*L29 -> 0
A30: 1 | B30: =A30*$C$24 -> 13583472 | C30: =$C$22*A30 -> 8909196.7 | D30: =$C$23 -> 95193965 | E30: =C30+D30 -> 1.0410316e+08 | F30: =B30-E30 -> -90519690 | G30: =+(B30-C30)/(B30-C30-D30) -> -0.051638212 | H30: =$B$90 -> 3750000 | I30: =F30-H30 -> -94269690 | J30: =IF(I30>0,(I30*$B$136),0) -> 0 | K30: =I30-J30 -> -94269690 | L30: =+F30/(F30-H30) -> 0.96022051 | M30: =G30*L30 -> -0.04958407
A31: 5 | B31: =A31*$C$24 -> 67917358 | C31: =$C$22*A31 -> 44545983 | D31: =$C$23 -> 95193965 | E31: =C31+D31 -> 1.3973995e+08 | F31: =B31-E31 -> -71822591 | G31: =+(B31-C31)/(B31-C31-D31) -> -0.32540423 | H31: =$B$90 -> 3750000 | I31: =F31-H31 -> -75572591 | J31: =IF(I31>0,(I31*$B$136),0) -> 0 | K31: =I31-J31 -> -75572591 | L31: =+F31/(F31-H31) -> 0.95037883 | M31: =G31*L31 -> -0.30925729
A32: 10 | B32: =A32*$C$24 -> 1.3583472e+08 | C32: =$C$22*A32 -> 89091967 | D32: =$C$23 -> 95193965 | E32: =C32+D32 -> 1.8428593e+08 | F32: =B32-E32 -> -48451216 | G32: =+(B32-C32)/(B32-C32-D32) -> -0.96473842 | H32: =$B$90 -> 3750000 | I32: =F32-H32 -> -52201216 | J32: =IF(I32>0,(I32*$B$136),0) -> 0 | K32: =I32-J32 -> -52201216 | L32: =+F32/(F32-H32) -> 0.92816259 | M32: =G32*L32 -> -0.89543411
A33: 15 | B33: =A33*$C$24 -> 2.0375207e+08 | C33: =$C$22*A33 -> 1.3363795e+08 | D33: =$C$23 -> 95193965 | E33: =C33+D33 -> 2.2883192e+08 | F33: =B33-E33 -> -25079841 | G33: =+(B33-C33)/(B33-C33-D33) -> -2.7956367 | H33: =$B$90 -> 3750000 | I33: =F33-H33 -> -28829841 | J33: =IF(I33>0,(I33*$B$136),0) -> 0 | K33: =I33-J33 -> -28829841 | L33: =+F33/(F33-H33) -> 0.86992644 | M33: =G33*L33 -> -2.4319983
A34: 20 | B34: =A34*$C$24 -> 2.7166943e+08 | C34: =$C$22*A34 -> 1.7818393e+08 | D34: =$C$23 -> 95193965 | E34: =C34+D34 -> 2.733779e+08 | F34: =B34-E34 -> -1708466.6 | G34: =+(B34-C34)/(B34-C34-D34) -> -54.71895 | H34: =$B$90 -> 3750000 | I34: =F34-H34 -> -5458466.6 | J34: =IF(I34>0,(I34*$B$136),0) -> 0 | K34: =I34-J34 -> -5458466.6 | L34: =+F34/(F34-H34) -> 0.31299387 | M34: =G34*L34 -> -17.126696
A35: 25 | B35: =A35*$C$24 -> 3.3958679e+08 | C35: =$C$22*A35 -> 2.2272992e+08 | D35: =$C$23 -> 95193965 | E35: =C35+D35 -> 3.1792388e+08 | F35: =B35-E35 -> 21662908 | G35: =+(B35-C35)/(B35-C35-D35) -> 5.3943299 | H35: =$B$90 -> 3750000 | I35: =F35-H35 -> 17912908 | J35: =IF(I35>0,(I35*$B$136),0) -> 5553001.5 | K35: =I35-J35 -> 12359907 | L35: =+F35/(F35-H35) -> 1.2093462 | M35: =G35*L35 -> 6.5236126
A36: 30 | B36: =A36*$C$24 -> 4.0750415e+08 | C36: =$C$22*A36 -> 2.672759e+08 | D36: =$C$23 -> 95193965 | E36: =C36+D36 -> 3.6246987e+08 | F36: =B36-E36 -> 45034283 | G36: =+(B36-C36)/(B36-C36-D36) -> 3.1138111 | H36: =$B$90 -> 3750000 | I36: =F36-H36 -> 41284283 | J36: =IF(I36>0,(I36*$B$136),0) -> 12798128 | K36: =I36-J36 -> 28486155 | L36: =+F36/(F36-H36) -> 1.0908336 | M36: =G36*L36 -> 3.3966497
A37: 50 | B37: =A37*$C$24 -> 6.7917358e+08 | C37: =$C$22*A37 -> 4.4545983e+08 | D37: =$C$23 -> 95193965 | E37: =C37+D37 -> 5.406538e+08 | F37: =B37-E37 -> 1.3851978e+08 | G37: =+(B37-C37)/(B37-C37-D37) -> 1.6872229 | H37: =$B$90 -> 3750000 | I37: =F37-H37 -> 1.3476978e+08 | J37: =IF(I37>0,(I37*$B$136),0) -> 41778632 | K37: =I37-J37 -> 92991149 | L37: =+F37/(F37-H37) -> 1.0278252 | M37: =G37*L37 -> 1.7341703
A38: 75 | B38: =A38*$C$24 -> 1.0187604e+09 | C38: =$C$22*A38 -> 6.6818975e+08 | D38: =$C$23 -> 95193965 | E38: =C38+D38 -> 7.6338372e+08 | F38: =B38-E38 -> 2.5537665e+08 | G38: =+(B38-C38)/(B38-C38-D38) -> 1.3727591 | H38: =$B$90 -> 3750000 | I38: =F38-H38 -> 2.5162665e+08 | J38: =IF(I38>0,(I38*$B$136),0) -> 78004263 | K38: =I38-J38 -> 1.7362239e+08 | L38: =+F38/(F38-H38) -> 1.014903 | M38: =G38*L38 -> 1.3932173
A39: 100 | B39: =A39*$C$24 -> 1.3583472e+09 | C39: =$C$22*A39 -> 8.9091967e+08 | D39: =$C$23 -> 95193965 | E39: =C39+D39 -> 9.8611363e+08 | F39: =B39-E39 -> 3.7223353e+08 | G39: =+(B39-C39)/(B39-C39-D39) -> 1.2557372 | H39: =$B$90 -> 3750000 | I39: =F39-H39 -> 3.6848353e+08 | J39: =IF(I39>0,(I39*$B$136),0) -> 1.1422989e+08 | K39: =I39-J39 -> 2.5425363e+08 | L39: =+F39/(F39-H39) -> 1.0101768 | M39: =G39*L39 -> 1.2685167
A40: 120 | B40: =A40*$C$24 -> 1.6300166e+09 | C40: =$C$22*A40 -> 1.0691036e+09 | D40: =$C$23 -> 95193965 | E40: =C40+D40 -> 1.1642976e+09 | F40: =B40-E40 -> 4.6571903e+08 | G40: =+(B40-C40)/(B40-C40-D40) -> 1.2044021 | H40: =$B$90 -> 3750000 | I40: =F40-H40 -> 4.6196903e+08 | J40: =IF(I40>0,(I40*$B$136),0) -> 1.432104e+08 | K40: =I40-J40 -> 3.1875863e+08 | L40: =+F40/(F40-H40) -> 1.0081174 | M40: =G40*L40 -> 1.2141788
... A45: 250 | B45: =A45*$C$24 -> 3.3958679e+09 | C45: =$C$22*A45 -> 2.2272992e+09 | D45: =$C$23 -> 95193965 | E45: =C45+D45 -> 2.3224931e+09 | F45: =B45-E45 -> 1.0733748e+09 | G45: =+(B45-C45)/(B45-C45-D45) -> 1.0886866 | H45: =$B$90 -> 3750000 | I45: =F45-H45 -> 1.0696248e+09 | J45: =IF(I45>0,(I45*$B$136),0) -> 3.3158368e+08 | K45: =I45-J45 -> 7.3804109e+08 | L45: =+F45/(F45-H45) -> 1.0035059 | M45: =G45*L45 -> 1.0925034
A46: =+K90 -> 3649.7698 | B46: =A46*$C$24 -> 4.9576544e+10 | C46: =$C$22*A46 -> 3.2516517e+10 | D46: =$C$23 -> 95193965 | E46: =C46+D46 -> 3.2611711e+10 | F46: =B46-E46 -> 1.6964834e+10 | G46: =+(B46-C46)/(B46-C46-D46) -> 1.0056113 | H46: =$B$90 -> 3750000 | I46: =F46-H46 -> 1.6961084e+10 | J46: =IF(I46>0,(I46*$B$136),0) -> 5.2579359e+09 | K46: =I46-J46 -> 1.1703148e+10 | L46: =+F46/(F46-H46) -> 1.0002211 | M46: =G46*L46 -> 1.0058336
F48: =+'6. ESTADOS FINANCIEROS'!D47-'10. GAO.GAF'!F44 -> -2.5933983e+08 | G48: =+F48/12 -> -21611652 | K48: =+(K45/K41)-1 -> 0.92567477 | O48: =+F41*2 -> 1.1184091e+09
A49: 2. Cuántas unidades se deben producir y vender, si se quieren tener unas utilidades de $50.000.000 por mes | I49: =+(F45/F41)-1 -> 0.91946724 | K49: =+(K43/K40)-1 -> 0.50590783 | O49: 344232027.49 = V-CT
K50: =+(K46/K41)-1 -> 29.535503 | O50: 344232027.49 = (Q*P)-(Cvu*Q)-CF
...
