Workbook

Sheet Datos
A1: #VALUE! | B1: Reporte de información Hidrometeorológica de DHIME generado (27/08/2025 19:26)
A2: Nombre estacion: | B2: AEROPUERTO SANTIAGO VILA [21185040] | C2: Corriente: | E2: Categoría de estación: | F2: Climática Principal
A3: Latitud: | B3: 4.2754444440 | C3: Longitud: | D3: -74.7980 | E3: Elevación: | F3: 305
A4: Entidad: | B4: INSTITUTO DE HIDROLOGIA METEOROLOGIA Y ESTUDIOS AMBIENTALES | C4: Area Operativa: | D4: Area Operativa 10 - Tolima | E4: Departamento: | F4: Tolima
A5: Municipio: | B5: Flandes | C5: Fecha instalacíon: | D5: 15/01/1951 00:00 | E5: Fecha suspensión:
A6: Variable: | B6: PRECIPITACION | C6: Frecuencia: | D6: Mensual | E6: Fecha consulta: | F6: 01/01/1992 00:00-01/09/2022 00:00
A7: Parametro: | B7: Precipitación total mensual | C7: Unidad medida: | D7: mm
A8: Fecha | C8: Valor: | E8: precipitacion anual maxima en 24 horas
A9: 1992-01-01 00:00 | C9: 42.3
A10: 1992-02-01 00:00 | C10: 30.6
A11: 1992-03-01 00:00 | C11: 37.8
A12: 1992-04-01 00:00 | C12: 144.8
A13: 1992-05-01 00:00 | C13: 147.3
A14: 1992-06-01 00:00 | C14: 26.3
A15: 1992-07-01 00:00 | C15: 10
A16: 1992-08-01 00:00 | C16: 55.6
A17: 1992-09-01 00:00 | C17: 124.3
A18: 1992-10-01 00:00 | C18: 81.4
A19: 1992-11-01 00:00 | C19: 89.5
A20: 1992-12-01 00:00 | C20: 21.2 | E20: =+MAX(C9:D20) -> 147.3
A21: 1993-01-01 00:00 | C21: 99.6
A22: 1993-02-01 00:00 | C22: 136.7
A23: 1993-03-01 00:00 | C23: 144
A24: 1993-04-01 00:00 | C24: 216.1
A25: 1993-05-01 00:00 | C25: 141.2
A26: 1993-06-01 00:00 | C26: 12.7
A27: 1993-07-01 00:00 | C27: 2.9
A28: 1993-08-01 00:00 | C28: 12.7
A29: 1993-09-01 00:00 | C29: 69.4
A30: 1993-10-01 00:00 | C30: 112.8
A31: 1993-11-01 00:00 | C31: 201.2
A32: 1993-12-01 00:00 | C32: 175.5 | E32: =+MAX(C21:D32) -> 216.1
A33: 1994-01-01 00:00 | C33: 100.3
A34: 1994-02-01 00:00 | C34: 153.2
A35: 1994-03-01 00:00 | C35: 119.1
A36: 1994-04-01 00:00 | C36: 163.1
A37: 1994-05-01 00:00 | C37: 225.5
A38: 1994-06-01 00:00 | C38: 17.7
A39: 1994-07-01 00:00 | C39: 19.4
A40: 1994-08-01 00:00 | C40: 7.3
...

Sheet Precipitacion anual máxima
B1: VALORES PRECIPITACION ANUAL MAXIMA EN 24 HORAS | E1: VALORES DE LOS COEFICIENTES a.b.c y d para el cálculo de las curvas IDF colombbia
B2: 1992 | C2: =+Datos!E20 -> 147.3
B3: 1993 | C3: =+Datos!E32 -> 216.1 | E3: REGION | F3: a | G3: b | H3: c | I3: d
B4: 1994 | C4: =+Datos!E44 -> 225.5 | E4: Andina | F4: 0.94 | G4: 0.18 | H4: 0.66 | I4: 0.83
B5: 1995 | C5: =+Datos!E56 -> 164.6 | E5: Caribe | F5: 24.85 | G5: 0.22 | H5: 0.5 | I5: 0.1
B6: 1996 | C6: =+Datos!E68 -> 206 | E6: Pacifico | F6: 13.92 | G6: 0.19 | H6: 0.58 | I6: 0.2
B7: 1997 | C7: =+Datos!E80 -> 176.1 | E7: Orinoquia | F7: 5.53 | G7: 0.17 | H7: 0.63 | I7: 0.42
B8: 1998 | C8: =+Datos!E92 -> 219.4
B9: 1999 | C9: =+Datos!E104 -> 238.9 | F9: PERIODO DE RETORNO (años)
B10: 2000 | C10: =+Datos!E116 -> 247.7 | E10: DURACION (minutos) | F10: 2 | G10: 3 | H10: 5 | I10: 10 | J10: 25 | K10: 50 | L10: 100
B11: 2001 | C11: =+Datos!E128 -> 320.2 | E11: 10 | F11: =+($F$4*($F$10^$G$4)*($C$37^$I$4))/((E11/60)^$H$4) -> 352.82116 | G11: =+($F$4*($G$10^$G$4)*($C$37^$I$4))/((E11/60)^$H$4) -> 379.53432 | H11: =+($F$4*(H10^$G$4)*($C$37^$I$4))/(($E$11/60)^$H$4) -> 416.08669 | I11: =+($F$4*($I$10^$G$4)*($C$37^$I$4))/((E11/60)^$H$4) -> 471.37791 | J11: =+($F$4*($J$10^$G$4)*($C$37^$I$4))/((E11/60)^$H$4) -> 555.90225 | K11: =+($F$4*($K$10^$G$4)*($C$37^$I$4))/((E11/60)^$H$4) -> 629.7727 | L11: =+($F$4*($L$10^$G$4)*($C$37^$I$4))/((E11/60)^$H$4) -> 713.45934
B12: 2002 | C12: =+Datos!E140 -> 255.2 | E12: 20 | F12: =+($F$4*($F$10^$G$4)*($C$37^$I$4))/((E12/60)^$H$4) -> 223.29286 | G12: =+($F$4*($G$10^$G$4)*($C$37^$I$4))/((E12/60)^$H$4) -> 240.19903 | H12: =+($F$4*($H$10^$G$4)*($C$37^$I$4))/((E12/60)^$H$4) -> 263.33224 | I12: =+($F$4*($I$10^$G$4)*($C$37^$I$4))/((E12/60)^$H$4) -> 298.32485 | J12: =+($F$4*($J$10^$G$4)*($C$37^$I$4))/((E12/60)^$H$4) -> 351.81847 | K12: =+($F$4*($K$10^$G$4)*($C$37^$I$4))/((E12/60)^$H$4) -> 398.56947 | L12: =+($F$4*($L$10^$G$4)*($C$37^$I$4))/((E12/60)^$H$4) -> 451.53293
B13: 2003 | C13: =+Datos!E152 -> 249.5 | E13: 30 | F13: =+($F$4*($F$10^$G$4)*($C$37^$I$4))/((E13/60)^$H$4) -> 170.86558 | G13: =+($F$4*($G$10^$G$4)*($C$37^$I$4))/((E13/60)^$H$4) -> 183.80234 | H13: =+($F$4*($H$10^$G$4)*($C$37^$I$4))/((E13/60)^$H$4) -> 201.50406 | I13: =+($F$4*($I$10^$G$4)*($C$37^$I$4))/((E13/60)^$H$4) -> 228.2807 | J13: =+($F$4*($J$10^$G$4)*($C$37^$I$4))/((E13/60)^$H$4) -> 269.21447 | K13: =+($F$4*($K$10^$G$4)*($C$37^$I$4))/((E13/60)^$H$4) -> 304.98874 | L13: =+($F$4*($L$10^$G$4)*($C$37^$I$4))/((E13/60)^$H$4) -> 345.51682
B14: 2004 | C14: =+Datos!E164 -> 217.4 | E14: 40 | F14: =+($F$4*($F$10^$G$4)*($C$37^$I$4))/((E14/60)^$H$4) -> 141.3172 | G14: =+($F$4*($G$10^$G$4)*($C$37^$I$4))/((E14/60)^$H$4) -> 152.01676 | H14: =+($F$4*($H$10^$G$4)*($C$37^$I$4))/((E14/60)^$H$4) -> 166.65726 | I14: =+($F$4*($I$10^$G$4)*($C$37^$I$4))/((E14/60)^$H$4) -> 188.80332 | J14: =+($F$4*($J$10^$G$4)*($C$37^$I$4))/((E14/60)^$H$4) -> 222.65827 | K14: =+($F$4*($K$10^$G$4)*($C$37^$I$4))/((E14/60)^$H$4) -> 252.24597 | L14: =+($F$4*($L$10^$G$4)*($C$37^$I$4))/((E14/60)^$H$4) -> 285.76539
B15: 2005 | C15: =+Datos!E176 -> 374.3 | E15: 50 | F15: =+($F$4*($F$10^$G$4)*($C$37^$I$4))/((E15/60)^$H$4) -> 121.96478 | G15: =+($F$4*($G$10^$G$4)*($C$37^$I$4))/((E15/60)^$H$4) -> 131.1991 | H15: =+($F$4*($H$10^$G$4)*($C$37^$I$4))/((E15/60)^$H$4) -> 143.83468 | I15: =+($F$4*($I$10^$G$4)*($C$37^$I$4))/((E15/60)^$H$4) -> 162.948 | J15: =+($F$4*($J$10^$G$4)*($C$37^$I$4))/((E15/60)^$H$4) -> 192.16674 | K15: =+($F$4*($K$10^$G$4)*($C$37^$I$4))/((E15/60)^$H$4) -> 217.7026 | L15: =+($F$4*($L$10^$G$4)*($C$37^$I$4))/((E15/60)^$H$4) -> 246.63177
B16: 2006 | C16: =+Datos!E188 -> 302.4 | E16: 60 | F16: =+($F$4*($F$10^$G$4)*($C$37^$I$4))/((E16/60)^$H$4) -> 108.13712 | G16: =+($F$4*($G$10^$G$4)*($C$37^$I$4))/((E16/60)^$H$4) -> 116.32451 | H16: =+($F$4*($H$10^$G$4)*($C$37^$I$4))/((E16/60)^$H$4) -> 127.52755 | I16: =+($F$4*($I$10^$G$4)*($C$37^$I$4))/((E16/60)^$H$4) -> 144.4739 | J16: =+($F$4*($J$10^$G$4)*($C$37^$I$4))/((E16/60)^$H$4) -> 170.38 | K16: =+($F$4*($K$10^$G$4)*($C$37^$I$4))/((E16/60)^$H$4) -> 193.02075 | L16: =+($F$4*($L$10^$G$4)*($C$37^$I$4))/((E16/60)^$H$4) -> 218.6701
B17: 2007 | C17: =+Datos!E200 -> 331 | E17: 70 | F17: =+($F$4*($F$10^$G$4)*($C$37^$I$4))/((E17/60)^$H$4) -> 97.676462 | G17: =+($F$4*($G$10^$G$4)*($C$37^$I$4))/((E17/60)^$H$4) -> 105.07184 | H17: =+($F$4*($H$10^$G$4)*($C$37^$I$4))/((E17/60)^$H$4) -> 115.19115 | I17: =+($F$4*($I$10^$G$4)*($C$37^$I$4))/((E17/60)^$H$4) -> 130.4982 | J17: =+($F$4*($J$10^$G$4)*($C$37^$I$4))/((E17/60)^$H$4) -> 153.89826 | K17: =+($F$4*($K$10^$G$4)*($C$37^$I$4))/((E17/60)^$H$4) -> 174.34886 | L17: =+($F$4*($L$10^$G$4)*($C$37^$I$4))/((E17/60)^$H$4) -> 197.51702
B18: 2008 | C18: =+Datos!E212 -> 224.5 | E18: 80 | F18: =+($F$4*($F$10^$G$4)*($C$37^$I$4))/((E18/60)^$H$4) -> 89.43659 | G18: =+($F$4*($G$10^$G$4)*($C$37^$I$4))/((E18/60)^$H$4) -> 96.208105 | H18: =+($F$4*($H$10^$G$4)*($C$37^$I$4))/((E18/60)^$H$4) -> 105.47376 | I18: =+($F$4*($I$10^$G$4)*($C$37^$I$4))/((E18/60)^$H$4) -> 119.48953 | J18: =+($F$4*($J$10^$G$4)*($C$37^$I$4))/((E18/60)^$H$4) -> 140.91559 | K18: =+($F$4*($K$10^$G$4)*($C$37^$I$4))/((E18/60)^$H$4) -> 159.641 | L18: =+($F$4*($L$10^$G$4)*($C$37^$I$4))/((E18/60)^$H$4) -> 180.85471
B19: 2009 | C19: =+Datos!E224 -> 272.2 | E19: 90 | F19: =+($F$4*($F$10^$G$4)*($C$37^$I$4))/((E19/60)^$H$4) -> 82.747441 | G19: =+($F$4*($G$10^$G$4)*($C$37^$I$4))/((E19/60)^$H$4) -> 89.012499 | H19: =+($F$4*($H$10^$G$4)*($C$37^$I$4))/((E19/60)^$H$4) -> 97.585158 | I19: =+($F$4*($I$10^$G$4)*($C$37^$I$4))/((E19/60)^$H$4) -> 110.55265 | J19: =+($F$4*($J$10^$G$4)*($C$37^$I$4))/((E19/60)^$H$4) -> 130.37622 | K19: =+($F$4*($K$10^$G$4)*($C$37^$I$4))/((E19/60)^$H$4) -> 147.70111 | L19: =+($F$4*($L$10^$G$4)*($C$37^$I$4))/((E19/60)^$H$4) -> 167.32821
B20: 2010 | C20: =+Datos!E236 -> 502.7 | E20: 100 | F20: =+($F$4*($F$10^$G$4)*($C$37^$I$4))/((E20/60)^$H$4) -> 77.18886 | G20: =+($F$4*($G$10^$G$4)*($C$37^$I$4))/((E20/60)^$H$4) -> 83.033062 | H20: =+($F$4*($H$10^$G$4)*($C$37^$I$4))/((E20/60)^$H$4) -> 91.02985 | I20: =+($F$4*($I$10^$G$4)*($C$37^$I$4))/((E20/60)^$H$4) -> 103.12625 | J20: =+($F$4*($J$10^$G$4)*($C$37^$I$4))/((E20/60)^$H$4) -> 121.61816 | K20: =+($F$4*($K$10^$G$4)*($C$37^$I$4))/((E20/60)^$H$4) -> 137.77925 | L20: =+($F$4*($L$10^$G$4)*($C$37^$I$4))/((E20/60)^$H$4) -> 156.0879
B21: 2011 | C21: =+Datos!E248 -> 213.3 | E21: 110 | F21: =+($F$4*($F$10^$G$4)*($C$37^$I$4))/((E21/60)^$H$4) -> 72.482882 | G21: =+($F$4*($G$10^$G$4)*($C$37^$I$4))/((E21/60)^$H$4) -> 77.97078 | H21: =+($F$4*($H$10^$G$4)*($C$37^$I$4))/((E21/60)^$H$4) -> 85.480028 | I21: =+($F$4*($I$10^$G$4)*($C$37^$I$4))/((E21/60)^$H$4) -> 96.838946 | J21: =+($F$4*($J$10^$G$4)*($C$37^$I$4))/((E21/60)^$H$4) -> 114.20346 | K21: =+($F$4*($K$10^$G$4)*($C$37^$I$4))/((E21/60)^$H$4) -> 129.37926 | L21: =+($F$4*($L$10^$G$4)*($C$37^$I$4))/((E21/60)^$H$4) -> 146.57168
B22: 2012 | C22: =+Datos!E260 -> 263.6 | E22: 120 | F22: =+($F$4*($F$10^$G$4)*($C$37^$I$4))/((E22/60)^$H$4) -> 68.437637 | G22: =+($F$4*($G$10^$G$4)*($C$37^$I$4))/((E22/60)^$H$4) -> 73.619257 | H22: =+($F$4*($H$10^$G$4)*($C$37^$I$4))/((E22/60)^$H$4) -> 80.709416 | I22: =+($F$4*($I$10^$G$4)*($C$37^$I$4))/((E22/60)^$H$4) -> 91.434397 | J22: =+($F$4*($J$10^$G$4)*($C$37^$I$4))/((E22/60)^$H$4) -> 107.8298 | K22: =+($F$4*($K$10^$G$4)*($C$37^$I$4))/((E22/60)^$H$4) -> 122.15864 | L22: =+($F$4*($L$10^$G$4)*($C$37^$I$4))/((E22/60)^$H$4) -> 138.39156
B23: 2013 | C23: =+Datos!E272 -> 199.7 | E23: 130 | F23: =+($F$4*($F$10^$G$4)*($C$37^$I$4))/((E23/60)^$H$4) -> 64.916039 | G23: =+($F$4*($G$10^$G$4)*($C$37^$I$4))/((E23/60)^$H$4) -> 69.831029 | H23: =+($F$4*($H$10^$G$4)*($C$37^$I$4))/((E23/60)^$H$4) -> 76.556349 | I23: =+($F$4*($I$10^$G$4)*($C$37^$I$4))/((E23/60)^$H$4) -> 86.729454 | J23: =+($F$4*($J$10^$G$4)*($C$37^$I$4))/((E23/60)^$H$4) -> 102.2812 | K23: =+($F$4*($K$10^$G$4)*($C$37^$I$4))/((E23/60)^$H$4) -> 115.87272 | L23: =+($F$4*($L$10^$G$4)*($C$37^$I$4))/((E23/60)^$H$4) -> 131.27034
B24: 2014 | C24: =+Datos!E284 -> 287.2 | E24: 140 | F24: =+($F$4*($F$10^$G$4)*($C$37^$I$4))/((E24/60)^$H$4) -> 61.817313 | G24: =+($F$4*($G$10^$G$4)*($C$37^$I$4))/((E24/60)^$H$4) -> 66.497688 | H24: =+($F$4*($H$10^$G$4)*($C$37^$I$4))/((E24/60)^$H$4) -> 72.90198 | I24: =+($F$4*($I$10^$G$4)*($C$37^$I$4))/((E24/60)^$H$4) -> 82.589478 | J24: =+($F$4*($J$10^$G$4)*($C$37^$I$4))/((E24/60)^$H$4) -> 97.398871 | K24: =+($F$4*($K$10^$G$4)*($C$37^$I$4))/((E24/60)^$H$4) -> 110.34161 | L24: =+($F$4*($L$10^$G$4)*($C$37^$I$4))/((E24/60)^$H$4) -> 125.00423
B25: 2015 | C25: =+Datos!E296 -> 304.5 | E25: 150 | F25: =+($F$4*($F$10^$G$4)*($C$37^$I$4))/((E25/60)^$H$4) -> 59.065569 | G25: =+($F$4*($G$10^$G$4)*($C$37^$I$4))/((E25/60)^$H$4) -> 63.537602 | H25: =+($F$4*($H$10^$G$4)*($C$37^$I$4))/((E25/60)^$H$4) -> 69.656812 | I25: =+($F$4*($I$10^$G$4)*($C$37^$I$4))/((E25/60)^$H$4) -> 78.91308 | J25: =+($F$4*($J$10^$G$4)*($C$37^$I$4))/((E25/60)^$H$4) -> 93.063246 | K25: =+($F$4*($K$10^$G$4)*($C$37^$I$4))/((E25/60)^$H$4) -> 105.42985 | L25: =+($F$4*($L$10^$G$4)*($C$37^$I$4))/((E25/60)^$H$4) -> 119.43978
B26: 2016 | C26: =+Datos!E308 -> 406.9 | E26: 160 | F26: =+($F$4*($F$10^$G$4)*($C$37^$I$4))/((E26/60)^$H$4) -> 56.602477 | G26: =+($F$4*($G$10^$G$4)*($C$37^$I$4))/((E26/60)^$H$4) -> 60.888022 | H26: =+($F$4*($H$10^$G$4)*($C$37^$I$4))/((E26/60)^$H$4) -> 66.752055 | I26: =+($F$4*($I$10^$G$4)*($C$37^$I$4))/((E26/60)^$H$4) -> 75.622327 | J26: =+($F$4*($J$10^$G$4)*($C$37^$I$4))/((E26/60)^$H$4) -> 89.182417 | K26: =+($F$4*($K$10^$G$4)*($C$37^$I$4))/((E26/60)^$H$4) -> 101.03332 | L26: =+($F$4*($L$10^$G$4)*($C$37^$I$4))/((E26/60)^$H$4) -> 114.45902
B27: 2017 | C27: =+Datos!E320 -> 326.3 | E27: 170 | F27: =+($F$4*($F$10^$G$4)*($C$37^$I$4))/((E27/60)^$H$4) -> 54.382396 | G27: =+($F$4*($G$10^$G$4)*($C$37^$I$4))/((E27/60)^$H$4) -> 58.499852 | H27: =+($F$4*($H$10^$G$4)*($C$37^$I$4))/((E27/60)^$H$4) -> 64.133884 | I27: =+($F$4*($I$10^$G$4)*($C$37^$I$4))/((E27/60)^$H$4) -> 72.656243 | J27: =+($F$4*($J$10^$G$4)*($C$37^$I$4))/((E27/60)^$H$4) -> 85.684475 | K27: =+($F$4*($K$10^$G$4)*($C$37^$I$4))/((E27/60)^$H$4) -> 97.070561 | L27: =+($F$4*($L$10^$G$4)*($C$37^$I$4))/((E27/60)^$H$4) -> 109.96967
B28: 2018 | C28: =+Datos!E332 -> 290.2 | E28: 180 | F28: =+($F$4*($F$10^$G$4)*($C$37^$I$4))/((E28/60)^$H$4) -> 52.369059 | G28: =+($F$4*($G$10^$G$4)*($C$37^$I$4))/((E28/60)^$H$4) -> 56.334079 | H28: =+($F$4*($H$10^$G$4)*($C$37^$I$4))/((E28/60)^$H$4) -> 61.759529 | I28: =+($F$4*($I$10^$G$4)*($C$37^$I$4))/((E28/60)^$H$4) -> 69.966375 | J28: =+($F$4*($J$10^$G$4)*($C$37^$I$4))/((E28/60)^$H$4) -> 82.512278 | K28: =+($F$4*($K$10^$G$4)*($C$37^$I$4))/((E28/60)^$H$4) -> 93.47683 | L28: =+($F$4*($L$10^$G$4)*($C$37^$I$4))/((E28/60)^$H$4) -> 105.89839
B29: 2019 | C29: =+Datos!E344 -> 243.1 | E29: 190 | F29: =+($F$4*($F$10^$G$4)*($C$37^$I$4))/((E29/60)^$H$4) -> 50.533252 | G29: =+($F$4*($G$10^$G$4)*($C$37^$I$4))/((E29/60)^$H$4) -> 54.359278 | H29: =+($F$4*($H$10^$G$4)*($C$37^$I$4))/((E29/60)^$H$4) -> 59.594537 | I29: =+($F$4*($I$10^$G$4)*($C$37^$I$4))/((E29/60)^$H$4) -> 67.513691 | J29: =+($F$4*($J$10^$G$4)*($C$37^$I$4))/((E29/60)^$H$4) -> 79.619794 | K29: =+($F$4*($K$10^$G$4)*($C$37^$I$4))/((E29/60)^$H$4) -> 90.199982 | L29: =+($F$4*($L$10^$G$4)*($C$37^$I$4))/((E29/60)^$H$4) -> 102.18611
B30: 2020 | C30: =+Datos!E356 -> 268.7 | E30: 200 | F30: =+($F$4*($F$10^$G$4)*($C$37^$I$4))/((E30/60)^$H$4) -> 48.851154 | G30: =+($F$4*($G$10^$G$4)*($C$37^$I$4))/((E30/60)^$H$4) -> 52.549823 | H30: =+($F$4*($H$10^$G$4)*($C$37^$I$4))/((E30/60)^$H$4) -> 57.610816 | I30: =+($F$4*($I$10^$G$4)*($C$37^$I$4))/((E30/60)^$H$4) -> 65.266366 | J30: =+($F$4*($J$10^$G$4)*($C$37^$I$4))/((E30/60)^$H$4) -> 76.969494 | K30: =+($F$4*($K$10^$G$4)*($C$37^$I$4))/((E30/60)^$H$4) -> 87.197499 | L30: =+($F$4*($L$10^$G$4)*($C$37^$I$4))/((E30/60)^$H$4) -> 98.784642
B31: 2021 | C31: =+Datos!E367 -> 197.6 | E31: 210 | F31: =+($F$4*($F$10^$G$4)*($C$37^$I$4))/((E31/60)^$H$4) -> 47.303131 | G31: =+($F$4*($G$10^$G$4)*($C$37^$I$4))/((E31/60)^$H$4) -> 50.884594 | H31: =+($F$4*($H$10^$G$4)*($C$37^$I$4))/((E31/60)^$H$4) -> 55.785213 | I31: =+($F$4*($I$10^$G$4)*($C$37^$I$4))/((E31/60)^$H$4) -> 63.198168 | J31: =+($F$4*($J$10^$G$4)*($C$37^$I$4))/((E31/60)^$H$4) -> 74.530441 | K31: =+($F$4*($K$10^$G$4)*($C$37^$I$4))/((E31/60)^$H$4) -> 84.434336 | L31: =+($F$4*($L$10^$G$4)*($C$37^$I$4))/((E31/60)^$H$4) -> 95.654299
B32: 2022 | C32: =+Datos!E372 -> 218 | E32: 220 | F32: =+($F$4*($F$10^$G$4)*($C$37^$I$4))/((E32/60)^$H$4) -> 45.872843 | G32: =+($F$4*($G$10^$G$4)*($C$37^$I$4))/((E32/60)^$H$4) -> 49.346015 | H32: =+($F$4*($H$10^$G$4)*($C$37^$I$4))/((E32/60)^$H$4) -> 54.098454 | I32: =+($F$4*($I$10^$G$4)*($C$37^$I$4))/((E32/60)^$H$4) -> 61.287267 | J32: =+($F$4*($J$10^$G$4)*($C$37^$I$4))/((E32/60)^$H$4) -> 72.27689 | K32: =+($F$4*($K$10^$G$4)*($C$37^$I$4))/((E32/60)^$H$4) -> 81.881324 | L32: =+($F$4*($L$10^$G$4)*($C$37^$I$4))/((E32/60)^$H$4) -> 92.762033
B33: No. Datos | C33: 30 | E33: 230 | F33: =+($F$4*($F$10^$G$4)*($C$37^$I$4))/((E33/60)^$H$4) -> 44.546568 | G33: =+($F$4*($G$10^$G$4)*($C$37^$I$4))/((E33/60)^$H$4) -> 47.919324 | H33: =+($F$4*($H$10^$G$4)*($C$37^$I$4))/((E33/60)^$H$4) -> 52.534361 | I33: =+($F$4*($I$10^$G$4)*($C$37^$I$4))/((E33/60)^$H$4) -> 59.515331 | J33: =+($F$4*($J$10^$G$4)*($C$37^$I$4))/((E33/60)^$H$4) -> 70.187222 | K33: =+($F$4*($K$10^$G$4)*($C$37^$I$4))/((E33/60)^$H$4) -> 79.513973 | L33: =+($F$4*($L$10^$G$4)*($C$37^$I$4))/((E33/60)^$H$4) -> 90.080099
B34: media | C34: =+MEDIAN(C2:C32) -> 247.7 | E34: 240 | F34: =+($F$4*($F$10^$G$4)*($C$37^$I$4))/((E34/60)^$H$4) -> 43.312695 | G34: =+($F$4*($G$10^$G$4)*($C$37^$I$4))/((E34/60)^$H$4) -> 46.59203 | H34: =+($F$4*($H$10^$G$4)*($C$37^$I$4))/((E34/60)^$H$4) -> 51.079238 | I34: =+($F$4*($I$10^$G$4)*($C$37^$I$4))/((E34/60)^$H$4) -> 57.866845 | J34: =+($F$4*($J$10^$G$4)*($C$37^$I$4))/((E34/60)^$H$4) -> 68.243141 | K34: =+($F$4*($K$10^$G$4)*($C$37^$I$4))/((E34/60)^$H$4) -> 77.311555 | L34: =+($F$4*($L$10^$G$4)*($C$37^$I$4))/((E34/60)^$H$4) -> 87.585015
B35: desviacion estandar | C35: =+_xlfn.STDEV.S(C2:C32) -> 74.000712 | E35: 250 | F35: =+($F$4*($F$10^$G$4)*($C$37^$I$4))/((E35/60)^$H$4) -> 42.161322 | G35: =+($F$4*($G$10^$G$4)*($C$37^$I$4))/((E35/60)^$H$4) -> 45.353483 | H35: =+($F$4*($H$10^$G$4)*($C$37^$I$4))/((E35/60)^$H$4) -> 49.721408 | I35: =+($F$4*($I$10^$G$4)*($C$37^$I$4))/((E35/60)^$H$4) -> 56.328582 | J35: =+($F$4*($J$10^$G$4)*($C$37^$I$4))/((E35/60)^$H$4) -> 66.429047 | K35: =+($F$4*($K$10^$G$4)*($C$37^$I$4))/((E35/60)^$H$4) -> 75.256397 | L35: =+($F$4*($L$10^$G$4)*($C$37^$I$4))/((E35/60)^$H$4) -> 85.256759
B36: coeficiente asim | C36: =+SKEW(C2:C32) -> 1.3388731 | E36: 260 | F36: =+($F$4*($F$10^$G$4)*($C$37^$I$4))/((E36/60)^$H$4) -> 41.083952 | G36: =+($F$4*($G$10^$G$4)*($C$37^$I$4))/((E36/60)^$H$4) -> 44.194543 | H36: =+($F$4*($H$10^$G$4)*($C$37^$I$4))/((E36/60)^$H$4) -> 48.450852 | I36: =+($F$4*($I$10^$G$4)*($C$37^$I$4))/((E36/60)^$H$4) -> 54.889189 | J36: =+($F$4*($J$10^$G$4)*($C$37^$I$4))/((E36/60)^$H$4) -> 64.731552 | K36: =+($F$4*($K$10^$G$4)*($C$37^$I$4))/((E36/60)^$H$4) -> 73.333332 | L36: =+($F$4*($L$10^$G$4)*($C$37^$I$4))/((E36/60)^$H$4) -> 83.07815
B37: PROMEDIO | C37: =+AVERAGE(C2:C32) -> 261.61613 | E37: 270 | F37: =+($F$4*($F$10^$G$4)*($C$37^$I$4))/((E37/60)^$H$4) -> 40.073248 | G37: =+($F$4*($G$10^$G$4)*($C$37^$I$4))/((E37/60)^$H$4) -> 43.107315 | H37: =+($F$4*($H$10^$G$4)*($C$37^$I$4))/((E37/60)^$H$4) -> 47.258915 | I37: =+($F$4*($I$10^$G$4)*($C$37^$I$4))/((E37/60)^$H$4) -> 53.538863 | J37: =+($F$4*($J$10^$G$4)*($C$37^$I$4))/((E37/60)^$H$4) -> 63.139094 | K37: =+($F$4*($K$10^$G$4)*($C$37^$I$4))/((E37/60)^$H$4) -> 71.529262 | L37: =+($F$4*($L$10^$G$4)*($C$37^$I$4))/((E37/60)^$H$4) -> 81.034348
B38: MAX | C38: =+MAX(C2:C32) -> 502.7 | E38: 280 | F38: =+($F$4*($F$10^$G$4)*($C$37^$I$4))/((E38/60)^$H$4) -> 39.122836 | G38: =+($F$4*($G$10^$G$4)*($C$37^$I$4))/((E38/60)^$H$4) -> 42.084944 | H38: =+($F$4*($H$10^$G$4)*($C$37^$I$4))/((E38/60)^$H$4) -> 46.138081 | I38: =+($F$4*($I$10^$G$4)*($C$37^$I$4))/((E38/60)^$H$4) -> 52.269088 | J38: =+($F$4*($J$10^$G$4)*($C$37^$I$4))/((E38/60)^$H$4) -> 61.641632 | K38: =+($F$4*($K$10^$G$4)*($C$37^$I$4))/((E38/60)^$H$4) -> 69.832811 | L38: =+($F$4*($L$10^$G$4)*($C$37^$I$4))/((E38/60)^$H$4) -> 79.112467
B39: MIN | C39: =+MIN(C2:C32) -> 147.3 | E39: 290 | F39: =+($F$4*($F$10^$G$4)*($C$37^$I$4))/((E39/60)^$H$4) -> 38.227152 | G39: =+($F$4*($G$10^$G$4)*($C$37^$I$4))/((E39/60)^$H$4) -> 41.121446 | H39: =+($F$4*($H$10^$G$4)*($C$37^$I$4))/((E39/60)^$H$4) -> 45.08179 | I39: =+($F$4*($I$10^$G$4)*($C$37^$I$4))/((E39/60)^$H$4) -> 51.072433 | J39: =+($F$4*($J$10^$G$4)*($C$37^$I$4))/((E39/60)^$H$4) -> 60.2304 | K39: =+($F$4*($K$10^$G$4)*($C$37^$I$4))/((E39/60)^$H$4) -> 68.23405 | L39: =+($F$4*($L$10^$G$4)*($C$37^$I$4))/((E39/60)^$H$4) -> 77.301256
E40: 300 | F40: =+($F$4*($F$10^$G$4)*($C$37^$I$4))/((E40/60)^$H$4) -> 37.381317 | G40: =+($F$4*($G$10^$G$4)*($C$37^$I$4))/((E40/60)^$H$4) -> 40.211569 | H40: =+($F$4*($H$10^$G$4)*($C$37^$I$4))/((E40/60)^$H$4) -> 44.084285 | I40: =+($F$4*($I$10^$G$4)*($C$37^$I$4))/((E40/60)^$H$4) -> 49.942376 | J40: =+($F$4*($J$10^$G$4)*($C$37^$I$4))/((E40/60)^$H$4) -> 58.897709 | K40: =+($F$4*($K$10^$G$4)*($C$37^$I$4))/((E40/60)^$H$4) -> 66.724265 | L40: =+($F$4*($L$10^$G$4)*($C$37^$I$4))/((E40/60)^$H$4) -> 75.590845
...

Sheet CURVA IDF
B3: CURVAS INTENSIDAD DURACIÓN FRECUENCIA-IDF ESTACION: AEROPUERTO SANTIAGO VILA (FLANDES) CODIGO: 21185040
B42: Datos técnicos | J42: REGION | K42: a | L42: b | M42: c | N42: d
J43: Andina | K43: 0.94 | L43: 0.18 | M43: 0.66 | N43: 0.83
B44: Ventana de informacion | C44: 1992-2022 | D44: # años:30 | J44: Caribe | K44: 24.85 | L44: 0.22 | M44: 0.5 | N44: 0.1
B45: Fecha de acturalización: | C45: 45896 | J45: Pacifico | K45: 13.92 | L45: 0.19 | M45: 0.58 | N45: 0.2
J46: Orinoquia | K46: 5.53 | L46: 0.17 | M46: 0.63 | N46: 0.42
B47: Abreviaturas:
B48: Tr:Tiempo de retorno (años)
B49: D: Duración: (min)
B50: I: Intensidad: (mm/hr)
B51: Fecha de reporte: 27/08/2025
B53: Elaborado por:
B54: Yasirley Sevilla Roa: Estudiante de Ingenieria civil
B55: Lina Tatiana Rivera Gonzalez: Estudiante de Ingenieria civil

Sheet CAUDAL DE DISEÑO
A1: TABLA DE VALORES
A2: Coeficiente de Escorrentía | B2: 0.95
A3: Intensidad | B3: =+'Precipitacion anual máxima'!H11 -> 416.08669 | C3: mm/hr
A4: Area | B4: =3603/10000 -> 0.3603 | C4: ha
A5: CAUDAL DE DISEÑO
A6: Q= | B6: =+(B2*B3*B4)/360 -> 0.39561176 | C6: m3/s
A7: Q= | B7: =2.78*B2*B3*B4 -> 395.92825 | C7: lt/s

Sheet CURVAS IDF Y Q - GUAMO
K1: TABLA DE VALORES
K2: Coeficiente de Escorrentía | L2: 0.95
K3: Intensidad | L3: =+L10 -> 133.23333 | M3: mm/hr
K4: Area | L4: =3603/10000 -> 0.3603 | M4: ha
K5: CAUDAL DE DISEÑO
K6: Q= | L6: =+(L2*L3*L4)/360 -> 0.12667714 | M6: m3/s
K7: Q= | L7: =2.78*L2*L3*L4 -> 126.77848 | M7: lt/s
K9: MINUTOS | L9: INTERPOLACIÓN
K10: 10 | L10: =+L11+((L12-L11)/(K12-K11))*(K10-K11) -> 133.23333
K11: 15 | L11: 123.8
K12: 30 | L12: 95.5
K13: 60 | L13: 69.7
