Workbook

Sheet Indice
H3: Presentado por:
H5: José Gonzalo Alfonso Zambrano
H6: Diana Katherine Barrera Obando
H7: Christian Steven Cepeda Rodríguez
H10: Especialización en Gerencia y Administración Financiera
H11: Programa de Ingeniería Financiera
H12: 2022
H14: GAF85

Sheet Situación Financiera
A2: ESTADOS FINANCIEROS CIFRAS HISTORICAS | B2: SITUACIÓN FINANCIERA CIFRAS HISTORICAS
B3: ACTIVOS | H3: ANALISIS VERTICAL
B4: AÑO | C4: 2017 | D4: 2018 | E4: 2019 | F4: 2020 | G4: 2021 | H4: 2017 | I4: 2018 | J4: 2019 | K4: 2020 | L4: 2021
B5: Efectivo y Equivalentes de Efectivo | C5: 154968628 | D5: 43688957 | E5: 88283543 | F5: 68971655 | G5: 1015572 | H5: =C5/C$17 -> 0.0077405894 | I5: =D5/D$17 -> 0.0021250024 | J5: =E5/E$17 -> 0.0042325382 | K5: =F5/F$17 -> 0.0033627388 | L5: =G5/G$17 -> 4.7878296e-05
B6: Clientes y otras cuentas comerciales por cobrar | C6: 581219338 | D6: 402692804 | E6: 577633014 | F6: 452430357 | G6: 905410373 | H6: =C6/C$17 -> 0.029031555 | I6: =D6/D$17 -> 0.019586715 | J6: =E6/E$17 -> 0.0276932 | K6: =F6/F$17 -> 0.022058411 | L6: =G6/G$17 -> 0.042684818
B7: Activos por Impuestos corrientes | C7: 187450360 | D7: 444942198 | E7: 556149913 | F7: 146026623 | G7: 240956500 | H7: =C7/C$17 -> 0.0093630323 | I7: =D7/D$17 -> 0.021641698 | J7: =E7/E$17 -> 0.026663245 | K7: =F7/F$17 -> 0.0071195825 | L7: =G7/G$17 -> 0.011359693
B8: Impuesto Diferido Renta | C8: 1124410 | D8: 10403223 | E8: 9337546
B9: TOTAL ACTIVOS CORRIENTES | C9: =C5+C6+C7+C8 -> 924762736 | D9: =D5+D6+D7+D8 -> 901727182 | E9: =E5+E6+E7+E8 -> 1231404016 | F9: =F5+F6+F7+F8 -> 667428635 | G9: =G5+G6+G7+G8 -> 1147382445 | H9: =C9/C$17 -> 0.04619134 | I9: =D9/D$17 -> 0.043859422 | J9: =E9/E$17 -> 0.059036649 | K9: =F9/F$17 -> 0.032540732 | L9: =G9/G$17 -> 0.05409239
B11: ACTIVOS NO CORRIENTES
B12: Propiedad Planta Y Equipo | C12: 15686654738 | D12: 16217918992 | E12: 16199920443 | F12: 16393861749 | G12: 16621721425 | H12: =C12/C$17 -> 0.78353893 | I12: =D12/D$17 -> 0.788829 | J12: =E12/E$17 -> 0.7766655 | K12: =F12/F$17 -> 0.79928885 | L12: =G12/G$17 -> 0.78361721
B13: Intangibles | C13: 3408844641 | D13: 3439840140 | E13: 3426973651 | F13: 3449269336 | G13: 3442427942 | H13: =C13/C$17 -> 0.17026973 | I13: =D13/D$17 -> 0.16731158 | J13: =E13/E$17 -> 0.16429786 | K13: =F13/F$17 -> 0.16817041 | L13: =G13/G$17 -> 0.1622904
B15: TOTAL ACTIVOS NO CORRIENTES | C15: =C13+C12 -> 19095499379 | D15: =D13+D12 -> 19657759132 | E15: =E13+E12 -> 19626894094 | F15: =F13+F12 -> 19843131085 | G15: =G13+G12 -> 20064149367 | H15: =C15/C$17 -> 0.95380866 | I15: =D15/D$17 -> 0.95614058 | J15: =E15/E$17 -> 0.94096335 | K15: =F15/F$17 -> 0.96745927 | L15: =G15/G$17 -> 0.94590761
B17: TOTAL ACTIVOS | C17: =C15+C9 -> 20020262115 | D17: =D15+D9 -> 20559486314 | E17: =E15+E9 -> 20858298110 | F17: =F15+F9 -> 20510559720 | G17: =G15+G9 -> 21211531812 | H17: =H15+H9 -> 1 | I17: =I15+I9 -> 1 | J17: =J15+J9 -> 1 | ... L17: =L15+L9 -> 1
B20: PASIVOS | H20: ANALISIS VERTICAL
B21: AÑO | C21: 2017 | D21: 2018 | E21: 2019 | F21: 2020 | G21: 2021 | H21: 2017 | I21: 2018 | J21: 2019 | K21: 2020 | L21: 2021
B22: Préstamos Corto Plazo | E22: 300000000 | F22: =681291656 -> 681291656 | G22: =500062109+22813056 -> 522875165 | H22: =C22/C$35 -> 0 | I22: =D22/D$35 -> 0 | J22: =E22/E$35 -> 0.0439782 | K22: =F22/F$35 -> 0.11462984 | L22: =G22/G$35 -> 0.078532222
B23: Proveedores | E23: 0 | F23: 367514252 | G23: 598388103 | H23: =C23/C$35 -> 0 | I23: =D23/D$35 -> 0 | J23: =E23/E$35 -> 0 | K23: =F23/F$35 -> 0.061835633 | L23: =G23/G$35 -> 0.089873741
B24: Cuentas Por Pagar | C24: 379797029 | D24: 462881103 | E24: 818168718 | F24: 198741700 | G24: 506149781 | H24: =C24/C$35 -> 0.061319837 | I24: =D24/D$35 -> 0.069514548 | J24: =E24/E$35 -> 0.11993863 | K24: =F24/F$35 -> 0.033439026 | L24: =G24/G$35 -> 0.076020185
B25: Impuestos Por Pagar | C25: 133036821 | D25: 289514417 | E25: 471703018 | F25: 254286286 | G25: 207739200 | H25: =C25/C$35 -> 0.021479358 | I25: =D25/D$35 -> 0.04347869 | J25: =E25/E$35 -> 0.069148832 | K25: =F25/F$35 -> 0.042784608 | L25: =G25/G$35 -> 0.031200986
B26: Beneficios A Empleados | C26: 338874397 | D26: 424880926 | E26: 465038033 | F26: 454079916 | G26: 595527132 | H26: =C26/C$35 -> 0.054712705 | I26: =D26/D$35 -> 0.063807759 | J26: =E26/E$35 -> 0.068171786 | K26: =F26/F$35 -> 0.076400626 | L26: =G26/G$35 -> 0.089444043
B27: TOTAL PASIVOS CORRIENTES | C27: =C22+C23+C25+C26+C24 -> 851708247 | D27: =D22+D23+D25+D26+D24 -> 1177276446 | E27: =E22+E23+E25+E26+E24 -> 2054909769 | F27: =F22+F23+F25+F26+F24 -> 1955913810 | G27: =G22+G23+G25+G26+G24 -> 2430679381 | H27: =C27/C$35 -> 0.1375119 | I27: =D27/D$35 -> 0.176801 | J27: =E27/E$35 -> 0.30123744 | K27: =F27/F$35 -> 0.32908973 | L27: =G27/G$35 -> 0.36507118
B29: PASIVOS NO CORRIENTES
B30: Préstamos Largo Plazo | C30: 3006370494 | D30: 2992927779 | E30: 2587635103 | F30: 2767874701 | G30: 3015176623 | H30: =C30/C$35 -> 0.48539123 | I30: =D30/D$35 -> 0.44947184 | J30: =E30/E$35 -> 0.37933178 | K30: =F30/F$35 -> 0.46570516 | L30: =G30/G$35 -> 0.45285861
B31: Pasivo Por Impuesto Diferido | F31: 10049892 | G31: 14220172 | H31: =C31/C$35 -> 0 | I31: =D31/D$35 -> 0 | J31: =E31/E$35 -> 0 | K31: =F31/F$35 -> 0.0016909315 | L31: =G31/G$35 -> 0.0021357712
B32: Otros Pasivos | C32: 2335627040 | D32: 2488561660 | E32: 2179016709 | F32: 1209567315 | G32: 1198021023 | H32: =C32/C$35 -> 0.37709687 | I32: =D32/D$35 -> 0.37372716 | J32: =E32/E$35 -> 0.31943078 | K32: =F32/F$35 -> 0.20351418 | L32: =G32/G$35 -> 0.17993444
B33: TOTAL PASIVOS NO CORRIENTES | C33: =C30+C31+C32 -> 5341997534 | D33: =D30+D31+D32 -> 5481489439 | E33: =E30+E31+E32 -> 4766651812 | F33: =F30+F31+F32 -> 3987491908 | G33: =G30+G31+G32 -> 4227417818 | H33: =C33/C$35 -> 0.8624881 | I33: =D33/D$35 -> 0.823199 | J33: =E33/E$35 -> 0.69876256 | K33: =F33/F$35 -> 0.67091027 | L33: =G33/G$35 -> 0.63492882
B35: TOTAL PASIVOS | C35: =C33+C27 -> 6193705781 | D35: =D33+D27 -> 6658765885 | E35: =E33+E27 -> 6821561581 | F35: =F33+F27 -> 5943405718 | G35: =G33+G27 -> 6658097199 | H35: =H33+H27 -> 1 | I35: =I33+I27 -> 1 | J35: =J33+J27 -> 1 | ... L35: =L33+L27 -> 1
B37: PATRIMONIO
B38: AÑO | C38: 2017 | D38: 2018 | E38: 2019 | F38: 2020 | G38: 2021 | H38: 2017 | I38: 2018 | J38: 2019 | K38: 2020 | L38: 2021
B39: Capital Suscrito y Pagado | C39: 1044000000 | D39: 1044000000 | E39: 1044000000 | F39: 1044000000 | G39: 1044000000 | H39: =C39/C$45 -> 0.075506871 | I39: =D39/D$45 -> 0.075104021 | J39: =E39/E$45 -> 0.074376262 | K39: =F39/F$45 -> 0.071668083 | L39: =G39/G$45 -> 0.071364248
B40: Reserva Legal | C40: 49085878 | D40: 49085878 | E40: 49085878 | F40: 49085878 | G40: 0 | H40: =C40/C45 -> 0.0035501159 | I40: =D40/D45 -> 0.0035311751 | J40: =E40/E45 -> 0.003496958 | K40: =F40/F45 -> 0.0033696272 | L40: =G40/G45 -> 0
B41: Reservas Ocasionales | C41: 367028046 | D41: 367028046 | E41: 367028046 | F41: 367028046 | G41: 491853352 | H41: =C41/C$45 -> 0.026545152 | I41: =D41/D$45 -> 0.026403527 | J41: =E41/E$45 -> 0.026147677 | K41: =F41/F$45 -> 0.02519559 | L41: =G41/G$45 -> 0.033621403
B42: Utilidad Y/O Pérdida del Ejercicio | C42: ='Estado resultados'!C20 -> -12579439 | D42: ='Estado resultados'!D20 -> 86425549 | E42: ='Estado resultados'!E20 -> 136016100 | F42: ='Estado resultados'!F20 -> 530417473 | G42: ='Estado resultados'!G20 -> -13719389 | H42: =C42/C$45 -> -0.00090980275 | I42: =D42/D$45 -> 0.0062173432 | J42: =E42/E$45 -> 0.0096900088 | K42: =F42/F$45 -> 0.036411881 | L42: =G42/G$45 -> -0.00093781023
B43: Utilidades / Pérdidas Acumuladas | C43: -664540256 | D43: =C43+C42 -> -677119695 | E43: =D43+D42 -> -590694146 | F43: =E43+E42 -> -454678046 | G43: =F43+F42 -> 75739427 | H43: =C43/C$45 -> -0.048062601 | I43: =D43/D$45 -> -0.048711122 | J43: =E43/E$45 -> -0.042082014 | K43: =F43/F$45 -> -0.031212552 | L43: =G43/G$45 -> 0.0051772866
B44: Utilidades acumuladas por operaciones NIIF | C44: 13043562105 | D44: 13031300650 | E44: 13031300650 | F44: 13031300650 | G44: 13031300650 | H44: 0.94337026 | I44: 0.93745506 | J44: 0.92837111 | K44: 0.89456737 | L44: 0.89541067
B45: TOTAL PATRIMONIO | C45: =C39+C41+C42+C44+C43+C40 -> 13826556334 | D45: =D39+D41+D42+D44+D43+D40 -> 13900720428 | E45: =E39+E41+E42+E44+E43+E40 -> 14036736528 | F45: =F39+F41+F42+F44+F43+F40 -> 14567154001 | G45: =G39+G41+G42+G44+G43+G40 -> 14629174040 | H45: =SUM(H39:H44) -> 1 | I45: =SUM(I39:I44) -> 1 | J45: =SUM(J39:J44) -> 1 | K45: =SUM(K39:K44) -> 1 | L45: =SUM(L39:L44) -> 1.0046358
B47: TOTAL PASIVO + PATRIMONIO | C47: =C45+C35 -> 20020262115 | D47: =D45+D35 -> 20559486313 | E47: =E45+E35 -> 20858298109 | F47: =F45+F35 -> 20510559719 | G47: =G45+G35 -> 21287271239
B49: Detalles de Depreciación y Amortización
B50: Depreciaciones | C50: 172454112 | D50: 271645297 | E50: 196588192 | F50: 199060704 | G50: 217471629
B51: Amortizaciones | C51: 0 | D51: 138553887 | E51: 177021270 | F51: 122753607 | G51: 148636088

Sheet Estado resultados
A2: ESTADO RESULTADOS CIFRAS HISTORICAS
H4: ANALISIS VERTICAL
B5: INGRESOS POR SERVICIOS | C5: 2017 | D5: 2018 | E5: 2019 | F5: 2020 | G5: 2021 | H5: 2017 | I5: 2018 | J5: 2019 | K5: 2020 | L5: 2021
B6: INGRESOS BRUTOS OPERACIONALES | C6: 11677869922 | D6: 13922708568 | E6: 18162369966 | F6: 14195917839 | G6: 16192756548 | H6: =C6/C$6 -> 1 | I6: =D6/D$6 -> 1 | J6: =E6/E$6 -> 1 | K6: =F6/F$6 -> 1 | L6: =G6/G$6 -> 1
B7: DEVOLUCIONES Y DESCUENTOS EN SERVICIOS | C7: 495946942 | D7: 505537124 | E7: 741621727 | F7: 1597379970 | G7: 809190070 | H7: =C7/C$6 -> 0.042468956 | I7: =D7/D$6 -> 0.036310257 | J7: =E7/E$6 -> 0.040832872 | K7: =F7/F$6 -> 0.1125239 | L7: =G7/G$6 -> 0.049972348
B8: INGRESOS NETOS | C8: =C6-C7 -> 11181922980 | D8: =D6-D7 -> 13417171444 | E8: =E6-E7 -> 17420748239 | F8: =F6-F7 -> 12598537869 | G8: =G6-G7 -> 15383566478 | H8: =C8/C$6 -> 0.95753104 | I8: =D8/D$6 -> 0.96368974 | J8: =E8/E$6 -> 0.95916713 | K8: =F8/F$6 -> 0.8874761 | L8: =G8/G$6 -> 0.95002765
B9: COSTO DE VENTAS | C9: 2687265148 | D9: 3420537716 | E9: 11747570453 | F9: 7057159585 | G9: 9267765228 | H9: =C9/C$6 -> 0.23011604 | I9: =D9/D$6 -> 0.24568048 | J9: =E9/E$6 -> 0.64680823 | K9: =F9/F$6 -> 0.49712598 | L9: =G9/G$6 -> 0.57234018
B10: UTILIDAD BRUTA | C10: =C8-C9 -> 8494657832 | D10: =D8-D9 -> 9996633728 | E10: =E8-E9 -> 5673177786 | F10: =F8-F9 -> 5541378284 | G10: =G8-G9 -> 6115801250 | H10: =C10/C$6 -> 0.72741501 | I10: =D10/D$6 -> 0.71800926 | J10: =E10/E$6 -> 0.31235889 | K10: =F10/F$6 -> 0.39035012 | L10: =G10/G$6 -> 0.37768747
B11: GASTOS DE ADMINISTRACION | C11: 7762469014 | D11: 9254341177 | E11: 4690234293 | F11: 4468022799 | G11: 5721338018 | H11: =C11/C$6 -> 0.66471617 | I11: =D11/D$6 -> 0.66469402 | J11: =E11/E$6 -> 0.25823911 | K11: =F11/F$6 -> 0.31473997 | L11: =G11/G$6 -> 0.353327
B12: UTILIDAD OPERACIONAL | C12: =C10-C11 -> 732188818 | D12: =D10-D11 -> 742292551 | E12: =E10-E11 -> 982943493 | F12: =F10-F11 -> 1073355485 | G12: =G10-G11 -> 394463232 | H12: =C12/C$6 -> 0.062698833 | I12: =D12/D$6 -> 0.05331524 | J12: =E12/E$6 -> 0.054119781 | K12: =F12/F$6 -> 0.075610151 | L12: =G12/G$6 -> 0.024360474
B13: OTROS INGRESOS | C13: =197050826-109949368-500000+500000 -> 87101458 | D13: 182086655 | E13: 156130353 | F13: =448569868-75810570 -> 372759298 | G13: =309011613+28514376 -> 337525989 | H13: =C13/C$6 -> 0.0074586768 | I13: =D13/D$6 -> 0.013078393 | J13: =E13/E$6 -> 0.0085963645 | K13: =F13/F$6 -> 0.026258203 | L13: =G13/G$6 -> 0.020844258
B14: INGRESOS FINANCIEROS | C14: 109949368 | D14: 98981717 | E14: 95529740 | F14: 75810570 | G14: 57246659 | H14: =C14/C$6 -> 0.0094151903 | I14: =D14/D$6 -> 0.0071093722 | J14: =E14/E$6 -> 0.0052597618 | K14: =F14/F$6 -> 0.0053403077 | L14: =G14/G$6 -> 0.0035353251
B15: GASTOS FINANCIEROS | C15: 632245234 | D15: 638332036 | E15: 615387646 | F15: 366727292 | G15: 514683196 | H15: =C15/C$6 -> 0.054140459 | I15: =D15/D$6 -> 0.045848265 | J15: =E15/E$6 -> 0.033882563 | K15: =F15/F$6 -> 0.025833292 | L15: =G15/G$6 -> 0.031784779
B16: OTROS GASTOS | C16: 137798585 | D16: 176725576 | E16: 231349745 | F16: =(574957907-366727292) -> 208230615 | G16: =(128909724+76491780) -> 205401504 | H16: =C16/C$6 -> 0.011799976 | I16: =D16/D$6 -> 0.012693333 | J16: =E16/E$6 -> 0.012737861 | K16: =F16/F$6 -> 0.014668345 | L16: =G16/G$6 -> 0.012684777
B17: UTILIDAD ANTES DE IMPUESTOS | C17: =C12+C13+C14-C15-C16 -> 159195825 | D17: =D12+D13+D14-D15-D16 -> 208303311 | E17: =E12+E13+E14-E15-E16 -> 387866195 | F17: =F12+F13+F14-F15-F16 -> 946967446 | G17: =G12+G13+G14-G15-G16 -> 69151180 | H17: =C17/C$6 -> 0.013632266 | I17: =D17/D$6 -> 0.014961407 | J17: =E17/E$6 -> 0.021355484 | K17: =F17/F$6 -> 0.066707025 | L17: =G17/G$6 -> 0.0042705008
B18: Gasto por Impuesto Sobre laRenta | C18: 171775264 | D18: 131156575 | E18: 250784418 | F18: 397162535 | G18: 78700289 | H18: =C18/C$6 -> 0.014709469 | I18: =D18/D$6 -> 0.0094203347 | J18: =E18/E$6 -> 0.013807913 | K18: =F18/F$6 -> 0.027977235 | L18: =G18/G$6 -> 0.0048602157
B19: Gasto por Impuesto Diferido Sobre la Renta | C19: 0 | D19: 9278813 | E19: 1065677 | F19: 19387438 | G19: 4170280 | H19: =C19/C$6 -> 0 | I19: =D19/D$6 -> 0.00066645171 | J19: =E19/E$6 -> 5.8674997e-05 | K19: =F19/F$6 -> 0.0013657051 | L19: =G19/G$6 -> 0.00025753984
B20: RESULTADO DEL PERIODO | C20: =C17-C18-C19 -> -12579439 | D20: =D17-D18+D19 -> 86425549 | E20: =E17-E18-E19 -> 136016100 | F20: =F17-F18-F19 -> 530417473 | G20: =G17-G18-G19 -> -13719389 | H20: =C20/C$6 -> -0.0010772032 | I20: =D20/D$6 -> 0.0062075241 | J20: =E20/E$6 -> 0.007488896 | K20: =F20/F$6 -> 0.037364084 | L20: =G20/G$6 -> -0.00084725469

Sheet Proyecciones Estados Financiero
B2: VARIABLES MACRONECONOMICAS
C3: HISTORICAS | H3: PROYECTADAS
B4: AÑO | C4: 2017 | D4: 2018 | E4: 2019 | F4: 2020 | G4: 2021 | H4: 2022 | I4: 2023 | J4: 2024 | K4: 2025 | L4: 2026
B5: DTF EA | C5: 0.0686 | D5: 0.0529 | E5: 0.0456 | F5: 0.0449 | G5: 0.0193 | H5: =AVERAGE(E5:G5) -> 0.0366 | I5: =AVERAGE(F5:H5) -> 0.0336 | J5: =AVERAGE(G5:I5) -> 0.029833333 | K5: =AVERAGE(H5:J5) -> 0.033344444 | L5: =AVERAGE(I5:K5) -> 0.032259259 | M5: Pormedio Ultimos 3 años
B6: SPREAD DE TASA (COLOCACIÓN) | C6: 0.071014434 | D6: 0.060528585 | E6: 0.062848859 | F6: 0.059515534 | G6: 0.064006937 | H6: 0.06358287 | I6: 0.062096557 | J6: 0.062410151 | K6: 0.06232241 | L6: 0.062883785
B7: COSTO DEL DINERO, TASA DE COLOCACIÓN | C7: 0.14448602 | D7: 0.11663055 | E7: 0.11131477 | F7: 0.10708778 | G7: 0.084116668 | H7: 0.0890025 | I7: 0.092918599 | J7: 0.10067816 | K7: 0.10483655 | L7: 0.10967193
B8: INFLACION | C8: 0.0431 | D8: 0.0324 | E8: 0.0353 | F8: 0.0252 | G8: 0.035 | H8: 0.12 | I8: 0.07 | J8: 0.0379 | K8: 0.0379 | L8: 0.0379
B9: PIB | C9: 0.02 | D9: 0.018 | E9: 0.028 | F9: 0.033 | G9: -0.076 | H9: 0.107 | I9: 0.071 | J9: 0.021 | K9: 0.028 | L9: 0.032
B10: CRECIMIENTO POBLACIONAL | C10: 0.0153 | D10: 0.0154 | E10: 0.0137 | F10: 0.0108 | G10: 0.0075 | H10: ='Crecimiento Poblacional'!L8 -> 0.010969275 | I10: ='Crecimiento Poblacional'!L9 -> 0.010594566 | J10: ='Crecimiento Poblacional'!L10 -> 0.010261205 | K10: ='Crecimiento Poblacional'!L11 -> 0.0099665524 | L10: ='Crecimiento Poblacional'!L12 -> 0.009692898
B11: Crecimiento Nominal | C11: =(1+C8)*(1+C10)*(1+C9)-1 -> 0.080240619 | D11: =(1+D8)*(1+D10)*(1+D9)-1 -> 0.067168341 | E11: =(1+E8)*(1+E10)*(1+E9)-1 -> 0.078869151 | F11: =(1+F8)*(1+F10)*(1+F9)-1 -> 0.070469141 | G11: =(1+G8)*(1+G10)*(1+G9)-1 -> -0.03648745 | H11: =(1+H8)*(1+H9)-1 -> 0.23984 | I11: =(1+I8)*(1+I9)-1 -> 0.14597 | J11: =(1+J8)*(1+J9)-1 -> 0.0596959 | K11: =(1+K8)*(1+K9)-1 -> 0.0669612 | L11: =(1+L8)*(1+L9)-1 -> 0.0711128
B12: Crecimiento en ventas | D12: =((1+('Estado resultados'!D10/'Estado resultados'!C10)-1)+'Proyecciones Estados Financiero'!D8-1) -> 0.20921417 | E12: =((1+('Estado resultados'!E10/'Estado resultados'!D10)-1)+'Proyecciones Estados Financiero'!E8-1) -> -0.39719118 | F12: =((1+('Estado resultados'!F10/'Estado resultados'!E10)-1)+'Proyecciones Estados Financiero'!F8-1) -> 0.0019679585 | G12: =((1+('Estado resultados'!G10/'Estado resultados'!F10)-1)+'Proyecciones Estados Financiero'!G8-1) -> 0.13866067 | H12: =(1+H11)/(1+H8)-1 -> 0.107 | I12: =(1+I11)/(1+I8)-1 -> 0.071 | J12: =(1+J11)/(1+J8)-1 -> 0.021 | K12: =(1+K11)/(1+K8)-1 -> 0.028 | L12: =(1+L11)/(1+L8)-1 -> 0.032
B15: ='Situación Financiera'!B3 -> ACTIVOS
B16: ='Situación Financiera'!B4 -> AÑO | C16: ='Situación Financiera'!C4 -> 2017 | D16: ='Situación Financiera'!D4 -> 2018 | E16: ='Situación Financiera'!E4 -> 2019 | F16: ='Situación Financiera'!F4 -> 2020 | G16: ='Situación Financiera'!G4 -> 2021 | H16: 2022 | I16: 2023 | J16: 2024 | K16: 2025 | L16: 2026
B17: ='Situación Financiera'!B5 -> Efectivo y Equivalentes de Efectivo | C17: ='Situación Financiera'!C5 -> 154968628 | D17: ='Situación Financiera'!D5 -> 43688957 | E17: ='Situación Financiera'!E5 -> 88283543 | F17: ='Situación Financiera'!F5 -> 68971655 | G17: ='Situación Financiera'!G5 -> 1015572 | H17: 1.0905971e+09 | I17: 1.275674e+09 | J17: 1.4631297e+09 | K17: 1.5916955e+09 | L17: 1.7815072e+09
B18: ='Situación Financiera'!B6 -> Clientes y otras cuentas comerciales por cobrar | C18: ='Situación Financiera'!C6 -> 581219338 | D18: ='Situación Financiera'!D6 -> 402692804 | E18: ='Situación Financiera'!E6 -> 577633014 | F18: ='Situación Financiera'!F6 -> 452430357 | G18: ='Situación Financiera'!G6 -> 905410373 | H18: =AVERAGE(F18:G18) -> 678920365 | I18: =AVERAGE(G18:H18) -> 792165369 | J18: =AVERAGE(H18:I18) -> 735542867 | K18: =AVERAGE(I18:J18) -> 763854118 | L18: =AVERAGE(J18:K18) -> 7.4969849e+08 | M18: Promedio 2 año anterior
B19: ='Situación Financiera'!B7 -> Activos por Impuestos corrientes | C19: ='Situación Financiera'!C7 -> 187450360 | D19: ='Situación Financiera'!D7 -> 444942198 | E19: ='Situación Financiera'!E7 -> 556149913 | F19: ='Situación Financiera'!F7 -> 146026623 | G19: ='Situación Financiera'!G7 -> 240956500 | H19: =G19*(1+H$12) -> 2.6673885e+08 | I19: =H19*(1+I$12) -> 2.856773e+08 | J19: =I19*(1+J$12) -> 2.9167653e+08 | K19: =J19*(1+K$12) -> 2.9984347e+08 | L19: =K19*(1+L$12) -> 3.0943846e+08
B20: ='Situación Financiera'!B8 -> Impuesto Diferido Renta | C20: ='Situación Financiera'!C8 -> 1124410 | D20: ='Situación Financiera'!D8 -> 10403223 | E20: ='Situación Financiera'!E8 -> 9337546 | F20: ='Situación Financiera'!F8 -> 0 | G20: ='Situación Financiera'!G8 -> 0 | H20: =G20*(1+H$12) -> 0 | I20: =H20*(1+I$12) -> 0 | J20: =I20*(1+J$12) -> 0 | K20: =J20*(1+K$12) -> 0 | L20: =K20*(1+L$12) -> 0
B21: ='Situación Financiera'!B9 -> TOTAL ACTIVOS CORRIENTES | C21: =SUM(C17:C20) -> 924762736 | D21: =SUM(D17:D20) -> 901727182 | E21: =SUM(E17:E20) -> 1231404016 | F21: =SUM(F17:F20) -> 667428635 | G21: =SUM(G17:G20) -> 1147382445 | H21: =SUM(H17:H20) -> 2.0362563e+09 | I21: =SUM(I17:I20) -> 2.3535166e+09 | J21: =SUM(J17:J20) -> 2.4903491e+09 | ... L21: =SUM(L17:L20) -> 2.8406442e+09
B23: ='Situación Financiera'!B11 -> ACTIVOS NO CORRIENTES
B24: ='Situación Financiera'!B12 -> Propiedad Planta Y Equipo | C24: ='Situación Financiera'!C12 -> 15686654738 | D24: ='Situación Financiera'!D12 -> 16217918992 | E24: ='Situación Financiera'!E12 -> 16199920443 | F24: ='Situación Financiera'!F12 -> 16393861749 | G24: ='Situación Financiera'!G12 -> 16621721425 | H24: =G24*(1+H$12) -> 1.8400246e+10 | I24: =H24*(1+I$12) -> 1.9706663e+10 | J24: =I24*(1+J$12) -> 2.0120503e+10 | K24: =J24*(1+K$12) -> 2.0683877e+10 | L24: =K24*(1+L$12) -> 2.1345761e+10
B25: ='Situación Financiera'!B13 -> Intangibles | C25: ='Situación Financiera'!C13 -> 3408844641 | D25: ='Situación Financiera'!D13 -> 3439840140 | E25: ='Situación Financiera'!E13 -> 3426973651 | F25: ='Situación Financiera'!F13 -> 3449269336 | G25: ='Situación Financiera'!G13 -> 3442427942 | H25: =G25 -> 3442427942 | I25: =H25 -> 3442427942 | J25: =I25 -> 3442427942 | K25: =J25 -> 3442427942 | L25: =K25 -> 3442427942
B27: ='Situación Financiera'!B15 -> TOTAL ACTIVOS NO CORRIENTES | C27: =SUM(C23:C26) -> 19095499379 | D27: =SUM(D23:D26) -> 19657759132 | E27: =SUM(E23:E26) -> 19626894094 | F27: =SUM(F23:F26) -> 19843131085 | G27: =SUM(G23:G26) -> 20064149367 | H27: =SUM(H23:H26) -> 2.1842674e+10 | I27: =SUM(I23:I26) -> 2.3149091e+10 | J27: =SUM(J23:J26) -> 2.3562931e+10 | ... L27: =SUM(L23:L26) -> 2.4788189e+10
B29: ='Situación Financiera'!B17 -> TOTAL ACTIVOS | C29: =C27+C21 -> 20020262115 | D29: =D27+D21 -> 20559486314 | E29: =E27+E21 -> 20858298110 | F29: =F27+F21 -> 20510559720 | G29: =G27+G21 -> 21211531812 | H29: =H27+H21 -> 2.387893e+10 | I29: =I27+I21 -> 2.5502608e+10 | J29: =J27+J21 -> 2.605328e+10 | ... L29: =L27+L21 -> 2.7628833e+10
B32: ='Situación Financiera'!B20 -> PASIVOS
B33: ='Situación Financiera'!B21 -> AÑO | C33: ='Situación Financiera'!C21 -> 2017 | D33: ='Situación Financiera'!D21 -> 2018 | E33: ='Situación Financiera'!E21 -> 2019 | F33: ='Situación Financiera'!F21 -> 2020 | G33: ='Situación Financiera'!G21 -> 2021 | H33: 2022 | I33: 2023 | J33: 2024 | K33: 2025 | L33: 2026
B34: ='Situación Financiera'!B22 -> Préstamos Corto Plazo | C34: ='Situación Financiera'!C22 -> 0 | D34: ='Situación Financiera'!D22 -> 0 | E34: ='Situación Financiera'!E22 -> 300000000 | F34: ='Situación Financiera'!F22 -> 681291656 | G34: ='Situación Financiera'!G22 -> 522875165 | H34: =G34*(1+H$12) -> 5.7882281e+08 | I34: =H34*(1+I$12) -> 6.1991923e+08 | J34: =I34*(1+J$12) -> 6.3293753e+08 | K34: =J34*(1+K$12) -> 6.5065978e+08 | L34: =K34*(1+L$12) -> 6.7148089e+08
B35: ='Situación Financiera'!B23 -> Proveedores | C35: ='Situación Financiera'!C23 -> 0 | D35: ='Situación Financiera'!D23 -> 0 | E35: ='Situación Financiera'!E23 -> 0 | F35: ='Situación Financiera'!F23 -> 367514252 | G35: ='Situación Financiera'!G23 -> 598388103 | H35: =G35*(1+H$12) -> 6.6241563e+08 | I35: =H35*(1+I$12) -> 7.0944714e+08 | J35: =I35*(1+J$12) -> 7.2434553e+08 | K35: =J35*(1+K$12) -> 7.446272e+08 | L35: =K35*(1+L$12) -> 7.6845528e+08
B36: ='Situación Financiera'!B24 -> Cuentas Por Pagar | C36: ='Situación Financiera'!C24 -> 379797029 | D36: ='Situación Financiera'!D24 -> 462881103 | E36: ='Situación Financiera'!E24 -> 818168718 | F36: ='Situación Financiera'!F24 -> 198741700 | G36: ='Situación Financiera'!G24 -> 506149781 | H36: =G36*(1+H$12) -> 5.6030781e+08 | I36: =H36*(1+I$12) -> 6.0008966e+08 | J36: =I36*(1+J$12) -> 6.1269154e+08 | K36: =J36*(1+K$12) -> 6.2984691e+08 | L36: =K36*(1+L$12) -> 6.5000201e+08
B37: ='Situación Financiera'!B25 -> Impuestos Por Pagar | C37: ='Situación Financiera'!C25 -> 133036821 | D37: ='Situación Financiera'!D25 -> 289514417 | E37: ='Situación Financiera'!E25 -> 471703018 | F37: ='Situación Financiera'!F25 -> 254286286 | G37: ='Situación Financiera'!G25 -> 207739200 | H37: =G37*(1+H$12) -> 2.2996729e+08 | I37: =H37*(1+I$12) -> 2.4629497e+08 | J37: =I37*(1+J$12) -> 2.5146717e+08 | K37: =J37*(1+K$12) -> 2.5850825e+08 | L37: =K37*(1+L$12) -> 2.6678051e+08
B38: ='Situación Financiera'!B26 -> Beneficios A Empleados | C38: ='Situación Financiera'!C26 -> 338874397 | D38: ='Situación Financiera'!D26 -> 424880926 | E38: ='Situación Financiera'!E26 -> 465038033 | F38: ='Situación Financiera'!F26 -> 454079916 | G38: ='Situación Financiera'!G26 -> 595527132 | H38: =G38*(1+H$12) -> 6.5924854e+08 | I38: =H38*(1+I$12) -> 7.0605518e+08 | J38: =I38*(1+J$12) -> 7.2088234e+08 | K38: =J38*(1+K$12) -> 7.4106705e+08 | L38: =K38*(1+L$12) -> 7.6478119e+08
B39: ='Situación Financiera'!B27 -> TOTAL PASIVOS CORRIENTES | C39: =SUM(C34:C38) -> 851708247 | D39: =SUM(D34:D38) -> 1177276446 | E39: =SUM(E34:E38) -> 2054909769 | F39: =SUM(F34:F38) -> 1955913810 | G39: =SUM(G34:G38) -> 2430679381 | H39: =SUM(H34:H38) -> 2.6907621e+09 | I39: =SUM(I33:I38) -> 2.8818082e+09 | J39: =SUM(J33:J38) -> 2.9423261e+09 | K39: =SUM(K33:K38) -> 3.0247112e+09 | L39: =SUM(L33:L38) -> 3.1215019e+09
B41: ='Situación Financiera'!B29 -> PASIVOS NO CORRIENTES
B42: ='Situación Financiera'!B30 -> Préstamos Largo Plazo | C42: ='Situación Financiera'!C30 -> 3006370494 | D42: ='Situación Financiera'!D30 -> 2992927779 | E42: ='Situación Financiera'!E30 -> 2587635103 | F42: ='Situación Financiera'!F30 -> 2767874701 | G42: ='Situación Financiera'!G30 -> 3015176623 | H42: =G42*(1+H$12) -> 3.3378005e+09 | I42: =H42*(1+I$12) -> 3.5747844e+09 | J42: =I42*(1+J$12) -> 3.6498548e+09 | K42: =J42*(1+K$12) -> 3.7520508e+09 | L42: =K42*(1+L$12) -> 3.8721164e+09
B43: ='Situación Financiera'!B31 -> Pasivo Por Impuesto Diferido | C43: ='Situación Financiera'!C31 -> 0 | D43: ='Situación Financiera'!D31 -> 0 | E43: ='Situación Financiera'!E31 -> 0 | F43: ='Situación Financiera'!F31 -> 10049892 | G43: ='Situación Financiera'!G31 -> 14220172 | H43: 0 | I43: =H82*35% -> 19030981 | J43: =I82*35% -> 20382181 | K43: =J82*35% -> 20810206 | L43: =K82*35% -> 21392892
B44: ='Situación Financiera'!B32 -> Otros Pasivos | C44: ='Situación Financiera'!C32 -> 2335627040 | D44: ='Situación Financiera'!D32 -> 2488561660 | E44: ='Situación Financiera'!E32 -> 2179016709 | F44: ='Situación Financiera'!F32 -> 1209567315 | G44: ='Situación Financiera'!G32 -> 1198021023 | H44: =G44*(1+H$12) -> 1.3262093e+09 | I44: =H44*(1+I$12) -> 1.4203701e+09 | J44: =I44*(1+J$12) -> 1.4501979e+09 | K44: =J44*(1+K$12) -> 1.4908034e+09 | L44: =K44*(1+L$12) -> 1.5385092e+09
B45: ='Situación Financiera'!B33 -> TOTAL PASIVOS NO CORRIENTES | C45: ='Situación Financiera'!C33 -> 5341997534 | D45: ='Situación Financiera'!D33 -> 5481489439 | E45: ='Situación Financiera'!E33 -> 4766651812 | F45: ='Situación Financiera'!F33 -> 3987491908 | G45: ='Situación Financiera'!G33 -> 4227417818 | H45: =SUM(H42:H44) -> 4.6640098e+09 | I45: =SUM(I42:I44) -> 5.0141855e+09 | J45: =SUM(J42:J44) -> 5.1204349e+09 | K45: =SUM(K42:K44) -> 5.2636644e+09 | L45: =SUM(L42:L44) -> 5.4320184e+09
B47: ='Situación Financiera'!B35 -> TOTAL PASIVOS | C47: =C45+C39 -> 6193705781 | D47: =D45+D39 -> 6658765885 | E47: =E45+E39 -> 6821561581 | F47: =F45+F39 -> 5943405718 | G47: =G45+G39 -> 6658097199 | H47: =H45+H39 -> 7.3547719e+09 | I47: =I45+I39 -> 7.8959937e+09 | J47: =J45+J39 -> 8.0627611e+09 | ... L47: =L45+L39 -> 8.5535203e+09
B49: ='Situación Financiera'!B37 -> PATRIMONIO
B50: ='Situación Financiera'!B38 -> AÑO | C50: ='Situación Financiera'!C38 -> 2017 | D50: ='Situación Financiera'!D38 -> 2018 | E50: ='Situación Financiera'!E38 -> 2019 | F50: ='Situación Financiera'!F38 -> 2020 | G50: ='Situación Financiera'!G38 -> 2021 | H50: 2022 | I50: 2023 | J50: 2024 | K50: 2025 | L50: 2026
B51: ='Situación Financiera'!B39 -> Capital Suscrito y Pagado | C51: ='Situación Financiera'!C39 -> 1044000000 | D51: ='Situación Financiera'!D39 -> 1044000000 | E51: ='Situación Financiera'!E39 -> 1044000000 | F51: ='Situación Financiera'!F39 -> 1044000000 | G51: ='Situación Financiera'!G39 -> 1044000000 | H51: =G51 -> 1044000000 | I51: =H51 -> 1044000000 | J51: =I51 -> 1044000000 | K51: =J51 -> 1044000000 | L51: =K51 -> 1044000000
...

Sheet Indicadores Financieros
B1: RAZONES FINANCIERAS
B3: Liquidez | C3: 2017 | D3: 2018 | E3: 2019 | F3: 2020 | G3: 2021 | H3: 2022 | I3: 2023 | J3: 2024 | K3: 2025 | L3: 2026
B4: Razon Corriente | C4: ='Proyecciones Estados Financiero'!C21/'Proyecciones Estados Financiero'!C39 -> 1.0857741 | D4: ='Proyecciones Estados Financiero'!D21/'Proyecciones Estados Financiero'!D39 -> 0.76594345 | E4: ='Proyecciones Estados Financiero'!E21/'Proyecciones Estados Financiero'!E39 -> 0.59924968 | F4: ='Proyecciones Estados Financiero'!F21/'Proyecciones Estados Financiero'!F39 -> 0.34123622 | G4: ='Proyecciones Estados Financiero'!G21/'Proyecciones Estados Financiero'!G39 -> 0.47204187 | H4: ='Proyecciones Estados Financiero'!H21/'Proyecciones Estados Financiero'!H39 -> 0.75675822 | I4: ='Proyecciones Estados Financiero'!I21/'Proyecciones Estados Financiero'!I39 -> 0.81668052 | J4: ='Proyecciones Estados Financiero'!J21/'Proyecciones Estados Financiero'!J39 -> 0.84638785 | ... L4: ='Proyecciones Estados Financiero'!L21/'Proyecciones Estados Financiero'!L39 -> 0.9100248
B5: Solvencia | C5: ='Proyecciones Estados Financiero'!C29/'Proyecciones Estados Financiero'!C47 -> 3.232356 | D5: ='Proyecciones Estados Financiero'!D29/'Proyecciones Estados Financiero'!D47 -> 3.0875821 | E5: ='Proyecciones Estados Financiero'!E29/'Proyecciones Estados Financiero'!E47 -> 3.0577014 | F5: ='Proyecciones Estados Financiero'!F29/'Proyecciones Estados Financiero'!F47 -> 3.4509776 | G5: ='Proyecciones Estados Financiero'!G29/'Proyecciones Estados Financiero'!G47 -> 3.1858249 | H5: ='Proyecciones Estados Financiero'!H29/'Proyecciones Estados Financiero'!H47 -> 3.2467261 | I5: ='Proyecciones Estados Financiero'!I29/'Proyecciones Estados Financiero'!I47 -> 3.2298161 | J5: ='Proyecciones Estados Financiero'!J29/'Proyecciones Estados Financiero'!J47 -> 3.23131 | ... L5: ='Proyecciones Estados Financiero'!L29/'Proyecciones Estados Financiero'!L47 -> 3.2301125
B6: Capital de Trabajo | C6: ='Proyecciones Estados Financiero'!C21-'Proyecciones Estados Financiero'!C39 -> 73054489 | D6: ='Proyecciones Estados Financiero'!D21-'Proyecciones Estados Financiero'!D39 -> -275549264 | E6: ='Proyecciones Estados Financiero'!E21-'Proyecciones Estados Financiero'!E39 -> -823505753 | F6: ='Proyecciones Estados Financiero'!F21-'Proyecciones Estados Financiero'!F39 -> -1288485175 | G6: ='Proyecciones Estados Financiero'!G21-'Proyecciones Estados Financiero'!G39 -> -1283296936 | H6: ='Proyecciones Estados Financiero'!H21-'Proyecciones Estados Financiero'!H39 -> -6.5450575e+08 | I6: ='Proyecciones Estados Financiero'!I21-'Proyecciones Estados Financiero'!I39 -> -5.2829157e+08 | J6: ='Proyecciones Estados Financiero'!J21-'Proyecciones Estados Financiero'!J39 -> -4.5197703e+08 | ... L6: ='Proyecciones Estados Financiero'!L21-'Proyecciones Estados Financiero'!L39 -> -2.8085775e+08
B8: Endeudamiento | C8: 2017 | D8: 2018 | E8: 2019 | F8: 2020 | G8: 2021 | H8: 2022 | I8: 2023 | J8: 2024 | K8: 2025 | L8: 2026
B9: Nivel de Endeudamiento | C9: ='Proyecciones Estados Financiero'!C47/'Proyecciones Estados Financiero'!C29 -> 0.30937186 | D9: ='Proyecciones Estados Financiero'!D47/'Proyecciones Estados Financiero'!D29 -> 0.32387803 | E9: ='Proyecciones Estados Financiero'!E47/'Proyecciones Estados Financiero'!E29 -> 0.32704306 | F9: ='Proyecciones Estados Financiero'!F47/'Proyecciones Estados Financiero'!F29 -> 0.28977297 | G9: ='Proyecciones Estados Financiero'!G47/'Proyecciones Estados Financiero'!G29 -> 0.31389045 | H9: ='Proyecciones Estados Financiero'!H47/'Proyecciones Estados Financiero'!H29 -> 0.30800257 | I9: ='Proyecciones Estados Financiero'!I47/'Proyecciones Estados Financiero'!I29 -> 0.30961515 | J9: ='Proyecciones Estados Financiero'!J47/'Proyecciones Estados Financiero'!J29 -> 0.30947201 | ... L9: ='Proyecciones Estados Financiero'!L47/'Proyecciones Estados Financiero'!L29 -> 0.30958674
B10: Concentracion de Endeudamiento a Corto Plazo | C10: ='Proyecciones Estados Financiero'!C39/'Proyecciones Estados Financiero'!C47 -> 0.1375119 | D10: ='Proyecciones Estados Financiero'!D39/'Proyecciones Estados Financiero'!D47 -> 0.176801 | E10: ='Proyecciones Estados Financiero'!E39/'Proyecciones Estados Financiero'!E47 -> 0.30123744 | F10: ='Proyecciones Estados Financiero'!F39/'Proyecciones Estados Financiero'!F47 -> 0.32908973 | G10: ='Proyecciones Estados Financiero'!G39/'Proyecciones Estados Financiero'!G47 -> 0.36507118 | H10: ='Proyecciones Estados Financiero'!H39/'Proyecciones Estados Financiero'!H47 -> 0.36585255 | I10: ='Proyecciones Estados Financiero'!I39/'Proyecciones Estados Financiero'!I47 -> 0.36497094 | J10: ='Proyecciones Estados Financiero'!J39/'Proyecciones Estados Financiero'!J47 -> 0.36492786 | ... L10: ='Proyecciones Estados Financiero'!L39/'Proyecciones Estados Financiero'!L47 -> 0.36493768
B11: Concentracion de Endeudamiento a Largo Plazo | C11: ='Proyecciones Estados Financiero'!C45/'Proyecciones Estados Financiero'!C47 -> 0.8624881 | D11: ='Proyecciones Estados Financiero'!D45/'Proyecciones Estados Financiero'!D47 -> 0.823199 | E11: ='Proyecciones Estados Financiero'!E45/'Proyecciones Estados Financiero'!E47 -> 0.69876256 | F11: ='Proyecciones Estados Financiero'!F45/'Proyecciones Estados Financiero'!F47 -> 0.67091027 | G11: ='Proyecciones Estados Financiero'!G45/'Proyecciones Estados Financiero'!G47 -> 0.63492882 | H11: ='Proyecciones Estados Financiero'!H45/'Proyecciones Estados Financiero'!H47 -> 0.63414745 | I11: ='Proyecciones Estados Financiero'!I45/'Proyecciones Estados Financiero'!I47 -> 0.63502906 | J11: ='Proyecciones Estados Financiero'!J45/'Proyecciones Estados Financiero'!J47 -> 0.63507214 | ... L11: ='Proyecciones Estados Financiero'!L45/'Proyecciones Estados Financiero'!L47 -> 0.63506232
B13: Actividad | C13: 2017 | D13: 2018 | E13: 2019 | F13: 2020 | G13: 2021 | H13: 2022 | I13: 2023 | J13: 2024 | K13: 2025 | L13: 2026
B14: Rotacion del Patrimonio | C14: ='Proyecciones Estados Financiero'!C68/'Proyecciones Estados Financiero'!C57 -> 0.84459714 | D14: ='Proyecciones Estados Financiero'!D68/'Proyecciones Estados Financiero'!D57 -> 1.0015818 | E14: ='Proyecciones Estados Financiero'!E68/'Proyecciones Estados Financiero'!E57 -> 1.2939169 | F14: ='Proyecciones Estados Financiero'!F68/'Proyecciones Estados Financiero'!F57 -> 0.97451553 | G14: ='Proyecciones Estados Financiero'!G68/'Proyecciones Estados Financiero'!G57 -> 1.1126416 | H14: ='Proyecciones Estados Financiero'!H68/'Proyecciones Estados Financiero'!H57 -> 1.0847985 | I14: ='Proyecciones Estados Financiero'!I68/'Proyecciones Estados Financiero'!I57 -> 1.0903904 | J14: ='Proyecciones Estados Financiero'!J68/'Proyecciones Estados Financiero'!J57 -> 1.0895318 | ... L14: ='Proyecciones Estados Financiero'!L68/'Proyecciones Estados Financiero'!L57 -> 1.0901462
B15: Rotacion del Activo | C15: ='Proyecciones Estados Financiero'!C68/'Proyecciones Estados Financiero'!C29 -> 0.58330255 | D15: ='Proyecciones Estados Financiero'!D68/'Proyecciones Estados Financiero'!D29 -> 0.67719146 | E15: ='Proyecciones Estados Financiero'!E68/'Proyecciones Estados Financiero'!E29 -> 0.87075033 | F15: ='Proyecciones Estados Financiero'!F68/'Proyecciones Estados Financiero'!F29 -> 0.69212728 | G15: ='Proyecciones Estados Financiero'!G68/'Proyecciones Estados Financiero'!G29 -> 0.76339402 | H15: ='Proyecciones Estados Financiero'!H68/'Proyecciones Estados Financiero'!H29 -> 0.75067776 | I15: ='Proyecciones Estados Financiero'!I68/'Proyecciones Estados Financiero'!I29 -> 0.75278904 | J15: ='Proyecciones Estados Financiero'!J68/'Proyecciones Estados Financiero'!J29 -> 0.75235223 | ... L15: ='Proyecciones Estados Financiero'!L68/'Proyecciones Estados Financiero'!L29 -> 0.75265142
B16: Rotacion de Cartera | C16: ='Proyecciones Estados Financiero'!C68/'Proyecciones Estados Financiero'!C18 -> 20.092019 | D16: ='Proyecciones Estados Financiero'!D68/'Proyecciones Estados Financiero'!D18 -> 34.574019 | E16: ='Proyecciones Estados Financiero'!E68/'Proyecciones Estados Financiero'!E18 -> 31.442749 | F16: ='Proyecciones Estados Financiero'!F68/'Proyecciones Estados Financiero'!F18 -> 31.377023 | G16: ='Proyecciones Estados Financiero'!G68/'Proyecciones Estados Financiero'!G18 -> 17.884439 | H16: ='Proyecciones Estados Financiero'!H68/'Proyecciones Estados Financiero'!H18 -> 26.402775 | I16: ='Proyecciones Estados Financiero'!I68/'Proyecciones Estados Financiero'!I18 -> 24.234944 | J16: ='Proyecciones Estados Financiero'!J68/'Proyecciones Estados Financiero'!J18 -> 26.648676 | ... L16: ='Proyecciones Estados Financiero'!L68/'Proyecciones Estados Financiero'!L18 -> 27.737658
B17: Periodo de Cobro | C17: =('Proyecciones Estados Financiero'!C18/'Proyecciones Estados Financiero'!C68)*365 -> 18.166417 | D17: =('Proyecciones Estados Financiero'!D18/'Proyecciones Estados Financiero'!D68)*365 -> 10.55706 | E17: =('Proyecciones Estados Financiero'!E18/'Proyecciones Estados Financiero'!E68)*365 -> 11.6084 | F17: =('Proyecciones Estados Financiero'!F18/'Proyecciones Estados Financiero'!F68)*365 -> 11.632716 | G17: =('Proyecciones Estados Financiero'!G18/'Proyecciones Estados Financiero'!G68)*365 -> 20.408803 | H17: =('Proyecciones Estados Financiero'!H18/'Proyecciones Estados Financiero'!H68)*365 -> 13.824305 | I17: =('Proyecciones Estados Financiero'!I18/'Proyecciones Estados Financiero'!I68)*365 -> 15.060897 | J17: =('Proyecciones Estados Financiero'!J18/'Proyecciones Estados Financiero'!J68)*365 -> 13.696741 | ... L17: =('Proyecciones Estados Financiero'!L18/'Proyecciones Estados Financiero'!L68)*365 -> 13.159006
B18: Periodo de Pago a Proveedores | C18: =(('Proyecciones Estados Financiero'!C36+'Proyecciones Estados Financiero'!C35)/'Proyecciones Estados Financiero'!C68)*365 -> 11.870822 | D18: =(('Proyecciones Estados Financiero'!D36+'Proyecciones Estados Financiero'!D35)/'Proyecciones Estados Financiero'!D68)*365 -> 12.134967 | E18: =(('Proyecciones Estados Financiero'!E36+'Proyecciones Estados Financiero'!E35)/'Proyecciones Estados Financiero'!E68)*365 -> 16.442325 | F18: =(('Proyecciones Estados Financiero'!F36+'Proyecciones Estados Financiero'!F35)/'Proyecciones Estados Financiero'!F68)*365 -> 14.559356 | G18: =(('Proyecciones Estados Financiero'!G36+'Proyecciones Estados Financiero'!G35)/'Proyecciones Estados Financiero'!G68)*365 -> 24.897325 | H18: =(('Proyecciones Estados Financiero'!H36+'Proyecciones Estados Financiero'!H35)/'Proyecciones Estados Financiero'!H68)*365 -> 24.897325 | I18: =(('Proyecciones Estados Financiero'!I36+'Proyecciones Estados Financiero'!I35)/'Proyecciones Estados Financiero'!I68)*365 -> 24.897325 | J18: =(('Proyecciones Estados Financiero'!J36+'Proyecciones Estados Financiero'!J35)/'Proyecciones Estados Financiero'!J68)*365 -> 24.897325 | ... L18: =(('Proyecciones Estados Financiero'!L36+'Proyecciones Estados Financiero'!L35)/'Proyecciones Estados Financiero'!L68)*365 -> 24.897325
B20: INDICADORES DE RENTABILIDAD
B21: Rentabilidad del Activo | C21: 2017 | D21: 2018 | E21: 2019 | F21: 2020 | G21: 2021 | H21: 2022 | I21: 2023 | J21: 2024 | K21: 2025 | L21: 2026 | M21: PROMEDIO
B22: Activos Totales | C22: ='Proyecciones Estados Financiero'!C29 -> 20020262115 | D22: ='Proyecciones Estados Financiero'!D29 -> 20559486314 | E22: ='Proyecciones Estados Financiero'!E29 -> 20858298110 | F22: ='Proyecciones Estados Financiero'!F29 -> 20510559720 | G22: ='Proyecciones Estados Financiero'!G29 -> 21211531812 | H22: ='Proyecciones Estados Financiero'!H29 -> 2.387893e+10 | I22: ='Proyecciones Estados Financiero'!I29 -> 2.5502608e+10 | J22: ='Proyecciones Estados Financiero'!J29 -> 2.605328e+10 | ... L22: ='Proyecciones Estados Financiero'!L29 -> 2.7628833e+10
B23: Utilidad Neta | C23: ='Proyecciones Estados Financiero'!C82 -> -12579439 | D23: ='Proyecciones Estados Financiero'!D82 -> 86425549 | E23: ='Proyecciones Estados Financiero'!E82 -> 136016100 | F23: ='Proyecciones Estados Financiero'!F82 -> 530417473 | G23: ='Proyecciones Estados Financiero'!G82 -> -13719389 | H23: ='Proyecciones Estados Financiero'!H82 -> 54374232 | I23: ='Proyecciones Estados Financiero'!I82 -> 58234802 | J23: ='Proyecciones Estados Financiero'!J82 -> 59457733 | ... L23: ='Proyecciones Estados Financiero'!L82 -> 63078471
B24: ROA | C24: =+C23/C22 -> -0.00062833538 | D24: =+D23/D22 -> 0.0042036823 | E24: =+E23/E22 -> 0.0065209587 | F24: =+F23/F22 -> 0.025860702 | G24: =+G23/G22 -> -0.00064678917 | H24: =+H23/H22 -> 0.0022770799 | I24: =+I23/I22 -> 0.0022834842 | J24: =+J23/J22 -> 0.0022821592 | ... L24: =+L23/L22 -> 0.0022830668 | M24: =+AVERAGE(C24:L24) -> 0.0046718259
B26: Rentabilidad del Patrimonio | C26: 2017 | D26: 2018 | E26: 2019 | F26: 2020 | G26: 2021 | H26: 2022 | I26: 2023 | J26: 2024 | K26: 2025 | L26: 2026
B27: Rentabilidad Bruta | C27: ='Proyecciones Estados Financiero'!C72/'Proyecciones Estados Financiero'!C68 -> 0.72741501 | D27: ='Proyecciones Estados Financiero'!D72/'Proyecciones Estados Financiero'!D68 -> 0.71800926 | E27: ='Proyecciones Estados Financiero'!E72/'Proyecciones Estados Financiero'!E68 -> 0.31235889 | F27: ='Proyecciones Estados Financiero'!F72/'Proyecciones Estados Financiero'!F68 -> 0.39035012 | G27: ='Proyecciones Estados Financiero'!G72/'Proyecciones Estados Financiero'!G68 -> 0.37768747 | H27: ='Proyecciones Estados Financiero'!H72/'Proyecciones Estados Financiero'!H68 -> 0.37768747 | I27: ='Proyecciones Estados Financiero'!I72/'Proyecciones Estados Financiero'!I68 -> 0.37768747 | J27: ='Proyecciones Estados Financiero'!J72/'Proyecciones Estados Financiero'!J68 -> 0.37768747 | ... L27: ='Proyecciones Estados Financiero'!L72/'Proyecciones Estados Financiero'!L68 -> 0.37768747
B28: Rentabilidad Operacional | C28: ='Proyecciones Estados Financiero'!C74/'Proyecciones Estados Financiero'!C68 -> 0.062698833 | D28: ='Proyecciones Estados Financiero'!D74/'Proyecciones Estados Financiero'!D68 -> 0.05331524 | E28: ='Proyecciones Estados Financiero'!E74/'Proyecciones Estados Financiero'!E68 -> 0.054119781 | F28: ='Proyecciones Estados Financiero'!F74/'Proyecciones Estados Financiero'!F68 -> 0.075610151 | G28: ='Proyecciones Estados Financiero'!G74/'Proyecciones Estados Financiero'!G68 -> 0.024360474 | H28: ='Proyecciones Estados Financiero'!H74/'Proyecciones Estados Financiero'!H68 -> 0.024360474 | I28: ='Proyecciones Estados Financiero'!I74/'Proyecciones Estados Financiero'!I68 -> 0.024360474 | J28: ='Proyecciones Estados Financiero'!J74/'Proyecciones Estados Financiero'!J68 -> 0.024360474 | ... L28: ='Proyecciones Estados Financiero'!L74/'Proyecciones Estados Financiero'!L68 -> 0.024360474
B29: Rentabilidad Neta | C29: ='Proyecciones Estados Financiero'!C82/'Proyecciones Estados Financiero'!C68 -> -0.0010772032 | D29: ='Proyecciones Estados Financiero'!D82/'Proyecciones Estados Financiero'!D68 -> 0.0062075241 | E29: ='Proyecciones Estados Financiero'!E82/'Proyecciones Estados Financiero'!E68 -> 0.007488896 | F29: ='Proyecciones Estados Financiero'!F82/'Proyecciones Estados Financiero'!F68 -> 0.037364084 | G29: ='Proyecciones Estados Financiero'!G82/'Proyecciones Estados Financiero'!G68 -> -0.00084725469 | H29: ='Proyecciones Estados Financiero'!H82/'Proyecciones Estados Financiero'!H68 -> 0.0030333654 | I29: ='Proyecciones Estados Financiero'!I82/'Proyecciones Estados Financiero'!I68 -> 0.0030333654 | J29: ='Proyecciones Estados Financiero'!J82/'Proyecciones Estados Financiero'!J68 -> 0.0030333654 | ... L29: ='Proyecciones Estados Financiero'!L82/'Proyecciones Estados Financiero'!L68 -> 0.0030333654
B30: ROE | C30: ='Proyecciones Estados Financiero'!C82/'Proyecciones Estados Financiero'!C57 -> -0.00090980275 | D30: ='Proyecciones Estados Financiero'!D82/'Proyecciones Estados Financiero'!D57 -> 0.0062173432 | E30: ='Proyecciones Estados Financiero'!E82/'Proyecciones Estados Financiero'!E57 -> 0.0096900088 | F30: ='Proyecciones Estados Financiero'!F82/'Proyecciones Estados Financiero'!F57 -> 0.036411881 | G30: ='Proyecciones Estados Financiero'!G82/'Proyecciones Estados Financiero'!G57 -> -0.00094269081 | H30: ='Proyecciones Estados Financiero'!H82/'Proyecciones Estados Financiero'!H57 -> 0.0032905901 | I30: ='Proyecciones Estados Financiero'!I82/'Proyecciones Estados Financiero'!I57 -> 0.0033075526 | J30: ='Proyecciones Estados Financiero'!J82/'Proyecciones Estados Financiero'!J57 -> 0.0033049482 | ... L30: ='Proyecciones Estados Financiero'!L82/'Proyecciones Estados Financiero'!L57 -> 0.0033068119
C32: =+'Indicadores Financieros'!C21 -> 2017 | D32: =+C32+1 -> 2018 | E32: =+D32+1 -> 2019 | F32: =+E32+1 -> 2020 | G32: =+F32+1 -> 2021 | H32: 2022 | I32: 2023 | J32: 2024 | K32: 2025 | L32: 2026
B33: Utilidad Operacional | C33: ='Proyecciones Estados Financiero'!C74 -> 732188818 | D33: ='Proyecciones Estados Financiero'!D74 -> 742292551 | E33: ='Proyecciones Estados Financiero'!E74 -> 982943493 | F33: ='Proyecciones Estados Financiero'!F74 -> 1073355485 | G33: ='Proyecciones Estados Financiero'!G74 -> 394463232 | H33: ='Proyecciones Estados Financiero'!H74 -> 4.366708e+08 | I33: ='Proyecciones Estados Financiero'!I74 -> 4.6767442e+08 | J33: ='Proyecciones Estados Financiero'!J74 -> 4.7749559e+08 | ... L33: ='Proyecciones Estados Financiero'!L74 -> 5.0657316e+08
B34: Imp. Real Pagado | C34: =('Proyecciones Estados Financiero'!C80+'Proyecciones Estados Financiero'!C81)/'Proyecciones Estados Financiero'!C79 -> 1.0790186 | D34: =('Proyecciones Estados Financiero'!D80+'Proyecciones Estados Financiero'!D81)/'Proyecciones Estados Financiero'!D79 -> 0.67418702 | E34: =('Proyecciones Estados Financiero'!E80+'Proyecciones Estados Financiero'!E81)/'Proyecciones Estados Financiero'!E79 -> 0.64932211 | F34: =('Proyecciones Estados Financiero'!F80+'Proyecciones Estados Financiero'!F81)/'Proyecciones Estados Financiero'!F79 -> 0.43987782 | G34: =('Proyecciones Estados Financiero'!G80+'Proyecciones Estados Financiero'!G81)/'Proyecciones Estados Financiero'!G79 -> 1.198397 | H34: =('Proyecciones Estados Financiero'!H80+'Proyecciones Estados Financiero'!H81)/'Proyecciones Estados Financiero'!H79 -> 0.41030671 | I34: =('Proyecciones Estados Financiero'!I80+'Proyecciones Estados Financiero'!I81)/'Proyecciones Estados Financiero'!I79 -> 0.41030671 | J34: =('Proyecciones Estados Financiero'!J80+'Proyecciones Estados Financiero'!J81)/'Proyecciones Estados Financiero'!J79 -> 0.41030671 | ... L34: =('Proyecciones Estados Financiero'!L80+'Proyecciones Estados Financiero'!L81)/'Proyecciones Estados Financiero'!L79 -> 0.41030671
B35: UODI (Con impuesto real pagado) | C35: =+C33*(1-C34) -> -57856571 | D35: =+D33*(1-D34) -> 2.4184855e+08 | E35: =+E33*(1-E34) -> 3.4469655e+08 | F35: =+F33*(1-F34) -> 6.0121022e+08 | G35: =+G33*(1-G34) -> -78260335 | H35: =+H33*(1-H34) -> 2.5750184e+08 | I35: =+I33*(1-I34) -> 2.7578447e+08 | J35: =+J33*(1-J34) -> 2.8157594e+08 | ... L35: =+L33*(1-L34) -> 2.9872279e+08
C37: =C32 -> 2017 | D37: =D32 -> 2018 | E37: =E32 -> 2019 | F37: =F32 -> 2020 | G37: =G32 -> 2021 | H37: 2022 | I37: 2023 | J37: 2024 | K37: 2025 | L37: 2026
B38: Activos Corrientes | C38: ='Proyecciones Estados Financiero'!C21 -> 924762736 | D38: ='Proyecciones Estados Financiero'!D21 -> 901727182 | E38: ='Proyecciones Estados Financiero'!E21 -> 1231404016 | F38: ='Proyecciones Estados Financiero'!F21 -> 667428635 | G38: ='Proyecciones Estados Financiero'!G21 -> 1147382445 | H38: ='Proyecciones Estados Financiero'!H21 -> 2.0362563e+09 | I38: ='Proyecciones Estados Financiero'!I21 -> 2.3535166e+09 | J38: ='Proyecciones Estados Financiero'!J21 -> 2.4903491e+09 | ... L38: ='Proyecciones Estados Financiero'!L21 -> 2.8406442e+09
B39: Activos Fijos (Propiedad Planta y Equipo) | C39: ='Proyecciones Estados Financiero'!C24 -> 15686654738 | D39: ='Proyecciones Estados Financiero'!D24 -> 16217918992 | E39: ='Proyecciones Estados Financiero'!E24 -> 16199920443 | F39: ='Proyecciones Estados Financiero'!F24 -> 16393861749 | G39: ='Proyecciones Estados Financiero'!G24 -> 16621721425 | H39: ='Proyecciones Estados Financiero'!H24 -> 1.8400246e+10 | I39: ='Proyecciones Estados Financiero'!I24 -> 1.9706663e+10 | J39: ='Proyecciones Estados Financiero'!J24 -> 2.0120503e+10 | ... L39: ='Proyecciones Estados Financiero'!L24 -> 2.1345761e+10
B40: Cuentas por pagar proveedores | C40: ='Proyecciones Estados Financiero'!C35+'Proyecciones Estados Financiero'!C36 -> 379797029 | D40: ='Proyecciones Estados Financiero'!D35+'Proyecciones Estados Financiero'!D36 -> 462881103 | E40: ='Proyecciones Estados Financiero'!E35+'Proyecciones Estados Financiero'!E36 -> 818168718 | F40: ='Proyecciones Estados Financiero'!F35+'Proyecciones Estados Financiero'!F36 -> 566255952 | G40: ='Proyecciones Estados Financiero'!G35+'Proyecciones Estados Financiero'!G36 -> 1104537884 | H40: ='Proyecciones Estados Financiero'!H35+'Proyecciones Estados Financiero'!H36 -> 1.2227234e+09 | I40: ='Proyecciones Estados Financiero'!I35+'Proyecciones Estados Financiero'!I36 -> 1.3095368e+09 | J40: ='Proyecciones Estados Financiero'!J35+'Proyecciones Estados Financiero'!J36 -> 1.3370371e+09 | ... L40: ='Proyecciones Estados Financiero'!L35+'Proyecciones Estados Financiero'!L36 -> 1.4184573e+09
B41: Activos Netos de Operación | C41: =+C38+C39-C40 -> 16231620445 | D41: =+D38+D39-D40 -> 16656765071 | E41: =+E38+E39-E40 -> 16613155741 | F41: =+F38+F39-F40 -> 16495034432 | G41: =+G38+G39-G40 -> 16664565986 | H41: =+H38+H39-H40 -> 1.9213779e+10 | I41: =+I38+I39-I40 -> 2.0750643e+10 | J41: =+J38+J39-J40 -> 2.1273815e+10 | ... L41: =+L38+L39-L40 -> 2.2767948e+10
B43: INDICADORES OPERATIVOS Y FINANCIEROS
B45: MODELO GENERAL | C45: 2017 | D45: 2018 | E45: 2019 | F45: 2020 | G45: 2021 | H45: 2022 | I45: 2023 | J45: 2024 | K45: 2025 | L45: 2026
B46: UTILIDAD NETA | C46: ='Proyecciones Estados Financiero'!C82 -> -12579439 | D46: ='Proyecciones Estados Financiero'!D82 -> 86425549 | E46: ='Proyecciones Estados Financiero'!E82 -> 136016100 | F46: ='Proyecciones Estados Financiero'!F82 -> 530417473 | G46: ='Proyecciones Estados Financiero'!G82 -> -13719389 | H46: ='Proyecciones Estados Financiero'!H82 -> 54374232 | I46: ='Proyecciones Estados Financiero'!I82 -> 58234802 | J46: ='Proyecciones Estados Financiero'!J82 -> 59457733 | ... L46: ='Proyecciones Estados Financiero'!L82 -> 63078471
B47: IMPUESTOS | C47: ='Proyecciones Estados Financiero'!C80+'Proyecciones Estados Financiero'!C81 -> 171775264 | D47: ='Proyecciones Estados Financiero'!D80+'Proyecciones Estados Financiero'!D81 -> 140435388 | E47: ='Proyecciones Estados Financiero'!E80+'Proyecciones Estados Financiero'!E81 -> 251850095 | F47: ='Proyecciones Estados Financiero'!F80+'Proyecciones Estados Financiero'!F81 -> 416549973 | G47: ='Proyecciones Estados Financiero'!G80+'Proyecciones Estados Financiero'!G81 -> 82870569 | H47: ='Proyecciones Estados Financiero'!H80+'Proyecciones Estados Financiero'!H81 -> 31409125 | I47: ='Proyecciones Estados Financiero'!I80+'Proyecciones Estados Financiero'!I81 -> 33639173 | J47: ='Proyecciones Estados Financiero'!J80+'Proyecciones Estados Financiero'!J81 -> 34345595 | ... L47: ='Proyecciones Estados Financiero'!L80+'Proyecciones Estados Financiero'!L81 -> 36437104
B48: GASTOS FINANCIEROS | C48: ='Proyecciones Estados Financiero'!C77 -> 632245234 | D48: ='Proyecciones Estados Financiero'!D77 -> 638332036 | E48: ='Proyecciones Estados Financiero'!E77 -> 615387646 | F48: ='Proyecciones Estados Financiero'!F77 -> 366727292 | G48: ='Proyecciones Estados Financiero'!G77 -> 514683196 | H48: ='Proyecciones Estados Financiero'!H77 -> 5.697543e+08 | I48: ='Proyecciones Estados Financiero'!I77 -> 6.1020685e+08 | J48: ='Proyecciones Estados Financiero'!J77 -> 6.230212e+08 | ... L48: ='Proyecciones Estados Financiero'!L77 -> 6.609607e+08
B49: EBIT | C49: =+C46+C47+C48 -> 791441059 | D49: =+D46+D47+D48 -> 865192973 | E49: =+E46+E47+E48 -> 1003253841 | F49: =+F46+F47+F48 -> 1313694738 | G49: =+G46+G47+G48 -> 583834376 | H49: =+H46+H47+H48 -> 6.5553765e+08 | I49: =+I46+I47+I48 -> 7.0208083e+08 | J49: =+J46+J47+J48 -> 7.1682452e+08 | ... L49: =+L46+L47+L48 -> 7.6047627e+08
...

Sheet Valoración Empresa
B1: VARIABLES
B2: Tasa Libre de Riesgo | C2: 0.1497 | D2: https://datosmacro.expansion.com/bono/colombia
B3: Prima por el Riesgo del Mercado | C3: 0.01176 | D3: https://datosmacro.expansion.com/bono/colombia
B4: Beta del sector | C4: 0.0113 | D4: https://pages.stern.nyu.edu/~adamodar/New_Home_Page/datafile/Betas.html
B5: Riesgo País | C5: 0.01173 | D5: https://datosmacro.expansion.com/prima-riesgo/colombia
B6: Rentabilidad el Mercado | C6: 0.043 | D6: Proyecciones inicio de año 2022, https://www.portafolio.co/economia/finanzas/pib-de-2022-mercado-eleva-proyecciones-de-crecimiento-563538
B9: FLUJO DE CAJA LIBRE MÉTODO TRADICIONAL
B10: FLUJO DE CAJA LIBRE MÉTODO TRADICIONAL | C10: 2017 | D10: 2018 | E10: 2019 | F10: 2020 | G10: 2021 | H10: 2022 | I10: 2023 | J10: 2024 | K10: 2025 | L10: 2026
B11: Utilidad Neta Del Ejercicio | D11: ='Proyecciones Estados Financiero'!D82 -> 86425549 | E11: ='Proyecciones Estados Financiero'!E82 -> 136016100 | F11: ='Proyecciones Estados Financiero'!F82 -> 530417473 | G11: ='Proyecciones Estados Financiero'!G82 -> -13719389 | H11: ='Proyecciones Estados Financiero'!H82 -> 54374232 | I11: ='Proyecciones Estados Financiero'!I82 -> 58234802 | J11: ='Proyecciones Estados Financiero'!J82 -> 59457733 | K11: ='Proyecciones Estados Financiero'!K82 -> 61122549 | L11: ='Proyecciones Estados Financiero'!L82 -> 63078471
B12: (+) Impuestos CAUSADOS | D12: ='Proyecciones Estados Financiero'!D80 -> 131156575 | E12: ='Proyecciones Estados Financiero'!E80 -> 250784418 | F12: ='Proyecciones Estados Financiero'!F80 -> 397162535 | G12: ='Proyecciones Estados Financiero'!G80 -> 78700289 | H12: ='Proyecciones Estados Financiero'!H80 -> 26792625 | I12: ='Proyecciones Estados Financiero'!I80 -> 28694901 | J12: ='Proyecciones Estados Financiero'!J80 -> 29297494 | K12: ='Proyecciones Estados Financiero'!K80 -> 30117824 | L12: ='Proyecciones Estados Financiero'!L80 -> 31081594
B13: (+) Gastos financiero | D13: ='Proyecciones Estados Financiero'!D77 -> 638332036 | E13: ='Proyecciones Estados Financiero'!E77 -> 615387646 | F13: ='Proyecciones Estados Financiero'!F77 -> 366727292 | G13: ='Proyecciones Estados Financiero'!G77 -> 514683196 | H13: ='Proyecciones Estados Financiero'!H77 -> 5.697543e+08 | I13: ='Proyecciones Estados Financiero'!I77 -> 6.1020685e+08 | J13: ='Proyecciones Estados Financiero'!J77 -> 6.230212e+08 | K13: ='Proyecciones Estados Financiero'!K77 -> 6.4046579e+08 | L13: ='Proyecciones Estados Financiero'!L77 -> 6.609607e+08
B14: EBIT | D14: =D11+D12+D13 -> 855914160 | E14: =E11+E12+E13 -> 1002188164 | F14: =F11+F12+F13 -> 1294307300 | G14: =G11+G12+G13 -> 579664096 | H14: =H11+H12+H13 -> 6.5092115e+08 | I14: =I11+I12+I13 -> 6.9713656e+08 | J14: =J11+J12+J13 -> 7.1177642e+08 | K14: =K11+K12+K13 -> 7.3170616e+08 | L14: =L11+L12+L13 -> 7.5512076e+08
B15: (-) Impuestos Ajustados | D15: ='Proyecciones Estados Financiero'!D81 -> 9278813 | E15: ='Proyecciones Estados Financiero'!E81 -> 1065677 | F15: ='Proyecciones Estados Financiero'!F81 -> 19387438 | G15: ='Proyecciones Estados Financiero'!G81 -> 4170280 | H15: ='Proyecciones Estados Financiero'!H81 -> 4616500 | I15: ='Proyecciones Estados Financiero'!I81 -> 4944271.5 | J15: ='Proyecciones Estados Financiero'!J81 -> 5048101.2 | K15: ='Proyecciones Estados Financiero'!K81 -> 5189448 | L15: ='Proyecciones Estados Financiero'!L81 -> 5355510.3
B16: EBIT (1 - tx)UODI/RODI/NOPAT/NOPLAT | D16: =D14-D15 -> 846635347 | E16: =E14-E15 -> 1001122487 | F16: =F14-F15 -> 1274919862 | G16: =G14-G15 -> 575493816 | H16: =H14-H15 -> 6.4630465e+08 | I16: =I14-I15 -> 6.9219228e+08 | J16: =J14-J15 -> 7.0672832e+08 | K16: =K14-K15 -> 7.2651672e+08 | L16: =L14-L15 -> 7.4976525e+08
B17: (+) Depreciación | D17: ='Proyecciones Estados Financiero'!D63 -> 271645297 | E17: ='Proyecciones Estados Financiero'!E63 -> 196588192 | F17: ='Proyecciones Estados Financiero'!F63 -> 199060704 | G17: ='Proyecciones Estados Financiero'!G63 -> 217471629 | H17: ='Proyecciones Estados Financiero'!H63 -> 2.0437351e+08 | I17: ='Proyecciones Estados Financiero'!I63 -> 2.0696861e+08 | J17: ='Proyecciones Estados Financiero'!J63 -> 2.0960458e+08 | K17: ='Proyecciones Estados Financiero'!K63 -> 2.0698224e+08 | L17: ='Proyecciones Estados Financiero'!L63 -> 2.0785181e+08
B18: (+) Amortización | D18: ='Proyecciones Estados Financiero'!D64 -> 138553887 | E18: ='Proyecciones Estados Financiero'!E64 -> 177021270 | F18: ='Proyecciones Estados Financiero'!F64 -> 122753607 | G18: ='Proyecciones Estados Financiero'!G64 -> 148636088 | H18: ='Proyecciones Estados Financiero'!H64 -> 1.4947032e+08 | I18: ='Proyecciones Estados Financiero'!I64 -> 1.4028667e+08 | J18: ='Proyecciones Estados Financiero'!J64 -> 1.4613103e+08 | K18: ='Proyecciones Estados Financiero'!K64 -> 1.4529601e+08 | L18: ='Proyecciones Estados Financiero'!L64 -> 1.4390457e+08
B19: 1 Flujo operativo o flujo bruto | D19: =D16+D17+D18 -> 1256834531 | E19: =E16+E17+E18 -> 1374731949 | F19: =F16+F17+F18 -> 1596734173 | G19: =G16+G17+G18 -> 941601533 | H19: =H16+H17+H18 -> 1.0001485e+09 | I19: =I16+I17+I18 -> 1.0394476e+09 | J19: =J16+J17+J18 -> 1.0624639e+09 | K19: =K16+K17+K18 -> 1.078795e+09 | L19: =L16+L17+L18 -> 1.1015216e+09
B20: (-) Inversión en capital de trabajo | D20: =D33 -> -348603753 | E20: =E33 -> -247956489 | F20: =F33 -> -83687766 | G20: =G33 -> -153228252 | H20: =H33 -> 6.8473883e+08 | I20: =I33 -> 1.673106e+08 | J20: =J33 -> 89332846 | K20: =K33 -> 1.0038113e+08 | L20: =L33 -> 1.0928151e+08
B21: (-) Inversión en activos no corrientes (1) | D21: =('Proyecciones Estados Financiero'!D24-'Proyecciones Estados Financiero'!C24)+('Proyecciones Estados Financiero'!D25-'Proyecciones Estados Financiero'!C25) -> 562259753 | E21: =('Proyecciones Estados Financiero'!E24-'Proyecciones Estados Financiero'!D24)+('Proyecciones Estados Financiero'!E25-'Proyecciones Estados Financiero'!D25) -> -30865038 | F21: =('Proyecciones Estados Financiero'!F24-'Proyecciones Estados Financiero'!E24)+('Proyecciones Estados Financiero'!F25-'Proyecciones Estados Financiero'!E25) -> 216236991 | G21: =('Proyecciones Estados Financiero'!G24-'Proyecciones Estados Financiero'!F24)+('Proyecciones Estados Financiero'!G25-'Proyecciones Estados Financiero'!F25) -> 221018282 | H21: =('Proyecciones Estados Financiero'!H24-'Proyecciones Estados Financiero'!G24)+('Proyecciones Estados Financiero'!H25-'Proyecciones Estados Financiero'!G25) -> 1.7785242e+09 | I21: =('Proyecciones Estados Financiero'!I24-'Proyecciones Estados Financiero'!H24)+('Proyecciones Estados Financiero'!I25-'Proyecciones Estados Financiero'!H25) -> 1.3064174e+09 | J21: =('Proyecciones Estados Financiero'!J24-'Proyecciones Estados Financiero'!I24)+('Proyecciones Estados Financiero'!J25-'Proyecciones Estados Financiero'!I25) -> 4.1383992e+08 | K21: =('Proyecciones Estados Financiero'!K24-'Proyecciones Estados Financiero'!J24)+('Proyecciones Estados Financiero'!K25-'Proyecciones Estados Financiero'!J25) -> 5.6337408e+08 | L21: =('Proyecciones Estados Financiero'!L24-'Proyecciones Estados Financiero'!K24)+('Proyecciones Estados Financiero'!L25-'Proyecciones Estados Financiero'!K25) -> 6.6188407e+08
B22: 2 Financiación de inversiones | D22: =D20+D21 -> 213656000 | E22: =E20+E21 -> -278821527 | F22: =F20+F21 -> 132549225 | G22: =G20+G21 -> 67790030 | H22: =H20+H21 -> 2.463263e+09 | I22: =I20+I21 -> 1.473728e+09 | J22: =J20+J21 -> 5.0317277e+08 | K22: =K20+K21 -> 6.6375521e+08 | L22: =L20+L21 -> 7.7116558e+08
B24: (1 - 2) FCL | D24: =D19-D22 -> 1043178531 | E24: =E19-E22 -> 1653553476 | F24: =F19-F22 -> 1464184948 | G24: =G19-G22 -> 873811503 | H24: =H19-H22 -> -1.4631145e+09 | I24: =I19-I22 -> -4.3428046e+08 | J24: =J19-J22 -> 5.5929116e+08 | K24: =K19-K22 -> 4.1503974e+08 | L24: =L19-L22 -> 3.3035605e+08
B26: VARIACIÓN DEL CAPITAL DE TRABAJO
B27: VARIACIÓN DEL CAPITAL DE TRABAJO | C27: 2017 | D27: 2018 | E27: 2019 | F27: 2020 | G27: 2021 | H27: 2022 | I27: 2023 | J27: 2024 | K27: 2025 | L27: 2026
B28: Activo Corriente | C28: ='Proyecciones Estados Financiero'!C21 -> 924762736 | D28: ='Proyecciones Estados Financiero'!D21 -> 901727182 | E28: ='Proyecciones Estados Financiero'!E21 -> 1231404016 | F28: ='Proyecciones Estados Financiero'!F21 -> 667428635 | G28: ='Proyecciones Estados Financiero'!G21 -> 1147382445 | H28: ='Proyecciones Estados Financiero'!H21 -> 2.0362563e+09 | I28: ='Proyecciones Estados Financiero'!I21 -> 2.3535166e+09 | J28: ='Proyecciones Estados Financiero'!J21 -> 2.4903491e+09 | ... L28: ='Proyecciones Estados Financiero'!L21 -> 2.8406442e+09
B29: Pasivo Corriente | C29: ='Proyecciones Estados Financiero'!C39 -> 851708247 | D29: ='Proyecciones Estados Financiero'!D39 -> 1177276446 | E29: ='Proyecciones Estados Financiero'!E39 -> 2054909769 | F29: ='Proyecciones Estados Financiero'!F39 -> 1955913810 | G29: ='Proyecciones Estados Financiero'!G39 -> 2430679381 | H29: ='Proyecciones Estados Financiero'!H39 -> 2.6907621e+09 | I29: ='Proyecciones Estados Financiero'!I39 -> 2.8818082e+09 | J29: ='Proyecciones Estados Financiero'!J39 -> 2.9423261e+09 | ... L29: ='Proyecciones Estados Financiero'!L39 -> 3.1215019e+09
